Felt | Verdi |
AlreadyApplied | True |
Aperture | 2.4 |
ApertureValue | 2.4 |
Artist | Hans Jørgen Lindeløff |
AutoLateralCA | 1 |
BitsPerSample | 8 |
Blacks2012 | -30 |
BlueHue | 0 |
BlueSaturation | 0 |
BrightnessValue | 7.489884191 |
By-line | Hans Jørgen Lindeløff |
CameraProfile | Apple Embedded Color Profile |
CircleOfConfusion | 0.004 mm |
Clarity2012 | +4 |
ColorComponents | 3 |
ColorGradeBlending | 50 |
ColorGradeGlobalHue | 0 |
ColorGradeGlobalLum | 0 |
ColorGradeGlobalSat | 0 |
ColorGradeHighlightLum | 0 |
ColorGradeMidtoneHue | 0 |
ColorGradeMidtoneLum | 0 |
ColorGradeMidtoneSat | 0 |
ColorGradeShadowLum | 0 |
ColorNoiseReduction | 25 |
ColorNoiseReductionDetail | 50 |
ColorNoiseReductionSmoothness | 50 |
ColorSpace | sRGB |
ColorTemperature | 6806 |
ColorTransform | YCbCr |
CompatibleVersion | 251658240 |
Contrast2012 | +6 |
Copyright | © Hans Jørgen Lindeløff 2023 |
CopyrightFlag | True |
CopyrightNotice | © Hans Jørgen Lindeløff 2023 |
CreateDate (1) | 2023:06:14 21:52:23.517+02:00 |
CreateDate | 2023:06:14 21:52:23 |
Creator | Hans Jørgen Lindeløff |
CreatorAddress | Bjørnevågveien 8 |
CreatorCity | Kråkerøy |
CreatorCountry | Norway |
CreatorPostalCode | 1676 |
CreatorTool | Adobe Photoshop Lightroom Classic 12.4 (Macintosh) |
CreatorWorkEmail | lundeli@mac.com |
CreatorWorkTelephone | +47 92049534 |
CreatorWorkURL | lundeliphoto.no |
CropAngle | 0 |
CropBottom | 0.998681 |
CropConstrainToWarp | 1 |
CropLeft | 0.126336 |
CropRight | 0.875347 |
CropTop | 0 |
CurveRefineSaturation | 100 |
DateCreated (1) | 2023:06:14 |
DateCreated | 2023:06:14 21:52:23+02:00 |
DateTimeOriginal | 2023:06:14 21:52:23 |
DefringeGreenAmount | 0 |
DefringeGreenHueHi | 60 |
DefringeGreenHueLo | 40 |
DefringePurpleAmount | 0 |
DefringePurpleHueHi | 70 |
DefringePurpleHueLo | 30 |
Dehaze | 0 |
DigitalZoomRatio | 1.001324503 |
DistortionCorrectionAlreadyApplied | True |
Exposure2012 | -0.12 |
ExposureCompensation | -0.669 |
ExposureMode | Auto |
ExposureProgram | Program AE |
ExposureTime | 1/420 |
Flash | Off, Did not fire |
FNumber | 2.4 |
FocalLength | 1.5 mm |
FocalLength35efl | 1.5 mm (35 mm equivalent: 13.0 mm) |
FocalLengthIn35mmFormat | 13 mm |
Format | image/jpeg |
FOV | 108.3 deg |
GPSDestBearing | 300.2051852 |
GPSDestBearingRef | Magnetic North |
GPSHPositioningError | 4.637132019 m |
GPSImgDirectionRef | Magnetic North |
GPSSpeed | 0 |
GPSSpeedRef | km/h |
GrainAmount | 0 |
GreenHue | 0 |
GreenSaturation | 0 |
HasCrop | True |
HasExtendedXMP | D02CA9B10904E5459006AB1DBEA6C825 |
HasSettings | True |
Highlights2012 | -40 |
HueAdjustmentAqua | 0 |
HueAdjustmentBlue | 0 |
HueAdjustmentGreen | 0 |
HueAdjustmentMagenta | 0 |
HueAdjustmentOrange | 0 |
HueAdjustmentPurple | 0 |
HueAdjustmentRed | 0 |
HueAdjustmentYellow | 0 |
HyperfocalDistance | 0.28 m |
ImageHeight | 2048 |
ImageSize | 2048x2048 |
ImageWidth | 2048 |
ISO | 25 |
Keywords | christian radich, oslo |
LateralChromaticAberrationCorrectionAlreadyApplied | True |
Lens | iPhone 12 Pro Max back triple camera 1.54mm f/2.4 |
LensInfo (1) | 1.53999996185121-7.5mm f/1.6-2.4 |
LensInfo | 1.539999962-7.5mm f/1.6-2.4 |
LensMake | Apple |
LensManualDistortionAmount | 0 |
LensModel | iPhone 12 Pro Max back triple camera 1.54mm f/2.4 |
LensProfileEnable | 1 |
LensProfileSetup | LensDefaults |
LightValue | 13.2 |
LookAmount | 1 |
LookGroup | Profiles |
LookName | Apple ProRaw |
LookParametersCameraProfile | Apple Embedded Color Profile |
LookParametersConvertToGrayscale | False |
LookParametersProcessVersion | 15.4 |
LookParametersProfileGainTableMap | 100 |
LookParametersVersion | 15.4 |
LookSupportsMonochrome | false |
LookSupportsOutputReferred | false |
LuminanceAdjustmentAqua | 0 |
LuminanceAdjustmentBlue | 0 |
LuminanceAdjustmentGreen | 0 |
LuminanceAdjustmentMagenta | 0 |
LuminanceAdjustmentOrange | 0 |
LuminanceAdjustmentPurple | 0 |
LuminanceAdjustmentRed | 0 |
LuminanceAdjustmentYellow | 0 |
LuminanceNoiseReductionContrast | 0 |
LuminanceNoiseReductionDetail | 50 |
LuminanceSmoothing | 20 |
Make | Apple |
Marked | True |
Megapixels | 4.2 |
MeteringMode | Multi-segment |
Model | iPhone 12 Pro Max |
ModifyDate (1) | 2023:06:19 01:14:30+02:00 |
ModifyDate | 2023:06:19 01:14:30 |
OverrideLookVignette | False |
ParametricDarks | 0 |
ParametricHighlights | 0 |
ParametricHighlightSplit | 75 |
ParametricLights | 0 |
ParametricMidtoneSplit | 50 |
ParametricShadows | 0 |
ParametricShadowSplit | 25 |
PerspectiveAspect | 0 |
PerspectiveHorizontal | 0 |
PerspectiveRotate | 0.0 |
PerspectiveScale | 100 |
PerspectiveUpright | 5 |
PerspectiveVertical | 0 |
PerspectiveX | 0.00 |
PerspectiveY | 0.00 |
PostCropVignetteAmount | -16 |
PostCropVignetteFeather | 50 |
PostCropVignetteHighlightContrast | 0 |
PostCropVignetteMidpoint | 50 |
PostCropVignetteRoundness | 0 |
PostCropVignetteStyle | 1 |
PreservedFileName | IMG_7525.DNG |
ProcessVersion | 15.4 |
ProfileDescription | sRGB IEC61966-2.1 |
RangeMaskMapInfoRangeMaskMapInfoLabMax | 0.942702 0.565789 0.568063 |
RangeMaskMapInfoRangeMaskMapInfoLabMin | 0.000549 0.500008 0.443717 |
RangeMaskMapInfoRangeMaskMapInfoRGBMax | 0.826093 0.854322 0.621302 |
RangeMaskMapInfoRangeMaskMapInfoRGBMin | 0.000183 0.000183 0.000259 |
Rating | 5 |
RawFileName | IMG_7525.DNG |
RedHue | 0 |
RedSaturation | 0 |
Rights | © Hans Jørgen Lindeløff 2023 |
Saturation | +5 |
SaturationAdjustmentAqua | 0 |
SaturationAdjustmentBlue | 0 |
SaturationAdjustmentGreen | 0 |
SaturationAdjustmentMagenta | 0 |
SaturationAdjustmentOrange | 0 |
SaturationAdjustmentPurple | 0 |
SaturationAdjustmentRed | 0 |
SaturationAdjustmentYellow | 0 |
ScaleFactor35efl | 8.4 |
SceneType | Directly photographed |
SensingMethod | One-chip color area |
Shadows2012 | +100 |
ShadowTint | 0 |
SharpenDetail | 25 |
SharpenEdgeMasking | 54 |
SharpenRadius | +1.4 |
Sharpness | 50 |
ShutterSpeed | 1/420 |
ShutterSpeedValue | 1/420 |
Software | Adobe Photoshop Lightroom Classic 12.4 (Macintosh) |
SplitToningBalance | 0 |
SplitToningHighlightHue | 0 |
SplitToningHighlightSaturation | 0 |
SplitToningShadowHue | 0 |
SplitToningShadowSaturation | 0 |
Subject | christian radich, oslo |
SubjectArea | 2013 1511 2278 1366 |
Texture | 0 |
Tint | +16 |
ToneCurveName2012 | Custom |
ToneCurvePV2012 | 0, 0, 80, 77, 149, 167, 255, 255 |
ToneCurvePV2012Blue | 0, 0, 255, 255 |
ToneCurvePV2012Green | 0, 0, 255, 255 |
ToneCurvePV2012Red | 0, 0, 255, 255 |
UsageTerms | All rights reserved |
Version | 15.4 |
Vibrance | +20 |
VignetteAmount | 0 |
WeightedFlatSubject | oslo, christian radich |
WhiteBalance (1) | Custom |
WhiteBalance | Auto |
Whites2012 | +34 |