Felt | Verdi |
AlreadyApplied | True |
Aperture | 8.0 |
ApertureValue | 8.0 |
Artist | Hans Jørgen Lindeløff |
AutoLateralCA | 1 |
BitsPerSample | 8 |
Blacks2012 | -16 |
BlueHue | 0 |
BlueSaturation | 0 |
By-line | Hans Jørgen Lindeløff |
CameraProfile | Adobe Standard |
CameraProfilesApertureValue | 6 |
CameraProfilesAuthor | Adobe |
CameraProfilesAutoScale | False |
CameraProfilesCameraPrettyName | Nikon Z 6 2 |
CameraProfilesCameraRawProfile | True |
CameraProfilesFocalLength | 20 |
CameraProfilesFocusDistance | 10000 |
CameraProfilesLens | NIKKOR Z 20mm f/1.8 S |
CameraProfilesLensPrettyName | NIKKOR Z 20mm f/1.8 S |
CameraProfilesMake | NIKON CORPORATION |
CameraProfilesModel | NIKON Z 6_2 |
CameraProfilesPerspectiveModelImageXCenter | 0.500446 |
CameraProfilesPerspectiveModelImageYCenter | 0.503068 |
CameraProfilesPerspectiveModelRadialDistortParam1 | -0.035385 |
CameraProfilesPerspectiveModelRadialDistortParam2 | 0.001305 |
CameraProfilesPerspectiveModelRadialDistortParam3 | 0.006272 |
CameraProfilesPerspectiveModelScaleFactor | 1.006693 |
CameraProfilesPerspectiveModelVersion | 2 |
CameraProfilesPerspectiveModelVignetteModelImageXCenter | 0.500446 |
CameraProfilesPerspectiveModelVignetteModelImageYCenter | 0.503068 |
CameraProfilesPerspectiveModelVignetteModelVignetteModelParam1 | 1 |
CameraProfilesProfileName | Camera Settings |
CameraProfilesSensorFormatFactor | 1.002437 |
CameraProfilesUniqueCameraModel | Nikon Z 6 2 |
CFAPattern | [Red,Green][Green,Blue] |
CircleOfConfusion | 0.030 mm |
Clarity2012 | 0 |
ColorComponents | 3 |
ColorGradeBlending | 50 |
ColorGradeGlobalHue | 0 |
ColorGradeGlobalLum | 0 |
ColorGradeGlobalSat | 0 |
ColorGradeHighlightLum | 0 |
ColorGradeMidtoneHue | 0 |
ColorGradeMidtoneLum | 0 |
ColorGradeMidtoneSat | 0 |
ColorGradeShadowLum | 0 |
ColorNoiseReduction | 25 |
ColorNoiseReductionDetail | 50 |
ColorNoiseReductionSmoothness | 50 |
ColorSpace | sRGB |
ColorTemperature | 7500 |
ColorTransform | YCbCr |
CompatibleVersion | 251658240 |
Contrast | Normal |
Contrast2012 | +5 |
Copyright | © Hans Jørgen Lindeløff 2023 |
CopyrightFlag | True |
CopyrightNotice | © Hans Jørgen Lindeløff 2023 |
CreateDate (1) | 2023:05:20 19:09:32.451+02:00 |
CreateDate | 2023:05:20 19:09:32 |
Creator | Hans Jørgen Lindeløff |
CreatorAddress | Bjørnevågveien 8 |
CreatorCity | Kråkerøy |
CreatorCountry | Norway |
CreatorPostalCode | 1676 |
CreatorTool | Adobe Photoshop Lightroom Classic 12.3 (Macintosh) |
CreatorWorkEmail | lundeli@mac.com |
CreatorWorkTelephone | +47 92049534 |
CreatorWorkURL | lundeliphoto.no |
CropAngle | 0 |
CropBottom | 0.785385 |
CropConstrainToWarp | 1 |
CropLeft | 0.050643 |
CropRight | 0.947802 |
CropTop | 0.026903 |
CustomRendered | Custom |
DateCreated (1) | 2023:05:20 |
DateCreated | 2023:05:20 19:09:31.29+02:00 |
DateTimeOriginal | 2023:05:20 19:09:32 |
DefringeGreenAmount | 0 |
DefringeGreenHueHi | 60 |
DefringeGreenHueLo | 40 |
DefringePurpleAmount | 0 |
DefringePurpleHueHi | 70 |
DefringePurpleHueLo | 30 |
Dehaze | 0 |
DistortionCorrectionAlreadyApplied | True |
Exposure2012 | +0.30 |
ExposureCompensation | -2 |
ExposureMode | Manual |
ExposureProgram | Manual |
ExposureTime | 1/320 |
Flash | No Flash |
FNumber | 8.0 |
FocalLength | 20.0 mm |
FocalLength35efl | 20.0 mm (35 mm equivalent: 20.0 mm) |
FocalLengthIn35mmFormat | 20 mm |
Format | image/jpeg |
FOV | 84.0 deg |
GainControl | None |
GrainAmount | 0 |
GreenHue | 0 |
GreenSaturation | 0 |
HasCrop | True |
HasSettings | True |
Highlights2012 | -62 |
HueAdjustmentAqua | 0 |
HueAdjustmentBlue | 0 |
HueAdjustmentGreen | 0 |
HueAdjustmentMagenta | 0 |
HueAdjustmentOrange | 0 |
HueAdjustmentPurple | 0 |
HueAdjustmentRed | 0 |
HueAdjustmentYellow | 0 |
HyperfocalDistance | 1.66 m |
ImageHeight | 1152 |
ImageNumber | 13184 |
ImageSize | 2048x1152 |
ImageWidth | 2048 |
IsMergedHDR | True |
ISO | 64 |
Keywords | fontene, oslo, slottsparken, sommer, vann |
LateralChromaticAberrationCorrectionAlreadyApplied | True |
Lens | NIKKOR Z 20mm f/1.8 S |
LensInfo | 20mm f/1.8 |
LensMake | NIKON |
LensManualDistortionAmount | 0 |
LensModel | NIKKOR Z 20mm f/1.8 S |
LensProfileDistortionScale | 100 |
LensProfileEnable | 1 |
LensProfileIsEmbedded | True |
LensProfileName | Camera Settings |
LensProfileSetup | Custom |
LensProfileVignettingScale | 100 |
LensSerialNumber | 20023383 |
LightSource | Unknown |
LightValue | 15.0 |
LookAmount | 1 |
LookGroup | Profiles |
LookName | Adobe Landscape |
LookParametersCameraProfile | Adobe Standard |
LookParametersClarity2012 | +10 |
LookParametersConvertToGrayscale | False |
LookParametersHighlights2012 | -12 |
LookParametersLookTable | 0B3BFB5CFB7DBF7FF175E98F24D316B0 |
LookParametersProcessVersion | 11.0 |
LookParametersShadows2012 | +12 |
LookParametersToneCurvePV2012 | 0, 0, 64, 60, 128, 128, 192, 196, 255, 255 |
LookParametersVersion | 15.3 |
LookSupportsAmount | false |
LookSupportsMonochrome | false |
LookSupportsOutputReferred | false |
LuminanceAdjustmentAqua | 0 |
LuminanceAdjustmentBlue | 0 |
LuminanceAdjustmentGreen | 0 |
LuminanceAdjustmentMagenta | 0 |
LuminanceAdjustmentOrange | 0 |
LuminanceAdjustmentPurple | 0 |
LuminanceAdjustmentRed | 0 |
LuminanceAdjustmentYellow | 0 |
LuminanceNoiseReductionContrast | 0 |
LuminanceNoiseReductionDetail | 50 |
LuminanceSmoothing | 29 |
Make | NIKON CORPORATION |
Marked | True |
Megapixels | 2.4 |
MeteringMode | Multi-segment |
Model | NIKON Z 6_2 |
ModifyDate (1) | 2023:05:22 14:10:10+02:00 |
ModifyDate | 2023:05:22 14:10:10 |
OverrideLookVignette | False |
ParametricDarks | 0 |
ParametricHighlights | 0 |
ParametricHighlightSplit | 75 |
ParametricLights | 0 |
ParametricMidtoneSplit | 50 |
ParametricShadows | 0 |
ParametricShadowSplit | 25 |
PerspectiveAspect | 0 |
PerspectiveHorizontal | 0 |
PerspectiveRotate | 0.0 |
PerspectiveScale | 93 |
PerspectiveUpright | 0 |
PerspectiveVertical | -26 |
PerspectiveX | 0.00 |
PerspectiveY | 0.00 |
PostCropVignetteAmount | 0 |
PreservedFileName | _Z623218.NEF |
ProcessVersion | 11.0 |
ProfileDescription | sRGB IEC61966-2.1 |
Rating | 5 |
RawFileName | _Z623217-HDR.dng |
RedHue | 0 |
RedSaturation | 0 |
Rights | © Hans Jørgen Lindeløff 2023 |
Saturation (1) | +5 |
Saturation | Normal |
SaturationAdjustmentAqua | 0 |
SaturationAdjustmentBlue | 0 |
SaturationAdjustmentGreen | 0 |
SaturationAdjustmentMagenta | 0 |
SaturationAdjustmentOrange | 0 |
SaturationAdjustmentPurple | 0 |
SaturationAdjustmentRed | 0 |
SaturationAdjustmentYellow | 0 |
ScaleFactor35efl | 1.0 |
SceneCaptureType | Landscape |
SceneType | Directly photographed |
SensingMethod | One-chip color area |
SensitivityType | Recommended Exposure Index |
SerialNumber | 6044707 |
Shadows2012 | +100 |
ShadowTint | 0 |
SharpenDetail | 25 |
SharpenEdgeMasking | 54 |
SharpenRadius | +1.0 |
Sharpness (1) | 59 |
Sharpness | Normal |
ShutterSpeed | 1/320 |
ShutterSpeedValue | 1/320 |
Software | Adobe Photoshop Lightroom Classic 12.3 (Macintosh) |
SplitToningBalance | 0 |
SplitToningHighlightHue | 0 |
SplitToningHighlightSaturation | 0 |
SplitToningShadowHue | 0 |
SplitToningShadowSaturation | 0 |
Subject | fontene, oslo, slottsparken, sommer, vann |
SubjectDistanceRange | Unknown |
Texture | 0 |
Tint | +5 |
ToneCurveName2012 | Custom |
ToneCurvePV2012 | 0, 0, 60, 66, 181, 197, 255, 242 |
ToneCurvePV2012Blue | 0, 0, 255, 255 |
ToneCurvePV2012Green | 0, 0, 255, 255 |
ToneCurvePV2012Red | 0, 0, 255, 255 |
UsageTerms | All rights reserved |
Version | 15.3 |
Vibrance | +15 |
VignetteAmount | 0 |
VignetteCorrectionAlreadyApplied | True |
WeightedFlatSubject | sommer, vann, slottsparken, oslo, fontene |
WhiteBalance (1) | As Shot |
WhiteBalance | Auto |
Whites2012 | +25 |