Felt | Verdi |
AlreadyApplied | True |
Aperture | 14.0 |
ApertureValue | 14.0 |
Artist | Hans Jørgen Lindeløff |
AutoLateralCA | 1 |
BitsPerSample | 8 |
Blacks2012 | -15 |
BlueHue | 0 |
BlueSaturation | 0 |
By-line | Hans Jørgen Lindeløff |
CameraProfile | Adobe Standard |
CFAPattern | [Red,Green][Green,Blue] |
CircleOfConfusion | 0.030 mm |
City | Vesterøy |
Clarity2012 | 0 |
ColorComponents | 3 |
ColorGradeBlending | 50 |
ColorGradeGlobalHue | 0 |
ColorGradeGlobalLum | 0 |
ColorGradeGlobalSat | 0 |
ColorGradeHighlightLum | 0 |
ColorGradeMidtoneHue | 0 |
ColorGradeMidtoneLum | 0 |
ColorGradeMidtoneSat | 0 |
ColorGradeShadowLum | 0 |
ColorNoiseReduction | 25 |
ColorNoiseReductionDetail | 50 |
ColorNoiseReductionSmoothness | 50 |
ColorSpace | sRGB |
ColorTemperature | 6500 |
ColorTransform | YCbCr |
CompatibleVersion | 234881024 |
Contrast | Normal |
Contrast2012 | +16 |
Copyright | © Hans Jørgen Lindeløff 2022 |
CopyrightFlag | True |
CopyrightNotice | © Hans Jørgen Lindeløff 2022 |
Country | Norway |
Country-PrimaryLocationCode | NO |
Country-PrimaryLocationName | Norway |
CountryCode | NO |
CreateDate (1) | 2022:03:09 18:07:19.681+01:00 |
CreateDate | 2022:03:09 18:07:19 |
Creator | Hans Jørgen Lindeløff |
CreatorAddress | Bjørnevågveien 8 |
CreatorCity | Kråkerøy |
CreatorCountry | Norway |
CreatorPostalCode | 1676 |
CreatorTool | Adobe Photoshop Lightroom Classic 12.3 (Macintosh) |
CreatorWorkEmail | lundeli@mac.com |
CreatorWorkTelephone | +47 92049534 |
CreatorWorkURL | lundeliphoto.no |
CropAngle | 0.498607 |
CropBottom | 0.983996 |
CropConstrainToWarp | 1 |
CropLeft | 0.005775 |
CropRight | 0.99466 |
CropTop | 0.133113 |
CustomRendered | Custom |
DateCreated (1) | 2018:01:02 |
DateCreated | 2018:01:02 14:49:07.571 |
DateTimeOriginal | 2022:03:09 18:07:19 |
DefringeGreenAmount | 0 |
DefringeGreenHueHi | 60 |
DefringeGreenHueLo | 40 |
DefringePurpleAmount | 0 |
DefringePurpleHueHi | 70 |
DefringePurpleHueLo | 30 |
Dehaze | 0 |
DistortionCorrectionAlreadyApplied | True |
Exposure2012 | +0.55 |
ExposureCompensation | -2 |
ExposureMode | Manual |
ExposureProgram | Manual |
ExposureTime | 1/13 |
Flash | No Flash |
FNumber | 14.0 |
FocalLength | 24.0 mm |
FocalLength35efl | 24.0 mm (35 mm equivalent: 24.0 mm) |
FocalLengthIn35mmFormat | 24 mm |
Format | image/jpeg |
FOV | 73.7 deg |
GainControl | None |
GPSAltitude | 1 m |
GPSDateStamp | 2022:03:09 |
GPSDateTime | 2022:03:09 17:06:07.99Z |
GPSLatitude (1) | 59 deg 2' 7.63" |
GPSLatitude | 59 deg 2' 7.63" N |
GPSLatitudeRef | North |
GPSLongitude (1) | 10 deg 56' 55.22" |
GPSLongitude | 10 deg 56' 55.22" E |
GPSLongitudeRef | East |
GPSMapDatum | WGS-84 |
GPSPosition | 59 deg 2' 7.63" N, 10 deg 56' 55.22" E |
GPSSatellites | 00 |
GPSTimeStamp | 17:06:07.99 |
GPSVersionID | 2.3.0.0 |
GrainAmount | 0 |
GreenHue | 0 |
GreenSaturation | 0 |
HasCrop | True |
HasExtendedXMP | 551DE9DA0F79A96ABD06AA62E090212A |
HasSettings | True |
Highlights2012 | -50 |
HueAdjustmentAqua | 0 |
HueAdjustmentBlue | 0 |
HueAdjustmentGreen | 0 |
HueAdjustmentMagenta | 0 |
HueAdjustmentOrange | 0 |
HueAdjustmentPurple | 0 |
HueAdjustmentRed | 0 |
HueAdjustmentYellow | 0 |
HyperfocalDistance | 1.37 m |
ImageHeight | 1149 |
ImageNumber | 129 |
ImageSize | 2048x1149 |
ImageWidth | 2048 |
IsMergedHDR | True |
ISO | 64 |
Keywords | Asmaløy, Dagens2022, Hvaler, Solnedgang, Vikerhavn, stupebrett |
LateralChromaticAberrationCorrectionAlreadyApplied | True |
Lens | NIKKOR Z 24-70mm f/4 S |
LensInfo | 24-70mm f/4 |
LensMake | NIKON |
LensManualDistortionAmount | 0 |
LensModel | NIKKOR Z 24-70mm f/4 S |
LensProfileEnable | 1 |
LensProfileSetup | LensDefaults |
LensSerialNumber | 20305630 |
LightSource | Unknown |
LightValue | 12.0 |
LookAmount | 1 |
LookGroup | Profiles |
LookName | Adobe Landscape |
LookParametersCameraProfile | Adobe Standard |
LookParametersClarity2012 | +10 |
LookParametersConvertToGrayscale | False |
LookParametersHighlights2012 | -12 |
LookParametersLookTable | 0B3BFB5CFB7DBF7FF175E98F24D316B0 |
LookParametersProcessVersion | 11.0 |
LookParametersShadows2012 | +12 |
LookParametersToneCurvePV2012 | 0, 0, 64, 60, 128, 128, 192, 196, 255, 255 |
LookParametersVersion | 15.3 |
LookSupportsAmount | false |
LookSupportsMonochrome | false |
LookSupportsOutputReferred | false |
LuminanceAdjustmentAqua | 0 |
LuminanceAdjustmentBlue | 0 |
LuminanceAdjustmentGreen | 0 |
LuminanceAdjustmentMagenta | 0 |
LuminanceAdjustmentOrange | 0 |
LuminanceAdjustmentPurple | 0 |
LuminanceAdjustmentRed | 0 |
LuminanceAdjustmentYellow | 0 |
LuminanceNoiseReductionContrast | 0 |
LuminanceNoiseReductionDetail | 50 |
LuminanceSmoothing | 24 |
Make | NIKON CORPORATION |
Marked | True |
Megapixels | 2.4 |
MeteringMode | Multi-segment |
Model | NIKON Z 6_2 |
ModifyDate (1) | 2023:05:02 02:49:55+02:00 |
ModifyDate | 2023:05:02 02:49:55 |
ObjectName | 9.mars |
OverrideLookVignette | False |
ParametricDarks | 0 |
ParametricHighlights | 0 |
ParametricHighlightSplit | 75 |
ParametricLights | 0 |
ParametricMidtoneSplit | 50 |
ParametricShadows | 0 |
ParametricShadowSplit | 25 |
PerspectiveAspect | 0 |
PerspectiveHorizontal | 0 |
PerspectiveRotate | 0.0 |
PerspectiveScale | 100 |
PerspectiveUpright | 0 |
PerspectiveVertical | 0 |
PerspectiveX | 0.00 |
PerspectiveY | 0.00 |
PostCropVignetteAmount | -10 |
PostCropVignetteFeather | 50 |
PostCropVignetteHighlightContrast | 0 |
PostCropVignetteMidpoint | 50 |
PostCropVignetteRoundness | 0 |
PostCropVignetteStyle | 1 |
PreservedFileName | _Z620129.NEF |
ProcessVersion | 11.0 |
ProfileDescription | sRGB IEC61966-2.1 |
Province-State | Viken |
RangeMaskMapInfoRangeMaskMapInfoLabMax | 0.999924 0.510689 0.519890 |
RangeMaskMapInfoRangeMaskMapInfoLabMin | 0.007446 0.453239 0.406973 |
RangeMaskMapInfoRangeMaskMapInfoRGBMax | 0.069730 0.061303 0.060835 |
RangeMaskMapInfoRangeMaskMapInfoRGBMin | 0.000074 0.000076 0.000121 |
Rating | 5 |
RawFileName | _Z620130-HDR.dng |
RedHue | 0 |
RedSaturation | 0 |
Rights | © Hans Jørgen Lindeløff 2022 |
Saturation (1) | 0 |
Saturation | Normal |
SaturationAdjustmentAqua | 0 |
SaturationAdjustmentBlue | 0 |
SaturationAdjustmentGreen | 0 |
SaturationAdjustmentMagenta | 0 |
SaturationAdjustmentOrange | 0 |
SaturationAdjustmentPurple | 0 |
SaturationAdjustmentRed | 0 |
SaturationAdjustmentYellow | 0 |
ScaleFactor35efl | 1.0 |
SceneCaptureType | Landscape |
SceneType | Directly photographed |
SensingMethod | One-chip color area |
SensitivityType | Recommended Exposure Index |
SerialNumber | 6044707 |
Shadows2012 | +100 |
ShadowTint | 0 |
SharpenDetail | 25 |
SharpenEdgeMasking | 52 |
SharpenRadius | +1.0 |
Sharpness (1) | 70 |
Sharpness | Normal |
ShutterSpeed | 1/13 |
ShutterSpeedValue | 1/13 |
Software | Adobe Photoshop Lightroom Classic 12.3 (Macintosh) |
SplitToningBalance | 0 |
SplitToningHighlightHue | 0 |
SplitToningHighlightSaturation | 0 |
SplitToningShadowHue | 0 |
SplitToningShadowSaturation | 0 |
State | Viken |
Subject | Asmaløy, Dagens2022, Hvaler, Solnedgang, Vikerhavn, stupebrett |
SubjectDistanceRange | Unknown |
Texture | 0 |
Tint | +5 |
Title | 9.mars |
ToneCurveName2012 | Linear |
ToneCurvePV2012 | 0, 0, 255, 255 |
ToneCurvePV2012Blue | 0, 0, 255, 255 |
ToneCurvePV2012Green | 0, 0, 255, 255 |
ToneCurvePV2012Red | 0, 0, 255, 255 |
UsageTerms | All rights reserved |
Version | 15.3 |
Vibrance | +10 |
VignetteAmount | 0 |
VignetteCorrectionAlreadyApplied | True |
WeightedFlatSubject | Hvaler, Vikerhavn, Asmaløy, Solnedgang, stupebrett, Dagens2022 |
WhiteBalance (1) | Custom |
WhiteBalance | Manual |
Whites2012 | +56 |