Felt | Verdi |
AlreadyApplied | True |
Aperture | 10.0 |
ApertureValue | 10.0 |
ApproximateFocusDistance | 4294967295 |
AutoLateralCA | 1 |
BitsPerSample (1) | 8 8 8 |
BitsPerSample (4) | 16, 16, 16 |
BitsPerSample | 16 16 16 |
Blacks2012 | -90 |
BlueHue | 0 |
BlueSaturation | 0 |
CameraProfile | Adobe Standard |
ChromaticityChannel1 | 0.7347 0.2653 |
ChromaticityChannel2 | 0.15961 0.84039 |
ChromaticityChannel3 | 0.03661 0.00011 |
ChromaticityChannels | 3 |
ChromaticityColorant | Unknown (0) |
CircleOfConfusion | 0.005 mm |
Clarity2012 | 0 |
ColorGradeBlending | 50 |
ColorGradeGlobalHue | 0 |
ColorGradeGlobalLum | 0 |
ColorGradeGlobalSat | 0 |
ColorGradeHighlightLum | 0 |
ColorGradeMidtoneHue | 0 |
ColorGradeMidtoneLum | 0 |
ColorGradeMidtoneSat | 0 |
ColorGradeShadowLum | 0 |
ColorMode | RGB |
ColorNoiseReduction | 25 |
ColorNoiseReductionDetail | 50 |
ColorNoiseReductionSmoothness | 97 |
ColorSpace | Uncalibrated |
ColorTemperature | 5800 |
CompatibleVersion | 234881024 |
Contrast2012 | 0 |
CreateDate | 2023:02:07 14:24:46 |
CreatorTool | Adobe Photoshop Lightroom Classic 11.3.1 (Macintosh) |
CropAngle | 0 |
CropBottom | 0.935036 |
CropConstrainToWarp | 0 |
CropLeft | 0.091432 |
CropRight | 0.944336 |
CropTop | 0.094316 |
CustomRendered | Normal |
DateCreated (1) | 2023:02:07 14:24:46.073 |
DateCreated | 2023:02:07 |
DateTimeOriginal | 2023:02:07 14:24:46 |
Dehaze | 0 |
DistortionCorrectionAlreadyApplied | True |
DOF | inf (48.75 m - inf) |
ExifImageHeight | 925 |
ExifImageWidth | 1400 |
Exposure2012 | +2.15 |
ExposureCompensation | 0 |
ExposureMode | Auto |
ExposureProgram | Aperture-priority AE |
ExposureTime | 1/320 |
Firmware | 1.2.0 |
Flash | No Flash |
FlashCompensation | 0 |
FlashFired | False |
FlashFunction | False |
FlashMode | Unknown |
FlashRedEyeMode | False |
FlashReturn | No return detection |
FNumber | 10.0 |
FocalLength | 50.0 mm |
FocalLength35efl | 50.0 mm (35 mm equivalent: 293.0 mm) |
Format | image/tiff |
FOV | 7.0 deg |
GrainAmount | 0 |
GrayMixerAqua | 0 |
GrayMixerBlue | 0 |
GrayMixerGreen | 0 |
GrayMixerMagenta | 0 |
GrayMixerOrange | 0 |
GrayMixerPurple | 0 |
GrayMixerRed | 0 |
GrayMixerYellow | 0 |
GreenHue | 0 |
GreenSaturation | 0 |
HasCrop | True |
HasSettings | True |
Highlights2012 | 0 |
HyperfocalDistance | 48.75 m |
ICCProfileName | ProPhoto |
ImageHeight (1) | 463 |
ImageHeight (2) | 232 |
ImageHeight (3) | 116 |
ImageHeight (4) | 4594 |
ImageHeight | 925 |
ImageNumber | 0 |
ImageSize | 1400x925 |
ImageWidth (1) | 700 |
ImageWidth (2) | 350 |
ImageWidth (3) | 175 |
ImageWidth (4) | 6987 |
ImageWidth | 1400 |
ISO | 400 |
LateralChromaticAberrationCorrectionAlreadyApplied | True |
Lens | 50.0 mm |
LensID (1) | 180 |
LensID | Sigma 50mm f/1.4 DG HSM | A or Zeiss Milvus 50mm f/1.4 or Sigma 50mm f/1.5 FF High-Speed Prime | 017 or Tokina Opera 50mm f/1.4 FF |
LensInfo (1) | 50 |
LensInfo (2) | 50mm f/? |
LensInfo | 50mm f/0 |
LensManualDistortionAmount | 0 |
LensModel | 50.0 mm |
LensProfileDistortionScale | 100 |
LensProfileEnable | 1 |
LensProfileFilename | Canon (SIGMA 50mm F1.4 DG HSM A014) - RAW.lcp |
LensProfileIsEmbedded | False |
LensProfileName | Adobe (SIGMA 50mm F1.4 DG HSM A014, Canon) |
LensProfileSetup | LensDefaults |
LensProfileVignettingScale | 100 |
LensSerialNumber | 0000000000 |
LightValue | 13.0 |
LookAmount | 1 |
LookGroup | Profiles |
LookName | Adobe Monochrome |
LookParametersCameraProfile | Adobe Standard |
LookParametersClarity2012 | +8 |
LookParametersConvertToGrayscale | True |
LookParametersLookTable | 73ED6C18DDE909DD7EA2D771F5AC282D |
LookParametersProcessVersion | 11.0 |
LookParametersToneCurvePV2012 | 0, 0, 64, 56, 128, 128, 192, 197, 255, 255 |
LookParametersToneCurvePV2012Blue | 0, 0, 255, 255 |
LookParametersToneCurvePV2012Green | 0, 0, 255, 255 |
LookParametersToneCurvePV2012Red | 0, 0, 255, 255 |
LookParametersVersion | 14.3 |
LookSupportsAmount | false |
LookSupportsMonochrome | false |
LookSupportsOutputReferred | false |
LuminanceNoiseReductionContrast | 0 |
LuminanceNoiseReductionDetail | 50 |
LuminanceSmoothing | 16 |
Make | Canon |
MaxApertureValue | 1.4 |
Megapixels | 1.3 |
MeteringMode | Center-weighted average |
Model | Canon EOS R5 |
ModifyDate (1) | 2023:02:08 17:06:40+01:00 |
ModifyDate | 2023:02:08 17:06:40 |
Orientation | Horizontal (normal) |
OverrideLookVignette | False |
ParametricDarks | 0 |
ParametricHighlights | 0 |
ParametricHighlightSplit | 75 |
ParametricLights | 0 |
ParametricMidtoneSplit | 50 |
ParametricShadows | 0 |
ParametricShadowSplit | 25 |
PerspectiveAspect | 0 |
PerspectiveHorizontal | 0 |
PerspectiveRotate | 0.0 |
PerspectiveScale | 100 |
PerspectiveUpright | 0 |
PerspectiveVertical | 0 |
PerspectiveX | 0.00 |
PerspectiveY | 0.00 |
PhotometricInterpretation | RGB |
PlanarConfiguration | Chunky |
PostCropVignetteAmount | 0 |
PreservedFileName | 4J7A9879.CR3 |
ProcessVersion | 11.0 |
ProfileDescription | ProPhoto |
RawFileName | 4J7A9879.CR3 |
RecommendedExposureIndex | 400 |
RedHue | 0 |
RedSaturation | 0 |
RowsPerStrip (1) | 463 |
RowsPerStrip (2) | 232 |
RowsPerStrip (3) | 116 |
RowsPerStrip | 925 |
SamplesPerPixel | 3 |
ScaleFactor35efl | 5.9 |
SceneCaptureType | Standard |
SensitivityType (1) | 2 |
SensitivityType | Recommended Exposure Index |
SerialNumber | 073021001637 |
Shadows2012 | 0 |
ShadowTint | 0 |
SharpenDetail | 25 |
SharpenEdgeMasking | 0 |
SharpenRadius | +1.0 |
Sharpness | 40 |
ShutterSpeed | 1/320 |
ShutterSpeedValue | 1/320 |
Software | Adobe Photoshop 24.1 (Macintosh) |
SplitToningBalance | 0 |
SplitToningHighlightHue | 0 |
SplitToningHighlightSaturation | 0 |
SplitToningShadowHue | 0 |
SplitToningShadowSaturation | 0 |
StripByteCounts (1) | 7770000 |
StripByteCounts (2) | 972300 |
StripByteCounts (3) | 243600 |
StripByteCounts | 60900 |
StripOffsets (1) | 35092 |
StripOffsets (2) | 7805868 |
StripOffsets (3) | 8778376 |
StripOffsets | 9022184 |
SubfileType (1) | Full-resolution Image |
SubfileType | Reduced-resolution image |
Texture | 0 |
This work is licensed under the Creative Commons Attribution-Share Alike 3.0 United States License. To view a copy of this license, visit http://creativecommons.org/licenses/by-sa/3.0/us/ or send a letter to Creative Commons, 171 Second Street, Suite 300, San Francisco, California, 94105, USA. |
Tint | +6 |
ToneCurveName2012 | Linear |
ToneCurvePV2012 | 0, 0, 255, 255 |
ToneCurvePV2012Blue | 0, 0, 255, 255 |
ToneCurvePV2012Green | 0, 0, 255, 255 |
ToneCurvePV2012Red | 0, 0, 255, 255 |
URL_List | |
Version | 14.3 |
VignetteAmount | 0 |
VignetteCorrectionAlreadyApplied | True |
WhiteBalance (1) | Auto |
WhiteBalance | As Shot |
Whites2012 | +1 |