Felt | Verdi |
AlreadyApplied | True |
Aperture | 1.4 |
ApertureValue | 1.4 |
Artist | Morten Eriksen |
AutoLateralCA | 0 |
BitsPerSample | 8 |
Blacks2012 | 0 |
BlueHue | 0 |
BlueSaturation | 0 |
BrightnessValue | 3.9703125 |
By-line | Morten Eriksen |
CameraProfile | Adobe Standard |
CircleOfConfusion | 0.030 mm |
Clarity2012 | 0 |
ColorComponents | 3 |
ColorGradeBlending | 50 |
ColorGradeGlobalHue | 0 |
ColorGradeGlobalLum | 0 |
ColorGradeGlobalSat | 0 |
ColorGradeHighlightLum | 0 |
ColorGradeMidtoneHue | 0 |
ColorGradeMidtoneLum | 0 |
ColorGradeMidtoneSat | 0 |
ColorGradeShadowLum | 0 |
ColorMode | RGB |
ColorNoiseReduction | 25 |
ColorNoiseReductionDetail | 50 |
ColorNoiseReductionSmoothness | 50 |
ColorSpace | Uncalibrated |
ColorTemperature | 8000 |
ColorTransform | YCbCr |
Contrast | Normal |
Contrast2012 | +64 |
Copyright | Morten Eriksen |
CopyrightNotice | Morten Eriksen |
CreateDate | 2022:05:31 23:15:41 |
Creator | Morten Eriksen |
CreatorTool | ILCE-7RM4 v1.20 |
CustomRendered | Normal |
DateCreated (1) | 2022:05:31 |
DateCreated | 2022:05:31 23:15:41+01:00 |
DateTimeOriginal | 2022:05:31 23:15:41 |
DefringeGreenAmount | 0 |
DefringeGreenHueHi | 60 |
DefringeGreenHueLo | 40 |
DefringePurpleAmount | 0 |
DefringePurpleHueHi | 70 |
DefringePurpleHueLo | 30 |
Dehaze | +29 |
DigitalZoomRatio | 1 |
ExifImageHeight | 6022 |
ExifImageWidth | 9249 |
Exposure2012 | 0.00 |
ExposureCompensation | 0 |
ExposureMode | Manual |
ExposureProgram | Manual |
ExposureTime | 1/1000 |
Flash | Off, Did not fire |
FNumber | 1.4 |
FocalLength | 24.0 mm |
FocalLength35efl | 24.0 mm (35 mm equivalent: 24.0 mm) |
FocalLengthIn35mmFormat | 24 mm |
Format | image/jpeg |
FOV | 73.7 deg |
GPSDifferential | No Correction |
GPSMapDatum | WGS-84 |
GPSStatus | Measurement Void |
GrainAmount | 0 |
GreenHue | 0 |
GreenSaturation | 0 |
HasCrop | False |
HasSettings | True |
Highlights2012 | -31 |
HueAdjustmentAqua | 0 |
HueAdjustmentBlue | 0 |
HueAdjustmentGreen | 0 |
HueAdjustmentMagenta | 0 |
HueAdjustmentOrange | 0 |
HueAdjustmentPurple | 0 |
HueAdjustmentRed | 0 |
HueAdjustmentYellow | 0 |
HyperfocalDistance | 13.69 m |
ICCProfileName | Adobe RGB (1998) |
ImageHeight | 6022 |
ImageSize | 9249x6022 |
ImageWidth | 9249 |
ISO | 100 |
LateralChromaticAberrationCorrectionAlreadyApplied | True |
Lens | FE 24mm F1.4 GM |
LensDistortInfo | 1073558433/1073741824 -38795139/1073741824 45344181/1073741824 -6379984/1073741824 |
LensInfo | 24mm f/1.4 |
LensManualDistortionAmount | 0 |
LensModel | FE 24mm F1.4 GM |
LensProfileEnable | 0 |
LightSource | Unknown |
LightValue | 10.9 |
LookAmount | 1 |
LookCopyright | © 2018 Adobe Systems, Inc. |
LookGroup | Profiles |
LookName | Adobe Color |
LookParametersCameraProfile | Adobe Standard |
LookParametersConvertToGrayscale | False |
LookParametersLookTable | E1095149FDB39D7A057BAB208837E2E1 |
LookParametersProcessVersion | 11.0 |
LookParametersToneCurvePV2012 | 0, 0, 22, 16, 40, 35, 127, 127, 224, 230, 240, 246, 255, 255 |
LookParametersToneCurvePV2012Blue | 0, 0, 255, 255 |
LookParametersToneCurvePV2012Green | 0, 0, 255, 255 |
LookParametersToneCurvePV2012Red | 0, 0, 255, 255 |
LookParametersVersion | 14.3 |
LookSupportsAmount | false |
LookSupportsMonochrome | false |
LookSupportsOutputReferred | false |
LuminanceAdjustmentAqua | 0 |
LuminanceAdjustmentBlue | 0 |
LuminanceAdjustmentGreen | 0 |
LuminanceAdjustmentMagenta | 0 |
LuminanceAdjustmentOrange | 0 |
LuminanceAdjustmentPurple | 0 |
LuminanceAdjustmentRed | 0 |
LuminanceAdjustmentYellow | 0 |
LuminanceNoiseReductionContrast | 0 |
LuminanceNoiseReductionDetail | 50 |
LuminanceSmoothing | 53 |
Make | SONY |
MaxApertureValue | 1.4 |
Megapixels | 55.7 |
MeteringMode | Multi-segment |
Model | ILCE-7RM4 |
ModifyDate (1) | 2022:06:01 01:00:10+02:00 |
ModifyDate | 2022:06:01 01:00:10 |
Orientation | Horizontal (normal) |
OverrideLookVignette | False |
ParametricDarks | +39 |
ParametricHighlights | -38 |
ParametricHighlightSplit | 75 |
ParametricLights | +39 |
ParametricMidtoneSplit | 50 |
ParametricShadows | +37 |
ParametricShadowSplit | 25 |
PerspectiveAspect | 0 |
PerspectiveHorizontal | 0 |
PerspectiveRotate | 0.0 |
PerspectiveScale | 100 |
PerspectiveUpright | 0 |
PerspectiveVertical | 0 |
PerspectiveX | 0.00 |
PerspectiveY | 0.00 |
PostCropVignetteAmount | 0 |
ProcessVersion | 11.0 |
ProfileDescription | Adobe RGB (1998) |
Rating | 0 |
RecommendedExposureIndex | 100 |
RedHue | 0 |
RedSaturation | 0 |
Rights | Morten Eriksen |
Saturation (1) | +21 |
Saturation | Normal |
SaturationAdjustmentAqua | 0 |
SaturationAdjustmentBlue | 0 |
SaturationAdjustmentGreen | 0 |
SaturationAdjustmentMagenta | 0 |
SaturationAdjustmentOrange | 0 |
SaturationAdjustmentPurple | 0 |
SaturationAdjustmentRed | 0 |
SaturationAdjustmentYellow | 0 |
ScaleFactor35efl | 1.0 |
SceneCaptureType | Standard |
SceneType | Directly photographed |
SensitivityType | Recommended Exposure Index |
Shadows2012 | +79 |
ShadowTint | 0 |
SharpenDetail | 25 |
SharpenEdgeMasking | 0 |
SharpenRadius | +1.0 |
Sharpness (1) | 40 |
Sharpness | Normal |
ShutterSpeed | 1/1000 |
ShutterSpeedValue | 1/1000 |
Software | Adobe Photoshop 23.3 (Windows) |
SplitToningBalance | 0 |
SplitToningHighlightHue | 0 |
SplitToningHighlightSaturation | 0 |
SplitToningShadowHue | 0 |
SplitToningShadowSaturation | 0 |
Texture | 0 |
Tint | -12 |
ToneCurveName2012 | Custom |
ToneCurvePV2012 | 0, 0, 255, 255 |
ToneCurvePV2012Blue | 0, 0, 255, 255 |
ToneCurvePV2012Green | 0, 0, 255, 255 |
ToneCurvePV2012Red | 0, 0, 121, 128, 255, 255 |
URL_List | |
Version | 14.3 |
Vibrance | +98 |
VignetteAmount | 0 |
WhiteBalance (1) | Custom |
WhiteBalance | Auto |
Whites2012 | 0 |