Felt | Verdi |
AlreadyApplied | True |
Aperture | 11.0 |
ApertureValue | 11.0 |
ApproximateFocusDistance | 4294967295 |
Artist | Hans Jørgen Lindeløff |
AutoLateralCA | 1 |
BitsPerSample | 8 |
Blacks2012 | -10 |
BlueHue | 0 |
BlueSaturation | 0 |
By-line | Hans Jørgen Lindeløff |
CameraProfile | Adobe Standard |
CFAPattern | [Red,Green][Green,Blue] |
CircGradBasedCorrActive | true |
CircGradBasedCorrAmount | 1.000000 |
CircGradBasedCorrBrightness | 0.000000 |
CircGradBasedCorrClarity2012 | 0.000000 |
CircGradBasedCorrContrast2012 | 0.000000 |
CircGradBasedCorrCorrectionRangeMaskType | 0 |
CircGradBasedCorrDefringe | 0.000000 |
CircGradBasedCorrExposure2012 (1) | 0.028903 |
CircGradBasedCorrExposure2012 | 0.088247 |
CircGradBasedCorrHighlights2012 | 0.000000 |
CircGradBasedCorrHue | 240.000000 |
CircGradBasedCorrLocalBlacks2012 | 0.000000 |
CircGradBasedCorrLocalDehaze | 0.000000 |
CircGradBasedCorrLocalHue | 0.000000 |
CircGradBasedCorrLocalTexture | 0.000000 |
CircGradBasedCorrLocalWhites2012 | 0.000000 |
CircGradBasedCorrLuminanceNoise | 0.000000 |
CircGradBasedCorrMaskAngle | 0.000000 |
CircGradBasedCorrMaskBottom (1) | 0.642404 |
CircGradBasedCorrMaskBottom (2) | 0.730720 |
CircGradBasedCorrMaskBottom (3) | 0.745582 |
CircGradBasedCorrMaskBottom | 0.721474 |
CircGradBasedCorrMaskCenterWeight | 0.000303 |
CircGradBasedCorrMaskFeather | +100 |
CircGradBasedCorrMaskFlipped | true |
CircGradBasedCorrMaskFlow | 0.694333 |
CircGradBasedCorrMaskLeft (1) | -0.031081 |
CircGradBasedCorrMaskLeft (2) | 0.071717 |
CircGradBasedCorrMaskLeft (3) | 0.644405 |
CircGradBasedCorrMaskLeft | 0.316372 |
CircGradBasedCorrMaskMidpoint | +50 |
CircGradBasedCorrMaskRadius | 0.030260 |
CircGradBasedCorrMaskRight (1) | 0.429632 |
CircGradBasedCorrMaskRight (2) | 0.347717 |
CircGradBasedCorrMaskRight (3) | 1.039600 |
CircGradBasedCorrMaskRight | 0.754598 |
CircGradBasedCorrMaskRoundness | 0 |
CircGradBasedCorrMaskTop (1) | 0.404612 |
CircGradBasedCorrMaskTop (2) | 0.662550 |
CircGradBasedCorrMaskTop (3) | 0.608818 |
CircGradBasedCorrMaskTop | 0.647910 |
CircGradBasedCorrMaskValue (1) | 1.000000 |
CircGradBasedCorrMaskValue | 0.000000 |
CircGradBasedCorrMaskVersion | +2 |
CircGradBasedCorrMaskWhat | Mask/Paint |
CircGradBasedCorrMoire | 0.000000 |
CircGradBasedCorrSaturation | 0.000000 |
CircGradBasedCorrShadows2012 | 0.000000 |
CircGradBasedCorrSharpness | 0.000000 |
CircGradBasedCorrTemperature (1) | 0.281801 |
CircGradBasedCorrTemperature | 0.172406 |
CircGradBasedCorrTint (1) | 0.140967 |
CircGradBasedCorrTint | 0.000000 |
CircGradBasedCorrWhat | Correction |
CircleOfConfusion | 0.030 mm |
Clarity2012 | 0 |
ColorComponents | 3 |
ColorGradeBlending | 50 |
ColorGradeGlobalHue | 0 |
ColorGradeGlobalLum | 0 |
ColorGradeGlobalSat | 0 |
ColorGradeHighlightLum | 0 |
ColorGradeMidtoneHue | 0 |
ColorGradeMidtoneLum | 0 |
ColorGradeMidtoneSat | 0 |
ColorGradeShadowLum | 0 |
ColorNoiseReduction | 25 |
ColorNoiseReductionDetail | 50 |
ColorNoiseReductionSmoothness | 50 |
ColorSpace | sRGB |
ColorTemperature | 6031 |
ColorTransform | YCbCr |
Contrast | Normal |
Contrast2012 | 0 |
Copyright | © Hans Jørgen Lindeløff 2020 |
CopyrightFlag | True |
CreateDate (1) | 2020:08:27 20:28:26.78 |
CreateDate | 2020:08:27 20:28:26 |
Creator | Hans Jørgen Lindeløff |
CreatorAddress | Bjørnevågveien 8 |
CreatorCity | Kråkerøy |
CreatorCountry | Norway |
CreatorPostalCode | 1676 |
CreatorWorkEmail | lundeli@mac.com |
CreatorWorkTelephone | +47 92049534 |
CreatorWorkURL | lundeliphoto.no |
CropAngle | 0 |
CropBottom | 0.83749 |
CropConstrainToWarp | 1 |
CropLeft | 0.145739 |
CropRight | 0.987566 |
CropTop | 0.128141 |
CustomRendered | Normal |
DateCreated (1) | 2018:01:02 |
DateCreated | 2018:01:02 14:49:07.571 |
DateTimeOriginal | 2020:08:27 20:28:26 |
DefringeGreenAmount | 0 |
DefringeGreenHueHi | 60 |
DefringeGreenHueLo | 40 |
DefringePurpleAmount | 0 |
DefringePurpleHueHi | 70 |
DefringePurpleHueLo | 30 |
Dehaze | 0 |
DigitalZoomRatio | 1 |
DistortionCorrectionAlreadyApplied | True |
DOF | inf (1.74 m - inf) |
Exposure2012 | 0.00 |
ExposureCompensation | 0 |
ExposureMode | Manual |
ExposureProgram | Manual |
ExposureTime | 1/30 |
Flash | Off, Did not fire |
FNumber | 11.0 |
FocalLength | 24.0 mm |
FocalLengthIn35mmFormat | 24 mm |
Format | image/jpeg |
FOV | 73.7 deg |
GainControl | None |
GradientBasedCorrActive | true |
GradientBasedCorrAmount | 1.000000 |
GradientBasedCorrBrightness | 0.000000 |
GradientBasedCorrClarity2012 | 0.000000 |
GradientBasedCorrContrast2012 | 0.000000 |
GradientBasedCorrDefringe | 0.000000 |
GradientBasedCorrExposure2012 | -0.086124 |
GradientBasedCorrHighlights2012 | 0.000000 |
GradientBasedCorrHue | 240.000000 |
GradientBasedCorrLocalBlacks2012 | 0.000000 |
GradientBasedCorrLocalDehaze | 0.000000 |
GradientBasedCorrLocalHue | 0.000000 |
GradientBasedCorrLocalTexture | 0.000000 |
GradientBasedCorrLocalWhites2012 | 0.000000 |
GradientBasedCorrLuminanceNoise | 0.000000 |
GradientBasedCorrMaskCenterWeight | 0.000303 |
GradientBasedCorrMaskFlow | 0.694333 |
GradientBasedCorrMaskFullX (1) | 0.615435 |
GradientBasedCorrMaskFullX (2) | 0.555593 |
GradientBasedCorrMaskFullX | 0.576309 |
GradientBasedCorrMaskFullY (1) | 0.512332 |
GradientBasedCorrMaskFullY (2) | 0.766260 |
GradientBasedCorrMaskFullY | 0.142459 |
GradientBasedCorrMaskRadius (1) | 0.048270 |
GradientBasedCorrMaskRadius (10) | 0.076487 |
GradientBasedCorrMaskRadius (11) | 0.077110 |
GradientBasedCorrMaskRadius (12) | 0.078065 |
GradientBasedCorrMaskRadius (13) | 0.029273 |
GradientBasedCorrMaskRadius (2) | 0.024473 |
GradientBasedCorrMaskRadius (3) | 0.014907 |
GradientBasedCorrMaskRadius (4) | 0.054825 |
GradientBasedCorrMaskRadius (5) | 0.056699 |
GradientBasedCorrMaskRadius (6) | 0.055823 |
GradientBasedCorrMaskRadius (7) | 0.056509 |
GradientBasedCorrMaskRadius (8) | 0.056676 |
GradientBasedCorrMaskRadius (9) | 0.033049 |
GradientBasedCorrMaskRadius | 0.030158 |
GradientBasedCorrMaskValue (6) | 0.000000 |
GradientBasedCorrMaskValue | 1.000000 |
GradientBasedCorrMaskWhat (15) | Mask/Paint |
GradientBasedCorrMaskWhat | Mask/Gradient |
GradientBasedCorrMaskZeroX (1) | 0.629986 |
GradientBasedCorrMaskZeroX (2) | 0.556387 |
GradientBasedCorrMaskZeroX | 0.591032 |
GradientBasedCorrMaskZeroY (1) | 0.726597 |
GradientBasedCorrMaskZeroY (2) | 0.666769 |
GradientBasedCorrMaskZeroY | 0.415767 |
GradientBasedCorrMoire | 0.000000 |
GradientBasedCorrSaturation | 0.000000 |
GradientBasedCorrShadows2012 (1) | 0.347746 |
GradientBasedCorrShadows2012 | 0.000000 |
GradientBasedCorrSharpness | 0.000000 |
GradientBasedCorrTemperature (1) | -0.098439 |
GradientBasedCorrTemperature (2) | 0.121138 |
GradientBasedCorrTemperature | 0.000000 |
GradientBasedCorrTint (1) | 0.093576 |
GradientBasedCorrTint | 0.000000 |
GradientBasedCorrWhat | Correction |
GrainAmount | 0 |
GreenHue | 0 |
GreenSaturation | 0 |
HasCrop | True |
HasSettings | True |
Highlights2012 | -41 |
HueAdjustmentAqua | 0 |
HueAdjustmentBlue | 0 |
HueAdjustmentGreen | 0 |
HueAdjustmentMagenta | 0 |
HueAdjustmentOrange | 0 |
HueAdjustmentPurple | 0 |
HueAdjustmentRed | 0 |
HueAdjustmentYellow | 0 |
HyperfocalDistance | 1.74 m |
ImageHeight | 1152 |
ImageNumber | 11179 |
ImageSize | 2048x1152 |
ImageWidth | 2048 |
ISO | 320 |
Keywords | Fredrikstad, biblioteket |
Lens | 24.0-70.0 mm f/2.8 |
LensID (1) | 147 |
LensID | AF-S Zoom-Nikkor 24-70mm f/2.8G ED |
LensInfo | 24-70mm f/2.8 |
LensManualDistortionAmount | 0 |
LensModel | 24.0-70.0 mm f/2.8 |
LensProfileDistortionScale | 100 |
LensProfileEnable | 1 |
LensProfileIsEmbedded | False |
LensProfileSetup | LensDefaults |
LensProfileVignettingScale | 100 |
LightSource | Unknown |
LightValue | 10.1 |
LookAmount | 1.000000 |
LookGroup | Profiles |
LookName | Adobe Landscape |
LookParametersCameraProfile | Adobe Standard |
LookParametersClarity2012 | +10 |
LookParametersConvertToGrayscale | False |
LookParametersHighlights2012 | -12 |
LookParametersLookTable | 0B3BFB5CFB7DBF7FF175E98F24D316B0 |
LookParametersProcessVersion | 11.0 |
LookParametersShadows2012 | +12 |
LookParametersToneCurvePV2012 | 0, 0, 64, 60, 128, 128, 192, 196, 255, 255 |
LookParametersVersion | 13.3 |
LookSupportsAmount | false |
LookSupportsMonochrome | false |
LookSupportsOutputReferred | false |
LuminanceAdjustmentAqua | 0 |
LuminanceAdjustmentBlue | 0 |
LuminanceAdjustmentGreen | 0 |
LuminanceAdjustmentMagenta | 0 |
LuminanceAdjustmentOrange | 0 |
LuminanceAdjustmentPurple | 0 |
LuminanceAdjustmentRed | 0 |
LuminanceAdjustmentYellow | 0 |
LuminanceNoiseReductionContrast | 0 |
LuminanceNoiseReductionDetail | 50 |
LuminanceSmoothing | 20 |
Make | NIKON CORPORATION |
Marked | True |
MaxApertureValue | 2.8 |
Megapixels | 2.4 |
MeteringMode | Multi-segment |
Model | NIKON D750 |
ModifyDate (1) | 2021:10:16 18:29:06+02:00 |
ModifyDate | 2021:10:16 18:29:06 |
OverrideLookVignette | False |
PaintCorrectionActive | true |
PaintCorrectionAmount | 1.000000 |
PaintCorrectionBrightness | 0.000000 |
PaintCorrectionClarity2012 | 0.000000 |
PaintCorrectionContrast2012 | 0.000000 |
PaintCorrectionCorrectionRangeMaskType | 0 |
PaintCorrectionDefringe | 0.000000 |
PaintCorrectionExposure2012 (1) | 0.263999 |
PaintCorrectionExposure2012 (2) | 0.159339 |
PaintCorrectionExposure2012 | -0.259972 |
PaintCorrectionHighlights2012 (1) | 0.000000 |
PaintCorrectionHighlights2012 | -0.343371 |
PaintCorrectionHue | 240.000000 |
PaintCorrectionLocalBlacks2012 | 0.000000 |
PaintCorrectionLocalDehaze | 0.000000 |
PaintCorrectionLocalHue | 0.000000 |
PaintCorrectionLocalTexture | 0.000000 |
PaintCorrectionLocalWhites2012 | 0.000000 |
PaintCorrectionLuminanceNoise | 0.000000 |
PaintCorrectionMaskCenterWeight | 0.000702 |
PaintCorrectionMaskFlow (16) | 0.572670 |
PaintCorrectionMaskFlow | 0.604917 |
PaintCorrectionMaskRadius (1) | 0.017718 |
PaintCorrectionMaskRadius (10) | 0.018250 |
PaintCorrectionMaskRadius (11) | 0.017843 |
PaintCorrectionMaskRadius (12) | 0.017582 |
PaintCorrectionMaskRadius (13) | 0.017792 |
PaintCorrectionMaskRadius (14) | 0.018491 |
PaintCorrectionMaskRadius (15) | 0.018485 |
PaintCorrectionMaskRadius (16) | 0.013996 |
PaintCorrectionMaskRadius (17) | 0.037115 |
PaintCorrectionMaskRadius (18) | 0.014052 |
PaintCorrectionMaskRadius (19) | 0.013930 |
PaintCorrectionMaskRadius (2) | 0.030271 |
PaintCorrectionMaskRadius (20) | 0.017641 |
PaintCorrectionMaskRadius (21) | 0.017863 |
PaintCorrectionMaskRadius (22) | 0.042259 |
PaintCorrectionMaskRadius (23) | 0.041023 |
PaintCorrectionMaskRadius (24) | 0.032414 |
PaintCorrectionMaskRadius (25) | 0.032535 |
PaintCorrectionMaskRadius (26) | 0.022738 |
PaintCorrectionMaskRadius (27) | 0.022972 |
PaintCorrectionMaskRadius (28) | 0.014038 |
PaintCorrectionMaskRadius (29) | 0.014243 |
PaintCorrectionMaskRadius (3) | 0.017966 |
PaintCorrectionMaskRadius (30) | 0.014477 |
PaintCorrectionMaskRadius (31) | 0.014326 |
PaintCorrectionMaskRadius (32) | 0.014138 |
PaintCorrectionMaskRadius (33) | 0.014655 |
PaintCorrectionMaskRadius (34) | 0.014742 |
PaintCorrectionMaskRadius (35) | 0.014473 |
PaintCorrectionMaskRadius (4) | 0.009310 |
PaintCorrectionMaskRadius (5) | 0.017762 |
PaintCorrectionMaskRadius (6) | 0.017784 |
PaintCorrectionMaskRadius (7) | 0.027258 |
PaintCorrectionMaskRadius (8) | 0.018002 |
PaintCorrectionMaskRadius (9) | 0.018320 |
PaintCorrectionMaskRadius | 0.014441 |
PaintCorrectionMaskValue | 0.604296 |
PaintCorrectionMaskWhat | Mask/Paint |
PaintCorrectionMoire | 0.000000 |
PaintCorrectionSaturation | 0.000000 |
PaintCorrectionShadows2012 | 0.000000 |
PaintCorrectionSharpness | 0.000000 |
PaintCorrectionTemperature (1) | 0.480849 |
PaintCorrectionTemperature (2) | 0.364547 |
PaintCorrectionTemperature | -0.213926 |
PaintCorrectionTint (1) | 0.297500 |
PaintCorrectionTint (3) | 0.224513 |
PaintCorrectionTint | -0.139516 |
PaintCorrectionWhat | Correction |
ParametricDarks | 0 |
ParametricHighlights | 0 |
ParametricHighlightSplit | 75 |
ParametricLights | 0 |
ParametricMidtoneSplit | 50 |
ParametricShadows | 0 |
ParametricShadowSplit | 25 |
PerspectiveAspect | 0 |
PerspectiveHorizontal | 0 |
PerspectiveRotate | 0.0 |
PerspectiveScale | 100 |
PerspectiveUpright | 0 |
PerspectiveVertical | -22 |
PerspectiveX | 0.00 |
PerspectiveY | 0.00 |
PostCropVignetteAmount | -11 |
PostCropVignetteFeather | 50 |
PostCropVignetteHighlightContrast | 0 |
PostCropVignetteMidpoint | 50 |
PostCropVignetteRoundness | 0 |
PostCropVignetteStyle | 1 |
PreservedFileName | D75_0942.NEF |
ProcessVersion | 11.0 |
ProfileDescription | sRGB IEC61966-2.1 |
Rating | 5 |
RawFileName | D75_0942.NEF |
RedHue | 0 |
RedSaturation | 0 |
Rights | © Hans Jørgen Lindeløff 2020 |
Saturation (1) | 0 |
Saturation | Normal |
SaturationAdjustmentAqua | 0 |
SaturationAdjustmentBlue | 0 |
SaturationAdjustmentGreen | 0 |
SaturationAdjustmentMagenta | 0 |
SaturationAdjustmentOrange | 0 |
SaturationAdjustmentPurple | 0 |
SaturationAdjustmentRed | 0 |
SaturationAdjustmentYellow | 0 |
ScaleFactor35efl | 1.0 |
SceneCaptureType | Landscape |
SceneType | Directly photographed |
SensingMethod | One-chip color area |
SensitivityType | Recommended Exposure Index |
SerialNumber | 6128653 |
Shadows2012 | +77 |
ShadowTint | 0 |
SharpenDetail | 25 |
SharpenEdgeMasking | 52 |
SharpenRadius | +1.0 |
Sharpness (1) | 45 |
Sharpness | Normal |
ShutterSpeed | 1/30 |
ShutterSpeedValue | 1/30 |
SplitToningBalance | 0 |
SplitToningHighlightHue | 0 |
SplitToningHighlightSaturation | 0 |
SplitToningShadowHue | 0 |
SplitToningShadowSaturation | 0 |
Subject | Fredrikstad, biblioteket |
SubjectDistanceRange | Unknown |
Texture | 0 |
Tint | +10 |
ToneCurveName2012 | Custom |
ToneCurvePV2012 | 0, 0, 67, 53, 181, 189, 255, 255 |
ToneCurvePV2012Blue | 0, 0, 255, 255 |
ToneCurvePV2012Green | 0, 0, 255, 255 |
ToneCurvePV2012Red | 0, 0, 255, 255 |
UsageTerms | All rights reserved |
Version | 13.3 |
Vibrance | 0 |
VignetteAmount | 0 |
VignetteCorrectionAlreadyApplied | True |
WhiteBalance (1) | Custom |
WhiteBalance | Manual |
Whites2012 | +38 |