Felt | Verdi |
AlreadyApplied | True |
Aperture | 11.0 |
ApertureValue | 11.0 |
ApproximateFocusDistance | 5.31 |
Artist | Hans Jørgen Lindeløff |
AutoLateralCA | 1 |
BitsPerSample | 8 |
Blacks2012 | -17 |
BlueHue | 0 |
BlueSaturation | 0 |
By-line | Hans Jørgen Lindeløff |
CameraProfile | Adobe Standard |
CFAPattern | [Red,Green][Green,Blue] |
CircleOfConfusion | 0.030 mm |
Clarity2012 | +12 |
ColorComponents | 3 |
ColorGradeBlending | 50 |
ColorGradeGlobalHue | 0 |
ColorGradeGlobalLum | 0 |
ColorGradeGlobalSat | 0 |
ColorGradeHighlightLum | 0 |
ColorGradeMidtoneHue | 0 |
ColorGradeMidtoneLum | 0 |
ColorGradeMidtoneSat | 0 |
ColorGradeShadowLum | 0 |
ColorNoiseReduction | 25 |
ColorNoiseReductionDetail | 50 |
ColorNoiseReductionSmoothness | 50 |
ColorSpace | sRGB |
ColorTemperature | 5950 |
ColorTransform | YCbCr |
Contrast | Normal |
Contrast2012 | 0 |
Copyright | © Hans Jørgen Lindeløff 2021 |
CopyrightFlag | True |
CopyrightNotice | © Hans Jørgen Lindeløff 2021 |
CreateDate (1) | 2021:05:13 18:31:10.68 |
CreateDate | 2021:05:13 18:31:10 |
Creator | Hans Jørgen Lindeløff |
CreatorAddress | Bjørnevågveien 8 |
CreatorCity | Kråkerøy |
CreatorCountry | Norway |
CreatorPostalCode | 1676 |
CreatorTool | Adobe Photoshop Lightroom Classic 10.2 (Macintosh) |
CreatorWorkEmail | lundeli@mac.com |
CreatorWorkTelephone | +47 92049534 |
CreatorWorkURL | lundeliphoto.no |
CropAngle | 0 |
CropBottom | 0.971423 |
CropConstrainToWarp | 0 |
CropLeft | 0 |
CropRight | 1 |
CropTop | 0.128793 |
CustomRendered | Normal |
DateCreated (1) | 2018:01:02 |
DateCreated | 2018:01:02 14:49:07.571 |
DateTimeOriginal | 2021:05:13 18:31:10 |
DefringeGreenAmount | 0 |
DefringeGreenHueHi | 60 |
DefringeGreenHueLo | 40 |
DefringePurpleAmount | 0 |
DefringePurpleHueHi | 70 |
DefringePurpleHueLo | 30 |
Dehaze | 0 |
DigitalZoomRatio | 1 |
DistortionCorrectionAlreadyApplied | True |
DOF | inf (1.32 m - inf) |
Exposure2012 | 0.00 |
ExposureCompensation | +2 |
ExposureMode | Manual |
ExposureProgram | Manual |
ExposureTime | 10 |
Flash | Off, Did not fire |
FNumber | 11.0 |
FocalLength | 24.0 mm |
FocalLength35efl | 24.0 mm (35 mm equivalent: 24.0 mm) |
FocalLengthIn35mmFormat | 24 mm |
Format | image/jpeg |
FOV | 73.7 deg |
GainControl | None |
GradientBasedCorrActive | true |
GradientBasedCorrAmount | 1.000000 |
GradientBasedCorrBrightness | 0.000000 |
GradientBasedCorrClarity2012 | 0.000000 |
GradientBasedCorrContrast2012 (2) | 0.169021 |
GradientBasedCorrContrast2012 | 0.000000 |
GradientBasedCorrCorrectionRangeMaskColorAmount | 0.500000 |
GradientBasedCorrCorrectionRangeMaskDepthFeather | 0.500000 |
GradientBasedCorrCorrectionRangeMaskDepthMax | 1.000000 |
GradientBasedCorrCorrectionRangeMaskDepthMin | 0.000000 |
GradientBasedCorrCorrectionRangeMaskLumFeather (2) | 0.361252 |
GradientBasedCorrCorrectionRangeMaskLumFeather | 0.500000 |
GradientBasedCorrCorrectionRangeMaskLumMax | 1.000000 |
GradientBasedCorrCorrectionRangeMaskLumMin (2) | 0.242188 |
GradientBasedCorrCorrectionRangeMaskLumMin | 0.000000 |
GradientBasedCorrCorrectionRangeMaskType (2) | +2 |
GradientBasedCorrCorrectionRangeMaskType | 0 |
GradientBasedCorrCorrectionRangeMaskVersion | +2 |
GradientBasedCorrDefringe | 0.000000 |
GradientBasedCorrExposure2012 (1) | -0.128572 |
GradientBasedCorrExposure2012 (2) | -0.115496 |
GradientBasedCorrExposure2012 | -0.093202 |
GradientBasedCorrHighlights2012 | 0.000000 |
GradientBasedCorrHue | 240.000000 |
GradientBasedCorrLocalBlacks2012 (1) | -0.112287 |
GradientBasedCorrLocalBlacks2012 | 0.000000 |
GradientBasedCorrLocalDehaze | 0.000000 |
GradientBasedCorrLocalHue | 0.000000 |
GradientBasedCorrLocalTexture | 0.000000 |
GradientBasedCorrLocalWhites2012 (1) | 0.456207 |
GradientBasedCorrLocalWhites2012 (2) | 0.064853 |
GradientBasedCorrLocalWhites2012 | 0.000000 |
GradientBasedCorrLuminanceNoise | 0.000000 |
GradientBasedCorrMaskCenterWeight | 0.063749 |
GradientBasedCorrMaskFlow | 0.628950 |
GradientBasedCorrMaskFullX (1) | 0.161404 |
GradientBasedCorrMaskFullX (2) | -0.020409 |
GradientBasedCorrMaskFullX | 0.628038 |
GradientBasedCorrMaskFullY (1) | 0.957528 |
GradientBasedCorrMaskFullY (2) | 0.457213 |
GradientBasedCorrMaskFullY | 0.222089 |
GradientBasedCorrMaskRadius (1) | 0.031764 |
GradientBasedCorrMaskRadius (2) | 0.032255 |
GradientBasedCorrMaskRadius | 0.034014 |
GradientBasedCorrMaskValue (2) | 1.000000 |
GradientBasedCorrMaskValue | 0.000000 |
GradientBasedCorrMaskWhat (1) | Mask/Gradient |
GradientBasedCorrMaskWhat | Mask/Paint |
GradientBasedCorrMaskZeroX (1) | 0.172829 |
GradientBasedCorrMaskZeroX (2) | 0.265845 |
GradientBasedCorrMaskZeroX | 0.625881 |
GradientBasedCorrMaskZeroY (1) | 0.830842 |
GradientBasedCorrMaskZeroY (2) | 0.467296 |
GradientBasedCorrMaskZeroY | 0.373557 |
GradientBasedCorrMoire | 0.000000 |
GradientBasedCorrSaturation | 0.000000 |
GradientBasedCorrShadows2012 | 0.000000 |
GradientBasedCorrSharpness | 0.000000 |
GradientBasedCorrTemperature (1) | -0.098863 |
GradientBasedCorrTemperature (2) | -0.018818 |
GradientBasedCorrTemperature | -0.090902 |
GradientBasedCorrTint (1) | 0.000000 |
GradientBasedCorrTint | 0.062888 |
GradientBasedCorrWhat | Correction |
GrainAmount | 0 |
GreenHue | 0 |
GreenSaturation | 0 |
HasCrop | True |
HasExtendedXMP | 8C0BA0BBCF3F4592B3585D100EA0849A |
HasSettings | True |
Highlights2012 | -66 |
HueAdjustmentAqua | 0 |
HueAdjustmentBlue | 0 |
HueAdjustmentGreen | 0 |
HueAdjustmentMagenta | 0 |
HueAdjustmentOrange | 0 |
HueAdjustmentPurple | 0 |
HueAdjustmentRed | 0 |
HueAdjustmentYellow | 0 |
HyperfocalDistance | 1.74 m |
ImageHeight | 1152 |
ImageNumber | 13775 |
ImageSize | 2048x1152 |
ImageWidth | 2048 |
ISO | 100 |
LateralChromaticAberrationCorrectionAlreadyApplied | True |
Lens | 24.0-70.0 mm f/2.8 |
LensID (1) | 170 |
LensID | AF-S Nikkor 24-70mm f/2.8E ED VR |
LensInfo | 24-70mm f/2.8 |
LensManualDistortionAmount | 0 |
LensModel | 24.0-70.0 mm f/2.8 |
LensProfileDistortionScale | 100 |
LensProfileEnable | 1 |
LensProfileIsEmbedded | False |
LensProfileName | Adobe (Nikon AF-S NIKKOR 24-70mm f/2.8E ED VR) |
LensProfileSetup | LensDefaults |
LensProfileVignettingScale | 100 |
LightSource | Unknown |
LightValue | 3.6 |
LookAmount | 1.000000 |
LookGroup | Profiles |
LookName | Adobe Landscape |
LookParametersCameraProfile | Adobe Standard |
LookParametersClarity2012 | +10 |
LookParametersConvertToGrayscale | False |
LookParametersHighlights2012 | -12 |
LookParametersLookTable | 0B3BFB5CFB7DBF7FF175E98F24D316B0 |
LookParametersProcessVersion | 11.0 |
LookParametersShadows2012 | +12 |
LookParametersToneCurvePV2012 | 0, 0, 64, 60, 128, 128, 192, 196, 255, 255 |
LookParametersVersion | 13.2 |
LookSupportsAmount | false |
LookSupportsMonochrome | false |
LookSupportsOutputReferred | false |
LuminanceAdjustmentAqua | 0 |
LuminanceAdjustmentBlue | 0 |
LuminanceAdjustmentGreen | 0 |
LuminanceAdjustmentMagenta | 0 |
LuminanceAdjustmentOrange | 0 |
LuminanceAdjustmentPurple | 0 |
LuminanceAdjustmentRed | 0 |
LuminanceAdjustmentYellow | 0 |
LuminanceNoiseReductionContrast | 0 |
LuminanceNoiseReductionDetail | 50 |
LuminanceSmoothing | 24 |
Make | NIKON CORPORATION |
Marked | True |
MaxApertureValue | 2.8 |
Megapixels | 2.4 |
MeteringMode | Center-weighted average |
Model | NIKON D750 |
ModifyDate (1) | 2021:05:16 23:16:29+02:00 |
ModifyDate | 2021:05:16 23:16:29 |
OverrideLookVignette | False |
PaintCorrectionActive | true |
PaintCorrectionAmount | 1.000000 |
PaintCorrectionBrightness | 0.000000 |
PaintCorrectionClarity2012 (1) | 0.065198 |
PaintCorrectionClarity2012 | 0.000000 |
PaintCorrectionContrast2012 | 0.000000 |
PaintCorrectionCorrectionRangeMaskColorAmount | 0.500000 |
PaintCorrectionCorrectionRangeMaskDepthFeather | 0.500000 |
PaintCorrectionCorrectionRangeMaskDepthMax | 1.000000 |
PaintCorrectionCorrectionRangeMaskDepthMin | 0.000000 |
PaintCorrectionCorrectionRangeMaskLumFeather | 0.500000 |
PaintCorrectionCorrectionRangeMaskLumMax | 1.000000 |
PaintCorrectionCorrectionRangeMaskLumMin | 0.000000 |
PaintCorrectionCorrectionRangeMaskType | 0 |
PaintCorrectionCorrectionRangeMaskVersion | +2 |
PaintCorrectionDefringe | 0.000000 |
PaintCorrectionExposure2012 (1) | 0.378701 |
PaintCorrectionExposure2012 (2) | 0.210555 |
PaintCorrectionExposure2012 (3) | 0.201495 |
PaintCorrectionExposure2012 (4) | -0.103064 |
PaintCorrectionExposure2012 (5) | 0.180353 |
PaintCorrectionExposure2012 | 0.000000 |
PaintCorrectionHighlights2012 (1) | -0.171355 |
PaintCorrectionHighlights2012 (5) | 0.000000 |
PaintCorrectionHighlights2012 | -0.139323 |
PaintCorrectionHue | 240.000000 |
PaintCorrectionLocalBlacks2012 (4) | 0.000000 |
PaintCorrectionLocalBlacks2012 (5) | -0.116961 |
PaintCorrectionLocalBlacks2012 (6) | -0.008394 |
PaintCorrectionLocalBlacks2012 | -0.180259 |
PaintCorrectionLocalDehaze (1) | 0.000000 |
PaintCorrectionLocalDehaze (5) | -0.212635 |
PaintCorrectionLocalDehaze | 0.052495 |
PaintCorrectionLocalHue | 0.000000 |
PaintCorrectionLocalTexture | 0.000000 |
PaintCorrectionLocalWhites2012 (4) | 0.000000 |
PaintCorrectionLocalWhites2012 (6) | 0.280894 |
PaintCorrectionLocalWhites2012 | 0.305612 |
PaintCorrectionLuminanceNoise | 0.000000 |
PaintCorrectionMaskCenterWeight | 0.000000 |
PaintCorrectionMaskFlow | 0.678801 |
PaintCorrectionMaskRadius (1) | 0.032096 |
PaintCorrectionMaskRadius (10) | 0.027362 |
PaintCorrectionMaskRadius (11) | 0.009186 |
PaintCorrectionMaskRadius (12) | 0.008152 |
PaintCorrectionMaskRadius (13) | 0.007971 |
PaintCorrectionMaskRadius (14) | 0.007941 |
PaintCorrectionMaskRadius (15) | 0.008165 |
PaintCorrectionMaskRadius (16) | 0.035141 |
PaintCorrectionMaskRadius (17) | 0.033964 |
PaintCorrectionMaskRadius (18) | 0.034742 |
PaintCorrectionMaskRadius (19) | 0.074942 |
PaintCorrectionMaskRadius (2) | 0.034431 |
PaintCorrectionMaskRadius (20) | 0.078140 |
PaintCorrectionMaskRadius (21) | 0.079154 |
PaintCorrectionMaskRadius (22) | 0.041253 |
PaintCorrectionMaskRadius (23) | 0.041339 |
PaintCorrectionMaskRadius (24) | 0.041301 |
PaintCorrectionMaskRadius (25) | 0.017684 |
PaintCorrectionMaskRadius (26) | 0.091479 |
PaintCorrectionMaskRadius (27) | 0.041038 |
PaintCorrectionMaskRadius (28) | 0.041369 |
PaintCorrectionMaskRadius (29) | 0.029351 |
PaintCorrectionMaskRadius (3) | 0.033826 |
PaintCorrectionMaskRadius (30) | 0.029337 |
PaintCorrectionMaskRadius (31) | 0.029397 |
PaintCorrectionMaskRadius (32) | 0.035389 |
PaintCorrectionMaskRadius (33) | 0.034982 |
PaintCorrectionMaskRadius (34) | 0.035370 |
PaintCorrectionMaskRadius (35) | 0.017811 |
PaintCorrectionMaskRadius (36) | 0.017625 |
PaintCorrectionMaskRadius (37) | 0.017810 |
PaintCorrectionMaskRadius (38) | 0.080008 |
PaintCorrectionMaskRadius (4) | 0.027884 |
PaintCorrectionMaskRadius (5) | 0.028010 |
PaintCorrectionMaskRadius (6) | 0.027874 |
PaintCorrectionMaskRadius (7) | 0.028712 |
PaintCorrectionMaskRadius (8) | 0.028648 |
PaintCorrectionMaskRadius (9) | 0.028408 |
PaintCorrectionMaskRadius | 0.080025 |
PaintCorrectionMaskValue | 0.557498 |
PaintCorrectionMaskWhat | Mask/Paint |
PaintCorrectionMoire | 0.000000 |
PaintCorrectionSaturation (13) | -0.337827 |
PaintCorrectionSaturation | 0.000000 |
PaintCorrectionShadows2012 (1) | 0.004252 |
PaintCorrectionShadows2012 | 0.000000 |
PaintCorrectionSharpness | 0.000000 |
PaintCorrectionTemperature (3) | 0.197269 |
PaintCorrectionTemperature (5) | -0.098863 |
PaintCorrectionTemperature (6) | 0.000000 |
PaintCorrectionTemperature | -0.233403 |
PaintCorrectionTint (1) | -0.018956 |
PaintCorrectionTint (3) | -0.042071 |
PaintCorrectionTint | 0.000000 |
PaintCorrectionWhat | Correction |
ParametricDarks | 0 |
ParametricHighlights | 0 |
ParametricHighlightSplit | 75 |
ParametricLights | 0 |
ParametricMidtoneSplit | 50 |
ParametricShadows | 0 |
ParametricShadowSplit | 25 |
PerspectiveAspect | 0 |
PerspectiveHorizontal | 0 |
PerspectiveRotate | 0.0 |
PerspectiveScale | 100 |
PerspectiveUpright | 0 |
PerspectiveVertical | -6 |
PerspectiveX | 0.00 |
PerspectiveY | 0.00 |
PostCropVignetteAmount | -9 |
PostCropVignetteFeather | 50 |
PostCropVignetteHighlightContrast | 0 |
PostCropVignetteMidpoint | 50 |
PostCropVignetteRoundness | 0 |
PostCropVignetteStyle | 1 |
PreservedFileName | D75_3403.NEF |
ProcessVersion | 11.0 |
ProfileDescription | sRGB IEC61966-2.1 |
RangeMaskMapInfoRangeMaskMapInfoLabMax | 0.998276 0.507408 0.521370 |
RangeMaskMapInfoRangeMaskMapInfoLabMin | 0.000275 0.494255 0.460990 |
RangeMaskMapInfoRangeMaskMapInfoRGBMax | 0.984131 0.983734 0.983810 |
RangeMaskMapInfoRangeMaskMapInfoRGBMin | 0.001282 0.001251 0.001328 |
Rating | 5 |
RawFileName | D75_3403.NEF |
RedHue | 0 |
RedSaturation | 0 |
Rights | © Hans Jørgen Lindeløff 2021 |
Saturation (1) | +8 |
Saturation | Normal |
SaturationAdjustmentAqua | 0 |
SaturationAdjustmentBlue | 0 |
SaturationAdjustmentGreen | 0 |
SaturationAdjustmentMagenta | 0 |
SaturationAdjustmentOrange | 0 |
SaturationAdjustmentPurple | 0 |
SaturationAdjustmentRed | 0 |
SaturationAdjustmentYellow | 0 |
ScaleFactor35efl | 1.0 |
SceneCaptureType | Landscape |
SceneType | Directly photographed |
SensingMethod | One-chip color area |
SensitivityType | Recommended Exposure Index |
SerialNumber | 6128653 |
Shadows2012 | +74 |
ShadowTint | 0 |
SharpenDetail | 25 |
SharpenEdgeMasking | 58 |
SharpenRadius | +1.0 |
Sharpness (1) | 53 |
Sharpness | Normal |
ShutterSpeed | 10 |
ShutterSpeedValue | 10 |
Software | Adobe Photoshop Lightroom Classic 10.2 (Macintosh) |
SplitToningBalance | 0 |
SplitToningHighlightHue | 0 |
SplitToningHighlightSaturation | 0 |
SplitToningShadowHue | 0 |
SplitToningShadowSaturation | 0 |
SubjectDistanceRange | Unknown |
Texture | 0 |
Tint | +1 |
ToneCurveName2012 | Custom |
ToneCurvePV2012 | 0, 0, 49, 46, 193, 204, 255, 255 |
ToneCurvePV2012Blue | 0, 0, 255, 255 |
ToneCurvePV2012Green | 0, 0, 255, 255 |
ToneCurvePV2012Red | 0, 0, 255, 255 |
UsageTerms | All rights reserved |
Version | 13.2 |
Vibrance | +22 |
VignetteAmount | 0 |
VignetteCorrectionAlreadyApplied | True |
WhiteBalance (1) | Custom |
WhiteBalance | Auto |
Whites2012 | +40 |