Felt | Verdi |
AlreadyApplied | True |
Aperture | 13.0 |
ApertureValue | 13.0 |
AutoLateralCA | 0 |
AutoWhiteVersion | 134348800 |
BitsPerSample | 8 |
Blacks2012 | -32 |
BlueHue | 0 |
BlueSaturation | 0 |
BrightnessValue | 8.61 |
CameraProfile | Adobe Standard |
CircleOfConfusion | 0.020 mm |
Clarity2012 | +16 |
ColorComponents | 3 |
ColorNoiseReduction | 25 |
ColorNoiseReductionDetail | 16 |
ColorNoiseReductionSmoothness | 12 |
ColorSpace | sRGB |
ColorTemperature | 5350 |
ColorTransform | YCbCr |
Contrast2012 | 0 |
ConvertToGrayscale | False |
CreateDate | 2021:03:17 04:15:37 |
CreatorTool | Adobe Photoshop Lightroom 5.6 (Macintosh) |
CustomRendered | Normal |
DateCreated (1) | 2021:03:17 |
DateCreated | 2021:03:17 04:15:37 |
DateTimeOriginal | 2021:03:17 04:15:37 |
DefringeGreenAmount | 0 |
DefringeGreenHueHi | 60 |
DefringeGreenHueLo | 40 |
DefringePurpleAmount | 0 |
DefringePurpleHueHi | 70 |
DefringePurpleHueLo | 30 |
Exposure2012 | +0.20 |
ExposureCompensation | 0 |
ExposureMode | Auto |
ExposureProgram | Shutter speed priority AE |
ExposureTime | 1/250 |
Flash | No Flash |
FNumber | 13.0 |
FocalLength | 239.8 mm |
FocalLength35efl | 239.8 mm (35 mm equivalent: 360.0 mm) |
FocalLengthIn35mmFormat | 360 mm |
Format | image/jpeg |
FOV | 5.7 deg |
GradientBasedCorrActive | true |
GradientBasedCorrAmount | 1.000000 |
GradientBasedCorrBrightness | 0.000000 |
GradientBasedCorrClarity2012 | 0.000000 |
GradientBasedCorrContrast2012 | 0.000000 |
GradientBasedCorrDefringe | 0.000000 |
GradientBasedCorrExposure2012 (1) | -0.411940 |
GradientBasedCorrExposure2012 (2) | -0.444803 |
GradientBasedCorrExposure2012 (3) | -0.404382 |
GradientBasedCorrExposure2012 (4) | -0.563434 |
GradientBasedCorrExposure2012 | -0.653193 |
GradientBasedCorrHighlights2012 | 0.041247 |
GradientBasedCorrHue | 0.000000 |
GradientBasedCorrLuminanceNoise | 0.000000 |
GradientBasedCorrMaskFullX (1) | 0.861334 |
GradientBasedCorrMaskFullX (2) | 0.000017 |
GradientBasedCorrMaskFullX (3) | 0.162841 |
GradientBasedCorrMaskFullX (4) | 0.994826 |
GradientBasedCorrMaskFullX (5) | 0.863990 |
GradientBasedCorrMaskFullX (6) | 1.001520 |
GradientBasedCorrMaskFullX (7) | 0.261834 |
GradientBasedCorrMaskFullX (8) | 0.001360 |
GradientBasedCorrMaskFullX | 0.035542 |
GradientBasedCorrMaskFullY (1) | 0.073052 |
GradientBasedCorrMaskFullY (2) | 0.004779 |
GradientBasedCorrMaskFullY (3) | -0.004779 |
GradientBasedCorrMaskFullY (4) | 0.995169 |
GradientBasedCorrMaskFullY (5) | 0.997183 |
GradientBasedCorrMaskFullY (6) | 0.790056 |
GradientBasedCorrMaskFullY (7) | -0.003448 |
GradientBasedCorrMaskFullY (8) | 0.128431 |
GradientBasedCorrMaskFullY | 1.003950 |
GradientBasedCorrMaskValue | 1.000000 |
GradientBasedCorrMaskWhat | Mask/Gradient |
GradientBasedCorrMaskZeroX (1) | 0.810547 |
GradientBasedCorrMaskZeroX (2) | 0.094055 |
GradientBasedCorrMaskZeroX (3) | 0.196937 |
GradientBasedCorrMaskZeroX (4) | 0.890879 |
GradientBasedCorrMaskZeroX (5) | 0.825106 |
GradientBasedCorrMaskZeroX (6) | 0.919645 |
GradientBasedCorrMaskZeroX (7) | 0.254678 |
GradientBasedCorrMaskZeroX (8) | 0.168026 |
GradientBasedCorrMaskZeroX | 0.170584 |
GradientBasedCorrMaskZeroY (1) | 0.144540 |
GradientBasedCorrMaskZeroY (2) | 0.191285 |
GradientBasedCorrMaskZeroY (3) | 0.192296 |
GradientBasedCorrMaskZeroY (4) | 0.792130 |
GradientBasedCorrMaskZeroY (5) | 0.769065 |
GradientBasedCorrMaskZeroY (6) | 0.733312 |
GradientBasedCorrMaskZeroY (7) | 0.143684 |
GradientBasedCorrMaskZeroY (8) | 0.431943 |
GradientBasedCorrMaskZeroY | 0.741850 |
GradientBasedCorrMoire | 0.000000 |
GradientBasedCorrSaturation | 0.000000 |
GradientBasedCorrShadows2012 | 0.421790 |
GradientBasedCorrSharpness | 0.000000 |
GradientBasedCorrTemperature | -0.002972 |
GradientBasedCorrTint | 0.084409 |
GradientBasedCorrWhat | Correction |
GrainAmount | 0 |
GreenHue | 0 |
GreenSaturation | 0 |
HasCrop | False |
HasExtendedXMP | D97984111330CC39665C150597E208F5 |
HasSettings | True |
Highlights2012 | -41 |
HueAdjustmentAqua | 0 |
HueAdjustmentBlue | 0 |
HueAdjustmentGreen | 0 |
HueAdjustmentMagenta | 0 |
HueAdjustmentOrange | 0 |
HueAdjustmentPurple | 0 |
HueAdjustmentRed | 0 |
HueAdjustmentYellow | 0 |
HyperfocalDistance | 221.01 m |
ImageHeight | 4000 |
ImageSize | 6000x4000 |
ImageWidth | 6000 |
ISO | 400 |
Lens | XF70-300mmF4-5.6 R LM OIS WR + 1.4x |
LensInfo | 98-420mm f/5.6-8 |
LensMake | FUJIFILM |
LensManualDistortionAmount | 0 |
LensModel | XF70-300mmF4-5.6 R LM OIS WR + 1.4x |
LensProfileEnable | 0 |
LensProfileSetup | LensDefaults |
LensSerialNumber | 1AA03069 |
LightSource | Unknown |
LightValue | 13.4 |
LuminanceAdjustmentAqua | 0 |
LuminanceAdjustmentBlue | 0 |
LuminanceAdjustmentGreen | 0 |
LuminanceAdjustmentMagenta | 0 |
LuminanceAdjustmentOrange | 0 |
LuminanceAdjustmentPurple | 0 |
LuminanceAdjustmentRed | 0 |
LuminanceAdjustmentYellow | 0 |
LuminanceSmoothing | 0 |
Make | FUJIFILM |
MaxApertureValue | 5.7 |
Megapixels | 24.0 |
MeteringMode | Multi-segment |
Model | X-T20 |
ModifyDate (1) | 2021:03:17 16:37:56+01:00 |
ModifyDate | 2021:03:17 16:37:56 |
PaintCorrectionActive | true |
PaintCorrectionAmount | 1.000000 |
PaintCorrectionBrightness | 0.000000 |
PaintCorrectionClarity2012 | 0.000000 |
PaintCorrectionContrast2012 | 0.000000 |
PaintCorrectionDefringe | 0.000000 |
PaintCorrectionExposure2012 (1) | -0.653193 |
PaintCorrectionExposure2012 | -0.861073 |
PaintCorrectionHighlights2012 | 0.041247 |
PaintCorrectionHue | 0.000000 |
PaintCorrectionLuminanceNoise | 0.000000 |
PaintCorrectionMaskCenterWeight | 0.119336 |
PaintCorrectionMaskFlow | 0.430546 |
PaintCorrectionMaskRadius (1) | 0.021086 |
PaintCorrectionMaskRadius | 0.045824 |
PaintCorrectionMaskValue | 0.528503 |
PaintCorrectionMaskWhat | Mask/Paint |
PaintCorrectionMoire | 0.000000 |
PaintCorrectionSaturation | 0.000000 |
PaintCorrectionShadows2012 | 0.421790 |
PaintCorrectionSharpness | 0.000000 |
PaintCorrectionTemperature | -0.002972 |
PaintCorrectionTint | 0.084409 |
PaintCorrectionWhat | Correction |
ParametricDarks | 0 |
ParametricHighlights | 0 |
ParametricHighlightSplit | 75 |
ParametricLights | 0 |
ParametricMidtoneSplit | 50 |
ParametricShadows | 0 |
ParametricShadowSplit | 25 |
PerspectiveAspect | 0 |
PerspectiveHorizontal | 0 |
PerspectiveRotate | 0.0 |
PerspectiveScale | 100 |
PerspectiveUpright | 0 |
PerspectiveVertical | 0 |
PostCropVignetteAmount | 0 |
ProcessVersion | 6.7 |
ProfileDescription | sRGB IEC61966-2.1 |
RedHue | 0 |
RedSaturation | 0 |
Saturation | +13 |
SaturationAdjustmentAqua | 0 |
SaturationAdjustmentBlue | 0 |
SaturationAdjustmentGreen | 0 |
SaturationAdjustmentMagenta | 0 |
SaturationAdjustmentOrange | 0 |
SaturationAdjustmentPurple | 0 |
SaturationAdjustmentRed | 0 |
SaturationAdjustmentYellow | 0 |
ScaleFactor35efl | 1.5 |
SceneCaptureType | Standard |
SceneType | Directly photographed |
SensingMethod | One-chip color area |
SensitivityType | Standard Output Sensitivity |
SerialNumber | 7CQ16194 |
Shadows2012 | +21 |
ShadowTint | 0 |
SharpenDetail | 33 |
SharpenEdgeMasking | 0 |
SharpenRadius | +0.7 |
Sharpness (1) | 41 |
Sharpness | Normal |
ShutterSpeed | 1/250 |
ShutterSpeedValue | 1/250 |
Software | Adobe Photoshop Lightroom 5.6 (Macintosh) |
SplitToningBalance | 0 |
SplitToningHighlightHue | 0 |
SplitToningHighlightSaturation | 0 |
SplitToningShadowHue | 0 |
SplitToningShadowSaturation | 0 |
SubjectDistanceRange | Unknown |
Tint | +20 |
ToneCurve | 0, 0, 255, 255 |
ToneCurveBlue | 0, 0, 255, 255 |
ToneCurveGreen | 0, 0, 255, 255 |
ToneCurveName | Linear |
ToneCurveName2012 | Linear |
ToneCurvePV2012 | 0, 0, 255, 255 |
ToneCurvePV2012Blue | 0, 0, 255, 255 |
ToneCurvePV2012Green | 0, 0, 255, 255 |
ToneCurvePV2012Red | 0, 0, 255, 255 |
ToneCurveRed | 0, 0, 255, 255 |
Version | 8.6 |
Vibrance | +14 |
VignetteAmount | 0 |
WhiteBalance (1) | As Shot |
WhiteBalance | Auto |
Whites2012 | +61 |