Felt | Verdi |
AlreadyApplied | True |
Aperture | 16.0 |
ApertureValue | 16.0 |
ApproximateFocusDistance | 2.16 |
AutoLateralCA | 1 |
AutoWhiteVersion | 134348800 |
BitsPerSample | 8 |
Blacks2012 | -22 |
BlueHue | 0 |
BlueSaturation | 0 |
CameraProfile | Adobe Standard |
CircleOfConfusion | 0.029 mm |
Clarity2012 | +5 |
ColorComponents | 3 |
ColorNoiseReduction | 62 |
ColorNoiseReductionDetail | 50 |
ColorNoiseReductionSmoothness | 60 |
ColorSpace | sRGB |
ColorTemperature | 4750 |
ColorTransform | YCbCr |
Contrast2012 | +18 |
ConvertToGrayscale | False |
CreateDate (1) | 2021:01:06 15:29:03.22 |
CreateDate | 2021:01:06 15:29:03 |
CreatorTool | Adobe Photoshop Lightroom 6.12 (Macintosh) |
CropAngle | 0 |
CropBottom | 1 |
CropConstrainToWarp | 0 |
CropLeft | 0.014369 |
CropRight | 0.997769 |
CropTop | 0.0166 |
CustomRendered | Normal |
DateCreated (1) | 2021:01:06 |
DateCreated | 2021:01:06 15:29:03.22 |
DateTimeOriginal | 2021:01:06 15:29:03 |
DefringeGreenAmount | 0 |
DefringeGreenHueHi | 60 |
DefringeGreenHueLo | 40 |
DefringePurpleAmount | 0 |
DefringePurpleHueHi | 70 |
DefringePurpleHueLo | 30 |
Dehaze | 0 |
DistortionCorrectionAlreadyApplied | True |
DOF | 1.34 m (1.68 - 3.02 m) |
Exposure2012 | +0.30 |
ExposureCompensation | 0 |
ExposureMode | Manual |
ExposureProgram | Manual |
ExposureTime | 1/60 |
Firmware | 1.0.4 |
Flash | Off, Did not fire |
FlashCompensation | 0 |
FNumber | 16.0 |
FocalLength | 59.0 mm |
FocalLength35efl | 59.0 mm (35 mm equivalent: 60.1 mm) |
Format | image/jpeg |
FOV | 33.3 deg |
GrainAmount | 0 |
GreenHue | 0 |
GreenSaturation | 0 |
HasCrop | True |
HasExtendedXMP | D9D8322D4353E9E4B2819ACE8CD07D2C |
HasSettings | True |
Highlights2012 | -53 |
HueAdjustmentAqua | 0 |
HueAdjustmentBlue | 0 |
HueAdjustmentGreen | 0 |
HueAdjustmentMagenta | 0 |
HueAdjustmentOrange | 0 |
HueAdjustmentPurple | 0 |
HueAdjustmentRed | 0 |
HueAdjustmentYellow | 0 |
HyperfocalDistance | 7.38 m |
ImageHeight | 4091 |
ImageNumber | 0 |
ImageSize | 6136x4091 |
ImageWidth | 6136 |
ISO | 100 |
LateralChromaticAberrationCorrectionAlreadyApplied | True |
Lens | EF24-70mm f/2.8L II USM |
LensID (1) | 495 |
LensID | Canon EF 24-70mm f/2.8L II USM |
LensInfo | 24-70mm f/? |
LensManualDistortionAmount | 0 |
LensModel | EF24-70mm f/2.8L II USM |
LensProfileChromaticAberrationScale | 100 |
LensProfileDistortionScale | 100 |
LensProfileEnable | 1 |
LensProfileFilename | Canon EOS 5D Mark II (Canon EF 24-70mm f2.8 L II USM) - RAW.lcp |
LensProfileName | Adobe (Canon EF 24-70mm f/2.8 L II USM) |
LensProfileSetup | LensDefaults |
LensProfileVignettingScale | 100 |
LensSerialNumber | 3630000901 |
LightValue | 13.9 |
LuminanceAdjustmentAqua | 0 |
LuminanceAdjustmentBlue | 0 |
LuminanceAdjustmentGreen | 0 |
LuminanceAdjustmentMagenta | 0 |
LuminanceAdjustmentOrange | 0 |
LuminanceAdjustmentPurple | 0 |
LuminanceAdjustmentRed | 0 |
LuminanceAdjustmentYellow | +7 |
LuminanceNoiseReductionContrast | 59 |
LuminanceNoiseReductionDetail | 50 |
LuminanceSmoothing | 59 |
Make | Canon |
MaxApertureValue | 2.8 |
Megapixels | 25.1 |
MeteringMode | Multi-segment |
Model | Canon EOS 6D Mark II |
ModifyDate (1) | 2021:01:10 21:47:11+01:00 |
ModifyDate | 2021:01:10 21:47:11 |
PaintCorrectionActive | true |
PaintCorrectionAmount | 1.000000 |
PaintCorrectionBrightness | 0.000000 |
PaintCorrectionClarity2012 (3) | 0.072402 |
PaintCorrectionClarity2012 (4) | 0.127453 |
PaintCorrectionClarity2012 (6) | 0.000000 |
PaintCorrectionClarity2012 | 0.138626 |
PaintCorrectionContrast2012 (2) | 0.365007 |
PaintCorrectionContrast2012 | 0.000000 |
PaintCorrectionDefringe | 0.000000 |
PaintCorrectionExposure2012 (1) | 0.118823 |
PaintCorrectionExposure2012 | 0.000000 |
PaintCorrectionHighlights2012 (1) | 0.491007 |
PaintCorrectionHighlights2012 (2) | 0.418241 |
PaintCorrectionHighlights2012 (3) | 0.222565 |
PaintCorrectionHighlights2012 (4) | 0.376090 |
PaintCorrectionHighlights2012 (5) | -0.542614 |
PaintCorrectionHighlights2012 (6) | -0.433949 |
PaintCorrectionHighlights2012 (7) | -0.520774 |
PaintCorrectionHighlights2012 | 0.281432 |
PaintCorrectionHue | 230.000000 |
PaintCorrectionLocalBlacks2012 (7) | 0.000000 |
PaintCorrectionLocalBlacks2012 | 0.356831 |
PaintCorrectionLocalDehaze | 0.000000 |
PaintCorrectionLocalWhites2012 (1) | 0.260901 |
PaintCorrectionLocalWhites2012 (2) | 0.235828 |
PaintCorrectionLocalWhites2012 (3) | 0.373365 |
PaintCorrectionLocalWhites2012 (4) | -0.490323 |
PaintCorrectionLocalWhites2012 (5) | -0.412731 |
PaintCorrectionLocalWhites2012 (6) | -0.473011 |
PaintCorrectionLocalWhites2012 (7) | 0.337391 |
PaintCorrectionLocalWhites2012 | 0.000000 |
PaintCorrectionLuminanceNoise | 0.000000 |
PaintCorrectionMaskCenterWeight | 0.158928 |
PaintCorrectionMaskFlow | 0.482104 |
PaintCorrectionMaskRadius (1) | 0.026312 |
PaintCorrectionMaskRadius (10) | 0.069314 |
PaintCorrectionMaskRadius (11) | 0.013381 |
PaintCorrectionMaskRadius (12) | 0.013380 |
PaintCorrectionMaskRadius (15) | 0.010630 |
PaintCorrectionMaskRadius (16) | 0.010623 |
PaintCorrectionMaskRadius (17) | 0.010635 |
PaintCorrectionMaskRadius (18) | 0.010650 |
PaintCorrectionMaskRadius (19) | 0.010667 |
PaintCorrectionMaskRadius (2) | 0.026677 |
PaintCorrectionMaskRadius (20) | 0.017859 |
PaintCorrectionMaskRadius (21) | 0.017893 |
PaintCorrectionMaskRadius (22) | 0.017993 |
PaintCorrectionMaskRadius (23) | 0.017868 |
PaintCorrectionMaskRadius (24) | 0.017966 |
PaintCorrectionMaskRadius (25) | 0.017854 |
PaintCorrectionMaskRadius (26) | 0.018023 |
PaintCorrectionMaskRadius (27) | 0.018076 |
PaintCorrectionMaskRadius (28) | 0.017879 |
PaintCorrectionMaskRadius (3) | 0.026625 |
PaintCorrectionMaskRadius (4) | 0.026492 |
PaintCorrectionMaskRadius (5) | 0.026346 |
PaintCorrectionMaskRadius (6) | 0.026339 |
PaintCorrectionMaskRadius (7) | 0.026396 |
PaintCorrectionMaskRadius (8) | 0.026380 |
PaintCorrectionMaskRadius (9) | 0.070889 |
PaintCorrectionMaskRadius | 0.018069 |
PaintCorrectionMaskValue | 0.396928 |
PaintCorrectionMaskWhat | Mask/Paint |
PaintCorrectionMoire | 0.000000 |
PaintCorrectionSaturation (3) | 0.040062 |
PaintCorrectionSaturation | 0.000000 |
PaintCorrectionShadows2012 (1) | 0.455033 |
PaintCorrectionShadows2012 (2) | -0.164335 |
PaintCorrectionShadows2012 | 0.000000 |
PaintCorrectionSharpness (2) | 0.078034 |
PaintCorrectionSharpness (4) | 0.164608 |
PaintCorrectionSharpness (5) | 0.000000 |
PaintCorrectionSharpness | 0.183957 |
PaintCorrectionTemperature | 0.000000 |
PaintCorrectionTint | 0.000000 |
PaintCorrectionWhat | Correction |
ParametricDarks | 0 |
ParametricHighlights | 0 |
ParametricHighlightSplit | 75 |
ParametricLights | 0 |
ParametricMidtoneSplit | 50 |
ParametricShadows | 0 |
ParametricShadowSplit | 25 |
PerspectiveAspect | 0 |
PerspectiveHorizontal | 0 |
PerspectiveRotate | 0.0 |
PerspectiveScale | 100 |
PerspectiveUpright | 1 |
PerspectiveVertical | 0 |
PerspectiveX | 0.00 |
PerspectiveY | 0.00 |
PostCropVignetteAmount | 0 |
ProcessVersion | 6.7 |
ProfileDescription | sRGB IEC61966-2.1 |
RecommendedExposureIndex | 100 |
RedHue | 0 |
RedSaturation | 0 |
Saturation | +10 |
SaturationAdjustmentAqua | 0 |
SaturationAdjustmentBlue | 0 |
SaturationAdjustmentGreen | 0 |
SaturationAdjustmentMagenta | 0 |
SaturationAdjustmentOrange | 0 |
SaturationAdjustmentPurple | 0 |
SaturationAdjustmentRed | 0 |
SaturationAdjustmentYellow | +4 |
ScaleFactor35efl | 1.0 |
SceneCaptureType | Standard |
SensitivityType | Recommended Exposure Index |
SerialNumber | 283052000091 |
Shadows2012 | +26 |
ShadowTint | 0 |
SharpenDetail | 53 |
SharpenEdgeMasking | 0 |
SharpenRadius | +1.0 |
Sharpness | 60 |
ShutterSpeed | 1/60 |
ShutterSpeedValue | 1/60 |
Software | Adobe Photoshop Lightroom 6.12 (Macintosh) |
SplitToningBalance | 0 |
SplitToningHighlightHue | 0 |
SplitToningHighlightSaturation | 0 |
SplitToningShadowHue | 0 |
SplitToningShadowSaturation | 0 |
Tint | +3 |
ToneCurve | 0, 0, 255, 255 |
ToneCurveBlue | 0, 0, 255, 255 |
ToneCurveGreen | 0, 0, 255, 255 |
ToneCurveName | Linear |
ToneCurveName2012 | Custom |
ToneCurvePV2012 | 0, 0, 132, 149, 255, 255 |
ToneCurvePV2012Blue | 0, 0, 255, 255 |
ToneCurvePV2012Green | 0, 0, 255, 255 |
ToneCurvePV2012Red | 0, 0, 255, 255 |
ToneCurveRed | 0, 0, 255, 255 |
ToneMapStrength | 0 |
Version | 9.12 |
Vibrance | +4 |
VignetteAmount | 0 |
VignetteCorrectionAlreadyApplied | True |
WhiteBalance (1) | As Shot |
WhiteBalance | Auto |
Whites2012 | +42 |