Felt | Verdi |
AlreadyApplied | True |
Aperture | 2.8 |
ApertureValue | 2.8 |
ApproximateFocusDistance | 4294967295 |
AutoLateralCA | 1 |
BitsPerSample | 8 |
Blacks2012 | 0 |
BlueHue | 0 |
BlueSaturation | 0 |
CameraProfile | Adobe Standard |
CFAPattern | [Red,Green][Green,Blue] |
CircleOfConfusion | 0.030 mm |
Clarity2012 | +5 |
ColorComponents | 3 |
ColorNoiseReduction | 50 |
ColorNoiseReductionDetail | 50 |
ColorNoiseReductionSmoothness | 50 |
ColorSpace | sRGB |
ColorTemperature | 4550 |
Contrast | Normal |
Contrast2012 | +20 |
ConvertToGrayscale | False |
CreateDate | 2020:09:28 20:17:45 |
CustomRendered | Normal |
DateCreated (1) | 2020:09:28 |
DateCreated | 2020:09:28 20:17:45.57+02:00 |
DateTimeOriginal | 2020:09:28 20:17:45 |
DefringeGreenAmount | 0 |
DefringeGreenHueHi | 60 |
DefringeGreenHueLo | 40 |
DefringePurpleAmount | 0 |
DefringePurpleHueHi | 70 |
DefringePurpleHueLo | 30 |
Dehaze | 0 |
DistortionCorrectionAlreadyApplied | True |
DOF | inf (6.85 m - inf) |
Exposure2012 | +0.05 |
ExposureCompensation | 0 |
ExposureMode | Manual |
ExposureProgram | Manual |
ExposureTime | 3 |
Flash | No Flash |
FNumber | 2.8 |
FocalLength | 24.0 mm |
FocalLengthIn35mmFormat | 24 mm |
Format | image/jpeg |
FOV | 73.7 deg |
GainControl | Low gain up |
GradientBasedCorrActive | true |
GradientBasedCorrAmount | 1.000000 |
GradientBasedCorrBrightness | 0.000000 |
GradientBasedCorrClarity2012 | 0.105260 |
GradientBasedCorrContrast2012 | 0.000000 |
GradientBasedCorrDefringe | 0.000000 |
GradientBasedCorrExposure2012 | -0.007500 |
GradientBasedCorrHighlights2012 | -0.087720 |
GradientBasedCorrHue | 0.000000 |
GradientBasedCorrLocalDehaze | 0.150000 |
GradientBasedCorrLocalHue | 0.000000 |
GradientBasedCorrLocalTexture | 0.000000 |
GradientBasedCorrLocalWhites2012 | 0.000000 |
GradientBasedCorrLuminanceNoise | 0.280700 |
GradientBasedCorrMaskFlow | 0.812000 |
GradientBasedCorrMaskFullX | 0.540727 |
GradientBasedCorrMaskFullY | 0.480714 |
GradientBasedCorrMaskRadius (1) | 0.122220 |
GradientBasedCorrMaskRadius (10) | 0.122365 |
GradientBasedCorrMaskRadius (105) | 0.033582 |
GradientBasedCorrMaskRadius (106) | 0.033550 |
GradientBasedCorrMaskRadius (107) | 0.033525 |
GradientBasedCorrMaskRadius (108) | 0.033510 |
GradientBasedCorrMaskRadius (109) | 0.033482 |
GradientBasedCorrMaskRadius (11) | 0.122349 |
GradientBasedCorrMaskRadius (110) | 0.033438 |
GradientBasedCorrMaskRadius (111) | 0.033387 |
GradientBasedCorrMaskRadius (112) | 0.033339 |
GradientBasedCorrMaskRadius (113) | 0.033350 |
GradientBasedCorrMaskRadius (115) | 0.033349 |
GradientBasedCorrMaskRadius (116) | 0.033351 |
GradientBasedCorrMaskRadius (117) | 0.064584 |
GradientBasedCorrMaskRadius (118) | 0.064550 |
GradientBasedCorrMaskRadius (119) | 0.064358 |
GradientBasedCorrMaskRadius (12) | 0.122315 |
GradientBasedCorrMaskRadius (120) | 0.064306 |
GradientBasedCorrMaskRadius (121) | 0.064291 |
GradientBasedCorrMaskRadius (122) | 0.064271 |
GradientBasedCorrMaskRadius (123) | 0.064261 |
GradientBasedCorrMaskRadius (124) | 0.064487 |
GradientBasedCorrMaskRadius (125) | 0.064831 |
GradientBasedCorrMaskRadius (126) | 0.064889 |
GradientBasedCorrMaskRadius (127) | 0.064919 |
GradientBasedCorrMaskRadius (13) | 0.122304 |
GradientBasedCorrMaskRadius (14) | 0.122283 |
GradientBasedCorrMaskRadius (15) | 0.122271 |
GradientBasedCorrMaskRadius (16) | 0.122260 |
GradientBasedCorrMaskRadius (17) | 0.122250 |
GradientBasedCorrMaskRadius (18) | 0.122229 |
GradientBasedCorrMaskRadius (19) | 0.122214 |
GradientBasedCorrMaskRadius (2) | 0.122197 |
GradientBasedCorrMaskRadius (20) | 0.122200 |
GradientBasedCorrMaskRadius (21) | 0.122198 |
GradientBasedCorrMaskRadius (22) | 0.122101 |
GradientBasedCorrMaskRadius (23) | 0.122228 |
GradientBasedCorrMaskRadius (24) | 0.122356 |
GradientBasedCorrMaskRadius (25) | 0.122436 |
GradientBasedCorrMaskRadius (26) | 0.122523 |
GradientBasedCorrMaskRadius (27) | 0.122608 |
GradientBasedCorrMaskRadius (28) | 0.122695 |
GradientBasedCorrMaskRadius (29) | 0.122750 |
GradientBasedCorrMaskRadius (3) | 0.122340 |
GradientBasedCorrMaskRadius (30) | 0.122801 |
GradientBasedCorrMaskRadius (31) | 0.122822 |
GradientBasedCorrMaskRadius (32) | 0.122818 |
GradientBasedCorrMaskRadius (33) | 0.122847 |
GradientBasedCorrMaskRadius (34) | 0.122916 |
GradientBasedCorrMaskRadius (35) | 0.122944 |
GradientBasedCorrMaskRadius (37) | 0.122963 |
GradientBasedCorrMaskRadius (38) | 0.122957 |
GradientBasedCorrMaskRadius (39) | 0.122885 |
GradientBasedCorrMaskRadius (4) | 0.122342 |
GradientBasedCorrMaskRadius (40) | 0.122810 |
GradientBasedCorrMaskRadius (41) | 0.122798 |
GradientBasedCorrMaskRadius (42) | 0.122784 |
GradientBasedCorrMaskRadius (43) | 0.122760 |
GradientBasedCorrMaskRadius (44) | 0.122700 |
GradientBasedCorrMaskRadius (45) | 0.122609 |
GradientBasedCorrMaskRadius (46) | 0.122548 |
GradientBasedCorrMaskRadius (48) | 0.122483 |
GradientBasedCorrMaskRadius (49) | 0.122435 |
GradientBasedCorrMaskRadius (5) | 0.122345 |
GradientBasedCorrMaskRadius (50) | 0.122382 |
GradientBasedCorrMaskRadius (51) | 0.122331 |
GradientBasedCorrMaskRadius (52) | 0.122277 |
GradientBasedCorrMaskRadius (53) | 0.122215 |
GradientBasedCorrMaskRadius (54) | 0.122132 |
GradientBasedCorrMaskRadius (55) | 0.122023 |
GradientBasedCorrMaskRadius (56) | 0.121892 |
GradientBasedCorrMaskRadius (57) | 0.121581 |
GradientBasedCorrMaskRadius (58) | 0.121198 |
GradientBasedCorrMaskRadius (59) | 0.121158 |
GradientBasedCorrMaskRadius (6) | 0.122347 |
GradientBasedCorrMaskRadius (60) | 0.064418 |
GradientBasedCorrMaskRadius (61) | 0.064424 |
GradientBasedCorrMaskRadius (62) | 0.064454 |
GradientBasedCorrMaskRadius (63) | 0.064496 |
GradientBasedCorrMaskRadius (64) | 0.064604 |
GradientBasedCorrMaskRadius (65) | 0.064652 |
GradientBasedCorrMaskRadius (66) | 0.064671 |
GradientBasedCorrMaskRadius (68) | 0.064672 |
GradientBasedCorrMaskRadius (69) | 0.053926 |
GradientBasedCorrMaskRadius (72) | 0.053933 |
GradientBasedCorrMaskRadius (73) | 0.053935 |
GradientBasedCorrMaskRadius (75) | 0.046869 |
GradientBasedCorrMaskRadius (77) | 0.046764 |
GradientBasedCorrMaskRadius (78) | 0.046766 |
GradientBasedCorrMaskRadius (79) | 0.046768 |
GradientBasedCorrMaskRadius (8) | 0.122364 |
GradientBasedCorrMaskRadius (80) | 0.046760 |
GradientBasedCorrMaskRadius (81) | 0.046748 |
GradientBasedCorrMaskRadius (82) | 0.046741 |
GradientBasedCorrMaskRadius (83) | 0.046734 |
GradientBasedCorrMaskRadius (85) | 0.046732 |
GradientBasedCorrMaskRadius (87) | 0.039902 |
GradientBasedCorrMaskRadius (88) | 0.039844 |
GradientBasedCorrMaskRadius (89) | 0.039794 |
GradientBasedCorrMaskRadius (9) | 0.122369 |
GradientBasedCorrMaskRadius (90) | 0.039749 |
GradientBasedCorrMaskRadius (91) | 0.039724 |
GradientBasedCorrMaskRadius (92) | 0.039709 |
GradientBasedCorrMaskRadius (93) | 0.039912 |
GradientBasedCorrMaskRadius (94) | 0.033495 |
GradientBasedCorrMaskRadius (95) | 0.033490 |
GradientBasedCorrMaskRadius (96) | 0.033463 |
GradientBasedCorrMaskRadius (97) | 0.033446 |
GradientBasedCorrMaskRadius (98) | 0.033541 |
GradientBasedCorrMaskRadius (99) | 0.033581 |
GradientBasedCorrMaskRadius | 0.064920 |
GradientBasedCorrMaskValue (1) | 1.000000 |
GradientBasedCorrMaskValue | 0.000000 |
GradientBasedCorrMaskWhat | Mask/Paint |
GradientBasedCorrMaskZeroX | 0.532828 |
GradientBasedCorrMaskZeroY | 0.792656 |
GradientBasedCorrMoire | 0.000000 |
GradientBasedCorrSaturation (1) | -0.087720 |
GradientBasedCorrSaturation | 0.000000 |
GradientBasedCorrShadows2012 | 0.000000 |
GradientBasedCorrSharpness | 0.000000 |
GradientBasedCorrTemperature | 0.000000 |
GradientBasedCorrTint | 0.000000 |
GradientBasedCorrWhat | Correction |
GrainAmount | 0 |
GreenHue | 0 |
GreenSaturation | 0 |
HasCrop | False |
HasSettings | True |
Highlights2012 | 0 |
HueAdjustmentAqua | 0 |
HueAdjustmentBlue | 0 |
HueAdjustmentGreen | 0 |
HueAdjustmentMagenta | 0 |
HueAdjustmentOrange | 0 |
HueAdjustmentPurple | 0 |
HueAdjustmentRed | 0 |
HueAdjustmentYellow | 0 |
HyperfocalDistance | 6.85 m |
ImageHeight | 1706 |
ImageNumber | 60560 |
ImageSize | 2560x1706 |
ImageWidth | 2560 |
ISO | 2000 |
Lens | 14.0-24.0 mm f/2.8 |
LensID (1) | 146 |
LensID | AF-S Zoom-Nikkor 14-24mm f/2.8G ED |
LensInfo | 14-24mm f/2.8 |
LensManualDistortionAmount | 0 |
LensModel | 14.0-24.0 mm f/2.8 |
LensProfileChromaticAberrationScale | 100 |
LensProfileDistortionScale | 100 |
LensProfileEnable | 1 |
LensProfileIsEmbedded | False |
LensProfileSetup | LensDefaults |
LensProfileVignettingScale | 100 |
LightSource | Unknown |
LightValue | -2.9 |
LookAmount | 1.000000 |
LookGroup | Profiles |
LookName | Adobe Color |
LookParametersCameraProfile | Adobe Standard |
LookParametersConvertToGrayscale | False |
LookParametersLookTable | E1095149FDB39D7A057BAB208837E2E1 |
LookParametersProcessVersion | 11.0 |
LookParametersToneCurvePV2012 | 0, 0, 22, 16, 40, 35, 127, 127, 224, 230, 240, 246, 255, 255 |
LookParametersToneCurvePV2012Blue | 0, 0, 255, 255 |
LookParametersToneCurvePV2012Green | 0, 0, 255, 255 |
LookParametersToneCurvePV2012Red | 0, 0, 255, 255 |
LookParametersVersion | 12.4 |
LookSupportsAmount | false |
LookSupportsMonochrome | false |
LookSupportsOutputReferred | false |
LuminanceAdjustmentAqua | +16 |
LuminanceAdjustmentBlue | 0 |
LuminanceAdjustmentGreen | +13 |
LuminanceAdjustmentMagenta | 0 |
LuminanceAdjustmentOrange | 0 |
LuminanceAdjustmentPurple | 0 |
LuminanceAdjustmentRed | 0 |
LuminanceAdjustmentYellow | 0 |
LuminanceNoiseReductionContrast | 0 |
LuminanceNoiseReductionDetail | 50 |
LuminanceSmoothing | 26 |
Make | NIKON CORPORATION |
MaxApertureValue | 2.8 |
Megapixels | 4.4 |
MeteringMode | Multi-segment |
Model | NIKON D5 |
ModifyDate (1) | 2020:09:29 19:30:00+02:00 |
ModifyDate | 2020:09:29 19:30:00 |
Orientation | Horizontal (normal) |
OverrideLookVignette | False |
PaintCorrectionActive | true |
PaintCorrectionAmount | 1.000000 |
PaintCorrectionBrightness | 0.000000 |
PaintCorrectionClarity2012 | 0.000000 |
PaintCorrectionContrast2012 | 0.000000 |
PaintCorrectionCorrectionRangeMaskType | 0 |
PaintCorrectionDefringe | 0.000000 |
PaintCorrectionExposure2012 (1) | 0.042750 |
PaintCorrectionExposure2012 (2) | -0.035000 |
PaintCorrectionExposure2012 (3) | 0.070250 |
PaintCorrectionExposure2012 | 0.000000 |
PaintCorrectionHighlights2012 | 0.000000 |
PaintCorrectionHue | 0.000000 |
PaintCorrectionLocalBlacks2012 | 0.000000 |
PaintCorrectionLocalDehaze | 0.000000 |
PaintCorrectionLocalHue | 0.000000 |
PaintCorrectionLocalTexture | 0.000000 |
PaintCorrectionLocalWhites2012 | 0.000000 |
PaintCorrectionLuminanceNoise | 0.000000 |
PaintCorrectionMaskCenterWeight | 0.124420 |
PaintCorrectionMaskFlow (6) | 0.812000 |
PaintCorrectionMaskFlow | 0.850000 |
PaintCorrectionMaskRadius (1) | 0.037027 |
PaintCorrectionMaskRadius (10) | 0.054118 |
PaintCorrectionMaskRadius (11) | 0.032952 |
PaintCorrectionMaskRadius (12) | 0.032924 |
PaintCorrectionMaskRadius (13) | 0.037219 |
PaintCorrectionMaskRadius (14) | 0.027623 |
PaintCorrectionMaskRadius (15) | 0.036935 |
PaintCorrectionMaskRadius (2) | 0.036997 |
PaintCorrectionMaskRadius (3) | 0.036992 |
PaintCorrectionMaskRadius (4) | 0.027496 |
PaintCorrectionMaskRadius (5) | 0.017399 |
PaintCorrectionMaskRadius (6) | 0.034011 |
PaintCorrectionMaskRadius (7) | 0.011700 |
PaintCorrectionMaskRadius (8) | 0.062043 |
PaintCorrectionMaskRadius (9) | 0.068560 |
PaintCorrectionMaskRadius | 0.032541 |
PaintCorrectionMaskValue (6) | 0.000000 |
PaintCorrectionMaskValue | 1.000000 |
PaintCorrectionMaskWhat | Mask/Paint |
PaintCorrectionMoire | 0.000000 |
PaintCorrectionSaturation (3) | -0.473680 |
PaintCorrectionSaturation (7) | 0.175440 |
PaintCorrectionSaturation | 0.000000 |
PaintCorrectionShadows2012 (3) | 0.070180 |
PaintCorrectionShadows2012 | 0.000000 |
PaintCorrectionSharpness | 0.000000 |
PaintCorrectionTemperature (2) | -0.263160 |
PaintCorrectionTemperature | 0.000000 |
PaintCorrectionTint | 0.000000 |
PaintCorrectionWhat | Correction |
ParametricDarks | 0 |
ParametricHighlights | 0 |
ParametricHighlightSplit | 75 |
ParametricLights | +3 |
ParametricMidtoneSplit | 50 |
ParametricShadows | +2 |
ParametricShadowSplit | 25 |
PerspectiveAspect | 0 |
PerspectiveHorizontal | 0 |
PerspectiveRotate | 0.0 |
PerspectiveScale | 103 |
PerspectiveUpright | 0 |
PerspectiveVertical | 0 |
PerspectiveX | 0.00 |
PerspectiveY | 0.00 |
PostCropVignetteAmount | 0 |
PreservedFileName | _SAN1831.NEF |
ProcessVersion | 11.0 |
ProfileDescription | sRGB IEC61966-2.1 |
RawFileName | _SAN1831.NEF |
RecommendedExposureIndex | 2000 |
RedHue | 0 |
RedSaturation | 0 |
Saturation (1) | 0 |
Saturation | Normal |
SaturationAdjustmentAqua | -15 |
SaturationAdjustmentBlue | 0 |
SaturationAdjustmentGreen | -15 |
SaturationAdjustmentMagenta | 0 |
SaturationAdjustmentOrange | 0 |
SaturationAdjustmentPurple | 0 |
SaturationAdjustmentRed | 0 |
SaturationAdjustmentYellow | 0 |
ScaleFactor35efl | 1.0 |
SceneCaptureType | Landscape |
SceneType | Directly photographed |
SensingMethod | One-chip color area |
SensitivityType | Recommended Exposure Index |
SerialNumber | 6007761 |
Shadows2012 | +40 |
ShadowTint | 0 |
SharpenDetail | 27 |
SharpenEdgeMasking | 69 |
SharpenRadius | +1.0 |
Sharpness (1) | 42 |
Sharpness | Normal |
ShutterSpeed | 3 |
ShutterSpeedValue | 3 |
SplitToningBalance | 0 |
SplitToningHighlightHue | 0 |
SplitToningHighlightSaturation | 0 |
SplitToningShadowHue | 0 |
SplitToningShadowSaturation | 0 |
SubjectDistanceRange | Unknown |
Texture | 0 |
Tint | +2 |
ToneCurve | 0, 0, 255, 255 |
ToneCurveBlue | 0, 0, 255, 255 |
ToneCurveGreen | 0, 0, 255, 255 |
ToneCurveName | Linear |
ToneCurveName2012 | Linear |
ToneCurvePV2012 | 0, 0, 255, 255 |
ToneCurvePV2012Blue | 0, 0, 255, 255 |
ToneCurvePV2012Green | 0, 0, 255, 255 |
ToneCurvePV2012Red | 0, 0, 255, 255 |
ToneCurveRed | 0, 0, 255, 255 |
ToneMapStrength | 0 |
Version | 12.4 |
Vibrance | 0 |
VignetteAmount | 0 |
VignetteCorrectionAlreadyApplied | True |
WhiteBalance (1) | As Shot |
WhiteBalance | Manual |
Whites2012 | 0 |