Felt | Verdi |
AlreadyApplied | True |
Aperture | 16.0 |
ApertureValue | 16.0 |
ApproximateFocusDistance | 4294967295 |
AutoLateralCA | 1 |
AutoWhiteVersion | 134348800 |
BitsPerSample | 8 |
Blacks2012 | -28 |
BlueHue | 0 |
BlueSaturation | 0 |
CameraProfile | Adobe Standard |
CircleOfConfusion | 0.023 mm |
Clarity2012 | +9 |
ColorComponents | 3 |
ColorNoiseReduction | 64 |
ColorNoiseReductionDetail | 50 |
ColorNoiseReductionSmoothness | 66 |
ColorSpace | sRGB |
ColorTemperature | 5050 |
ColorTransform | YCbCr |
Contrast2012 | 0 |
ConvertToGrayscale | True |
CreateDate (1) | 2020:08:30 12:46:47.46 |
CreateDate | 2020:08:30 12:46:47 |
CreatorTool | Adobe Photoshop Lightroom 6.12 (Macintosh) |
CropAngle | -1.81641 |
CropBottom | 0.78487 |
CropConstrainToWarp | 1 |
CropLeft | 0 |
CropRight | 0.771938 |
CropTop | 0.064876 |
CustomRendered | Normal |
DateCreated (1) | 2020:08:30 |
DateCreated | 2020:08:30 12:46:47.46 |
DateTimeOriginal | 2020:08:30 12:46:47 |
Dehaze | 0 |
DistortionCorrectionAlreadyApplied | True |
DOF | inf (0.71 m - inf) |
Exposure2012 | -0.20 |
ExposureCompensation | 0 |
ExposureMode | Manual |
ExposureProgram | Manual |
ExposureTime | 1/160 |
Firmware | 1.0.4 |
Flash | Off, Did not fire |
FlashCompensation | 0 |
FNumber | 16.0 |
FocalLength | 16.0 mm |
FocalLength35efl | 16.0 mm (35 mm equivalent: 21.2 mm) |
Format | image/jpeg |
FOV | 80.7 deg |
GrainAmount | 0 |
GrayMixerAqua | -18 |
GrayMixerBlue | +10 |
GrayMixerGreen | -27 |
GrayMixerMagenta | +4 |
GrayMixerOrange | -19 |
GrayMixerPurple | +16 |
GrayMixerRed | -10 |
GrayMixerYellow | -23 |
GreenHue | 0 |
GreenSaturation | 0 |
HasCrop | True |
HasSettings | True |
Highlights2012 | -32 |
HyperfocalDistance | 0.71 m |
ImageHeight | 3147 |
ImageNumber | 0 |
ImageSize | 4720x3147 |
ImageWidth | 4720 |
ISO | 100 |
LateralChromaticAberrationCorrectionAlreadyApplied | True |
Lens | EF16-35mm f/4L IS USM |
LensID (1) | 507 |
LensID | Canon EF 16-35mm f/4L IS USM |
LensInfo | 16-35mm f/? |
LensManualDistortionAmount | 0 |
LensModel | EF16-35mm f/4L IS USM |
LensProfileChromaticAberrationScale | 100 |
LensProfileDistortionScale | 100 |
LensProfileEnable | 1 |
LensProfileFilename | Canon EOS-1Ds Mark III (Canon EF 16-35mm f4L IS USM v2) - RAW.lcp |
LensProfileName | Adobe (Canon EF 16-35mm f/4L IS USM) v2 |
LensProfileSetup | LensDefaults |
LensProfileVignettingScale | 100 |
LensSerialNumber | 8090002002 |
LightValue | 15.3 |
LuminanceNoiseReductionContrast | 67 |
LuminanceNoiseReductionDetail | 50 |
LuminanceSmoothing | 61 |
Make | Canon |
MaxApertureValue | 4.0 |
Megapixels | 14.9 |
MeteringMode | Multi-segment |
Model | Canon EOS 6D Mark II |
ModifyDate (1) | 2020:08:31 22:46:27+02:00 |
ModifyDate | 2020:08:31 22:46:27 |
PaintCorrectionActive | true |
PaintCorrectionAmount | 1.000000 |
PaintCorrectionBrightness | 0.000000 |
PaintCorrectionClarity2012 (1) | -0.314135 |
PaintCorrectionClarity2012 (2) | 0.396348 |
PaintCorrectionClarity2012 (3) | 0.152253 |
PaintCorrectionClarity2012 (4) | 0.156159 |
PaintCorrectionClarity2012 | 0.000000 |
PaintCorrectionContrast2012 (2) | 0.686228 |
PaintCorrectionContrast2012 (4) | 0.330487 |
PaintCorrectionContrast2012 (5) | 0.000000 |
PaintCorrectionContrast2012 | 0.229924 |
PaintCorrectionDefringe | 0.000000 |
PaintCorrectionExposure2012 (1) | 0.495912 |
PaintCorrectionExposure2012 (2) | -0.332940 |
PaintCorrectionExposure2012 (3) | -0.254815 |
PaintCorrectionExposure2012 | 0.000000 |
PaintCorrectionHighlights2012 (2) | -0.613281 |
PaintCorrectionHighlights2012 (3) | -0.361950 |
PaintCorrectionHighlights2012 (4) | 0.182958 |
PaintCorrectionHighlights2012 (5) | 0.376635 |
PaintCorrectionHighlights2012 | 0.000000 |
PaintCorrectionHue | 230.000000 |
PaintCorrectionLocalBlacks2012 (1) | -0.377453 |
PaintCorrectionLocalBlacks2012 (2) | -0.521530 |
PaintCorrectionLocalBlacks2012 (4) | 0.000000 |
PaintCorrectionLocalBlacks2012 | 0.506177 |
PaintCorrectionLocalDehaze | 0.000000 |
PaintCorrectionLocalWhites2012 (1) | 0.099927 |
PaintCorrectionLocalWhites2012 (2) | 0.000000 |
PaintCorrectionLocalWhites2012 (3) | 0.248092 |
PaintCorrectionLocalWhites2012 (4) | 0.314317 |
PaintCorrectionLocalWhites2012 (5) | 0.179324 |
PaintCorrectionLocalWhites2012 | 0.195131 |
PaintCorrectionLuminanceNoise | 0.000000 |
PaintCorrectionMaskCenterWeight | 0.158928 |
PaintCorrectionMaskFlow | 0.482104 |
PaintCorrectionMaskRadius (1) | 0.118721 |
PaintCorrectionMaskRadius (10) | 0.031549 |
PaintCorrectionMaskRadius (11) | 0.018724 |
PaintCorrectionMaskRadius (12) | 0.027386 |
PaintCorrectionMaskRadius (13) | 0.025760 |
PaintCorrectionMaskRadius (14) | 0.013781 |
PaintCorrectionMaskRadius (15) | 0.014066 |
PaintCorrectionMaskRadius (16) | 0.014332 |
PaintCorrectionMaskRadius (2) | 0.039129 |
PaintCorrectionMaskRadius (3) | 0.024208 |
PaintCorrectionMaskRadius (4) | 0.023866 |
PaintCorrectionMaskRadius (5) | 0.149209 |
PaintCorrectionMaskRadius (6) | 0.144175 |
PaintCorrectionMaskRadius (7) | 0.045301 |
PaintCorrectionMaskRadius (8) | 0.138259 |
PaintCorrectionMaskRadius (9) | 0.029834 |
PaintCorrectionMaskRadius | 0.015691 |
PaintCorrectionMaskValue | 0.396928 |
PaintCorrectionMaskWhat | Mask/Paint |
PaintCorrectionMoire | 0.000000 |
PaintCorrectionSaturation (1) | 0.435138 |
PaintCorrectionSaturation | 0.000000 |
PaintCorrectionShadows2012 (1) | 0.477834 |
PaintCorrectionShadows2012 (2) | -0.286610 |
PaintCorrectionShadows2012 (3) | -0.659157 |
PaintCorrectionShadows2012 (5) | 0.000000 |
PaintCorrectionShadows2012 | 0.323401 |
PaintCorrectionSharpness (2) | 0.190589 |
PaintCorrectionSharpness | 0.000000 |
PaintCorrectionTemperature | 0.000000 |
PaintCorrectionTint | 0.000000 |
PaintCorrectionWhat | Correction |
ParametricDarks | 0 |
ParametricHighlights | 0 |
ParametricHighlightSplit | 75 |
ParametricLights | 0 |
ParametricMidtoneSplit | 50 |
ParametricShadows | 0 |
ParametricShadowSplit | 25 |
PerspectiveAspect | 0 |
PerspectiveHorizontal | 0 |
PerspectiveRotate | +1.8 |
PerspectiveScale | 100 |
PerspectiveUpright | 0 |
PerspectiveVertical | -6 |
PerspectiveX | 0.00 |
PerspectiveY | 0.00 |
PostCropVignetteAmount | 0 |
ProcessVersion | 6.7 |
ProfileDescription | sRGB IEC61966-2.1 |
RecommendedExposureIndex | 100 |
RedHue | 0 |
RedSaturation | 0 |
ScaleFactor35efl | 1.3 |
SceneCaptureType | Standard |
SensitivityType | Recommended Exposure Index |
SerialNumber | 283052000091 |
Shadows2012 | +5 |
ShadowTint | 0 |
SharpenDetail | 57 |
SharpenEdgeMasking | 0 |
SharpenRadius | +1.0 |
Sharpness | 64 |
ShutterSpeed | 1/160 |
ShutterSpeedValue | 1/160 |
Software | Adobe Photoshop Lightroom 6.12 (Macintosh) |
SplitToningBalance | 0 |
SplitToningHighlightHue | 0 |
SplitToningHighlightSaturation | 0 |
SplitToningShadowHue | 0 |
SplitToningShadowSaturation | 0 |
Tint | +8 |
ToneCurve | 0, 0, 255, 255 |
ToneCurveBlue | 0, 0, 255, 255 |
ToneCurveGreen | 0, 0, 255, 255 |
ToneCurveName | Linear |
ToneCurveName2012 | Custom |
ToneCurvePV2012 | 0, 0, 71, 86, 141, 151, 211, 210, 255, 255 |
ToneCurvePV2012Blue | 0, 0, 255, 255 |
ToneCurvePV2012Green | 0, 0, 255, 255 |
ToneCurvePV2012Red | 0, 0, 255, 255 |
ToneCurveRed | 0, 0, 255, 255 |
ToneMapStrength | 0 |
Version | 9.12 |
VignetteAmount | 0 |
VignetteCorrectionAlreadyApplied | True |
WhiteBalance (1) | As Shot |
WhiteBalance | Manual |
Whites2012 | +8 |