Felt | Verdi |
AlreadyApplied | True |
Aperture | 22.0 |
ApertureValue | 22.0 |
ApproximateFocusDistance | 4294967295 |
AutoLateralCA | 1 |
AutoWhiteVersion | 134348800 |
BitsPerSample | 8 |
Blacks2012 | +16 |
BlueHue | 0 |
BlueSaturation | 0 |
CameraProfile | Adobe Standard |
CircleOfConfusion | 0.022 mm |
Clarity2012 | +7 |
ColorComponents | 3 |
ColorNoiseReduction | 59 |
ColorNoiseReductionDetail | 50 |
ColorNoiseReductionSmoothness | 75 |
ColorSpace | sRGB |
ColorTemperature | 5800 |
ColorTransform | YCbCr |
Contrast2012 | +12 |
ConvertToGrayscale | False |
CreateDate (1) | 2020:07:11 18:32:29.03 |
CreateDate | 2020:07:11 18:32:29 |
CreatorTool | Adobe Photoshop Lightroom 6.12 (Macintosh) |
CropAngle | 0 |
CropBottom | 0.736795 |
CropConstrainToWarp | 0 |
CropLeft | 0.077667 |
CropRight | 0.812704 |
CropTop | 0.001758 |
CustomRendered | Normal |
DateCreated (1) | 2020:07:11 |
DateCreated | 2020:07:11 18:32:29.03 |
DateTimeOriginal | 2020:07:11 18:32:29 |
DefringeGreenAmount | 0 |
DefringeGreenHueHi | 60 |
DefringeGreenHueLo | 40 |
DefringePurpleAmount | 0 |
DefringePurpleHueHi | 70 |
DefringePurpleHueLo | 30 |
Dehaze | 0 |
DistortionCorrectionAlreadyApplied | True |
DOF | inf (1.62 m - inf) |
Exposure2012 | -0.25 |
ExposureCompensation | 0 |
ExposureMode | Manual |
ExposureProgram | Manual |
ExposureTime | 3.2 |
Firmware | 1.0.4 |
Flash | Off, Did not fire |
FlashCompensation | 0 |
FNumber | 22.0 |
FocalLength | 28.0 mm |
FocalLength35efl | 28.0 mm (35 mm equivalent: 38.2 mm) |
Format | image/jpeg |
FOV | 50.5 deg |
GrainAmount | 0 |
GreenHue | 0 |
GreenSaturation | 0 |
HasCrop | True |
HasSettings | True |
Highlights2012 | -28 |
HueAdjustmentAqua | 0 |
HueAdjustmentBlue | 0 |
HueAdjustmentGreen | 0 |
HueAdjustmentMagenta | 0 |
HueAdjustmentOrange | 0 |
HueAdjustmentPurple | 0 |
HueAdjustmentRed | 0 |
HueAdjustmentYellow | 0 |
HyperfocalDistance | 1.62 m |
ImageHeight | 3058 |
ImageNumber | 0 |
ImageSize | 4587x3058 |
ImageWidth | 4587 |
ISO | 100 |
LateralChromaticAberrationCorrectionAlreadyApplied | True |
Lens | EF24-70mm f/2.8L II USM |
LensID (1) | 495 |
LensID | Canon EF 24-70mm f/2.8L II USM |
LensInfo | 24-70mm f/? |
LensManualDistortionAmount | 0 |
LensModel | EF24-70mm f/2.8L II USM |
LensProfileChromaticAberrationScale | 100 |
LensProfileDistortionScale | 100 |
LensProfileEnable | 1 |
LensProfileFilename | Canon EOS 5D Mark II (Canon EF 24-70mm f2.8 L II USM) - RAW.lcp |
LensProfileName | Adobe (Canon EF 24-70mm f/2.8 L II USM) |
LensProfileSetup | LensDefaults |
LensProfileVignettingScale | 100 |
LensSerialNumber | 3630000901 |
LightValue | 7.2 |
LuminanceAdjustmentAqua | 0 |
LuminanceAdjustmentBlue | 0 |
LuminanceAdjustmentGreen | 0 |
LuminanceAdjustmentMagenta | 0 |
LuminanceAdjustmentOrange | 0 |
LuminanceAdjustmentPurple | 0 |
LuminanceAdjustmentRed | 0 |
LuminanceAdjustmentYellow | 0 |
LuminanceNoiseReductionContrast | 68 |
LuminanceNoiseReductionDetail | 50 |
LuminanceSmoothing | 63 |
Make | Canon |
MaxApertureValue | 2.8 |
Megapixels | 14.0 |
MeteringMode | Multi-segment |
Model | Canon EOS 6D Mark II |
ModifyDate (1) | 2020:07:10 21:20:30+02:00 |
ModifyDate | 2020:07:10 21:20:30 |
PaintCorrectionActive | true |
PaintCorrectionAmount | 1.000000 |
PaintCorrectionBrightness | 0.000000 |
PaintCorrectionClarity2012 (2) | 0.372603 |
PaintCorrectionClarity2012 (4) | 0.000000 |
PaintCorrectionClarity2012 (5) | 0.219023 |
PaintCorrectionClarity2012 (6) | 0.181050 |
PaintCorrectionClarity2012 | 0.135810 |
PaintCorrectionContrast2012 (2) | 0.312318 |
PaintCorrectionContrast2012 | 0.000000 |
PaintCorrectionDefringe | 0.000000 |
PaintCorrectionExposure2012 (1) | 0.350745 |
PaintCorrectionExposure2012 (2) | -0.251598 |
PaintCorrectionExposure2012 (4) | 0.181777 |
PaintCorrectionExposure2012 (5) | 0.270167 |
PaintCorrectionExposure2012 (6) | 0.057594 |
PaintCorrectionExposure2012 | 0.000000 |
PaintCorrectionHighlights2012 (1) | 0.399982 |
PaintCorrectionHighlights2012 (3) | -0.565785 |
PaintCorrectionHighlights2012 (5) | 0.209030 |
PaintCorrectionHighlights2012 (6) | 0.389262 |
PaintCorrectionHighlights2012 | 0.000000 |
PaintCorrectionHue | 230.000000 |
PaintCorrectionLocalBlacks2012 (1) | -0.312855 |
PaintCorrectionLocalBlacks2012 (2) | 0.000000 |
PaintCorrectionLocalBlacks2012 (3) | 0.192406 |
PaintCorrectionLocalBlacks2012 (6) | 0.250273 |
PaintCorrectionLocalBlacks2012 | 0.287972 |
PaintCorrectionLocalDehaze | 0.000000 |
PaintCorrectionLocalWhites2012 (1) | 0.217951 |
PaintCorrectionLocalWhites2012 (3) | 0.000000 |
PaintCorrectionLocalWhites2012 (4) | 0.358739 |
PaintCorrectionLocalWhites2012 (5) | 0.220294 |
PaintCorrectionLocalWhites2012 | 0.287882 |
PaintCorrectionLuminanceNoise | 0.000000 |
PaintCorrectionMaskCenterWeight | 0.158928 |
PaintCorrectionMaskFlow | 0.482104 |
PaintCorrectionMaskRadius (1) | 0.139036 |
PaintCorrectionMaskRadius (10) | 0.015530 |
PaintCorrectionMaskRadius (11) | 0.015422 |
PaintCorrectionMaskRadius (12) | 0.194462 |
PaintCorrectionMaskRadius (13) | 0.195174 |
PaintCorrectionMaskRadius (14) | 0.098973 |
PaintCorrectionMaskRadius (15) | 0.097101 |
PaintCorrectionMaskRadius (16) | 0.097639 |
PaintCorrectionMaskRadius (17) | 0.070957 |
PaintCorrectionMaskRadius (18) | 0.026814 |
PaintCorrectionMaskRadius (19) | 0.027007 |
PaintCorrectionMaskRadius (2) | 0.044690 |
PaintCorrectionMaskRadius (20) | 0.014804 |
PaintCorrectionMaskRadius (21) | 0.009728 |
PaintCorrectionMaskRadius (22) | 0.005042 |
PaintCorrectionMaskRadius (23) | 0.005078 |
PaintCorrectionMaskRadius (24) | 0.020078 |
PaintCorrectionMaskRadius (25) | 0.022034 |
PaintCorrectionMaskRadius (26) | 0.022444 |
PaintCorrectionMaskRadius (27) | 0.022478 |
PaintCorrectionMaskRadius (28) | 0.022487 |
PaintCorrectionMaskRadius (29) | 0.039180 |
PaintCorrectionMaskRadius (3) | 0.044060 |
PaintCorrectionMaskRadius (4) | 0.044621 |
PaintCorrectionMaskRadius (5) | 0.024889 |
PaintCorrectionMaskRadius (6) | 0.024675 |
PaintCorrectionMaskRadius (7) | 0.024704 |
PaintCorrectionMaskRadius (8) | 0.024767 |
PaintCorrectionMaskRadius (9) | 0.015676 |
PaintCorrectionMaskRadius | 0.038829 |
PaintCorrectionMaskValue | 0.396928 |
PaintCorrectionMaskWhat | Mask/Paint |
PaintCorrectionMoire | 0.000000 |
PaintCorrectionSaturation (1) | 0.482013 |
PaintCorrectionSaturation (11) | 0.397620 |
PaintCorrectionSaturation (13) | 0.303688 |
PaintCorrectionSaturation (9) | 0.344204 |
PaintCorrectionSaturation | 0.000000 |
PaintCorrectionShadows2012 (1) | 0.416243 |
PaintCorrectionShadows2012 (2) | -0.527788 |
PaintCorrectionShadows2012 (3) | 0.000000 |
PaintCorrectionShadows2012 (4) | 0.254542 |
PaintCorrectionShadows2012 | 0.267351 |
PaintCorrectionSharpness (2) | 0.000000 |
PaintCorrectionSharpness (5) | 0.166243 |
PaintCorrectionSharpness (6) | 0.145440 |
PaintCorrectionSharpness | 0.174964 |
PaintCorrectionTemperature | 0.000000 |
PaintCorrectionTint | 0.000000 |
PaintCorrectionWhat | Correction |
ParametricDarks | 0 |
ParametricHighlights | 0 |
ParametricHighlightSplit | 75 |
ParametricLights | 0 |
ParametricMidtoneSplit | 50 |
ParametricShadows | 0 |
ParametricShadowSplit | 25 |
PerspectiveAspect | 0 |
PerspectiveHorizontal | 0 |
PerspectiveRotate | 0.0 |
PerspectiveScale | 100 |
PerspectiveUpright | 1 |
PerspectiveVertical | 0 |
PerspectiveX | 0.00 |
PerspectiveY | 0.00 |
PostCropVignetteAmount | 0 |
ProcessVersion | 6.7 |
ProfileDescription | sRGB IEC61966-2.1 |
RecommendedExposureIndex | 100 |
RedHue | 0 |
RedSaturation | 0 |
Saturation | +10 |
SaturationAdjustmentAqua | 0 |
SaturationAdjustmentBlue | 0 |
SaturationAdjustmentGreen | 0 |
SaturationAdjustmentMagenta | 0 |
SaturationAdjustmentOrange | 0 |
SaturationAdjustmentPurple | 0 |
SaturationAdjustmentRed | 0 |
SaturationAdjustmentYellow | 0 |
ScaleFactor35efl | 1.4 |
SceneCaptureType | Standard |
SensitivityType | Recommended Exposure Index |
SerialNumber | 283052000091 |
Shadows2012 | +10 |
ShadowTint | 0 |
SharpenDetail | 58 |
SharpenEdgeMasking | 0 |
SharpenRadius | +1.0 |
Sharpness | 83 |
ShutterSpeed | 3.2 |
ShutterSpeedValue | 3.2 |
Software | Adobe Photoshop Lightroom 6.12 (Macintosh) |
SplitToningBalance | 0 |
SplitToningHighlightHue | 0 |
SplitToningHighlightSaturation | 0 |
SplitToningShadowHue | 0 |
SplitToningShadowSaturation | 0 |
Tint | +10 |
ToneCurve | 0, 0, 255, 255 |
ToneCurveBlue | 0, 0, 255, 255 |
ToneCurveGreen | 0, 0, 255, 255 |
ToneCurveName | Linear |
ToneCurveName2012 | Custom |
ToneCurvePV2012 | 0, 0, 74, 73, 132, 124, 183, 183, 255, 255 |
ToneCurvePV2012Blue | 0, 0, 255, 255 |
ToneCurvePV2012Green | 0, 0, 255, 255 |
ToneCurvePV2012Red | 0, 0, 255, 255 |
ToneCurveRed | 0, 0, 255, 255 |
ToneMapStrength | 0 |
Version | 9.12 |
Vibrance | +8 |
VignetteAmount | 0 |
VignetteCorrectionAlreadyApplied | True |
WhiteBalance (1) | As Shot |
WhiteBalance | Manual |
Whites2012 | -9 |