Felt | Verdi |
ApertureValue (1) | 11.0 |
AutoLateralCA | 0 |
AutoWhiteVersion | 134348800 |
By-line | YngveSPhoto Mob 90642102 |
ColorSpace (1) | Uncalibrated |
Contrast2012 | +18 |
CopyrightNotice | Mail:yngves@me.com |
CreateDate (1) | 2020:05:08 12:59:37+02:00 |
CreatorTool | Windows Photo Editor 10.0.10011.16384 |
CustomRendered | Normal |
DateCreated | 2020:05:08 |
DateTimeOriginal (1) | 2020:05:08 12:59:37+02:00 |
DateTimeOriginal | 2020:05:08 12:59:37 |
DefringeGreenAmount | 0 |
DefringePurpleHueHi | 70 |
DefringePurpleHueLo | 30 |
Dehaze | 0 |
DOF | 12.24 m (4.18 - 16.42 m) |
ExifImageHeight (1) | 719 |
ExifImageWidth | 1280 |
ExposureCompensation | -4/3 |
ExposureProgram (1) | Aperture-priority AE |
ExposureTime | 1/2000 |
Flash | Off, Did not fire |
FlashCompensation | 0 |
FlashFired | False |
FlashMode | Off |
FlashRedEyeMode | False |
FlashReturn | No return detection |
FNumber | 11.0 |
FocalLength | 28.0 mm |
FocalLength35efl | 28.0 mm (35 mm equivalent: 132.0 mm) |
Format | image/jpeg |
FOV | 15.5 deg |
GrainAmount | 0 |
GreenSaturation | 0 |
HasSettings | True |
Highlights2012 | 0 |
HueAdjustmentAqua | 0 |
HueAdjustmentBlue | 0 |
HueAdjustmentGreen | 0 |
HueAdjustmentOrange | 0 |
HueAdjustmentPurple | 0 |
HueAdjustmentYellow | 0 |
ImageHeight | 719 |
ImageNumber | 0 |
ISO | 200 |
LensID (1) | 230 |
LensInfo | 24-70mm f/? |
LensManualDistortionAmount | 0 |
LensModel | EF24-70mm f/2.8L USM |
LensProfileEnable | 0 |
LightValue | 16.9 |
LuminanceAdjustmentAqua | 0 |
LuminanceAdjustmentBlue | 0 |
LuminanceAdjustmentPurple | 0 |
LuminanceAdjustmentYellow | 0 |
Make | Canon |
Megapixels | 0.920 |
MeteringMode | Multi-segment |
Model | Canon EOS 5D Mark III |
ModifyDate (1) | 2020:05:11 12:25:32+02:00 |
Orientation | Horizontal (normal) |
ParametricHighlightSplit | 75 |
ParametricMidtoneSplit | 50 |
ParametricShadowSplit | 25 |
PerspectiveRotate | 0.0 |
PerspectiveScale | 100 |
PerspectiveX | 0.00 |
PostCropVignetteAmount | 0 |
ProcessVersion | 6.7 |
Rating | 0 |
RecommendedExposureIndex | 200 |
RedHue | 0 |
Saturation | 0 |
SaturationAdjustmentAqua | 0 |
SaturationAdjustmentMagenta | 0 |
SaturationAdjustmentOrange | 0 |
SaturationAdjustmentPurple | 0 |
SaturationAdjustmentYellow | 0 |
ScaleFactor35efl | 4.7 |
SerialNumber | 053024009708 |
Shadows2012 | 0 |
ShadowTint | 0 |
SharpenEdgeMasking | 0 |
SharpenRadius | +1.0 |
Sharpness | 112 |
ShutterSpeed | 1/2000 |
Software | Windows Photo Editor 10.0.10011.16384 |
SplitToningHighlightHue | 0 |
SplitToningShadowHue | 0 |
ToneCurveBlue | 0, 0, 255, 255 |
ToneCurveGreen | 0, 0, 255, 255 |
ToneCurveName | Medium Contrast |
ToneCurveName2012 | Linear |
ToneCurvePV2012Blue | 0, 0, 255, 255 |
ToneCurvePV2012Green | 0, 0, 255, 255 |
ToneCurvePV2012Red | 0, 0, 255, 255 |
ToneMapStrength | 0 |
URL_List | |
Vibrance | 0 |