Felt | Verdi |
AlreadyApplied | True |
Aperture | 6.3 |
ApertureValue | 6.3 |
AutoLateralCA | 0 |
AutoWhiteVersion | 134348800 |
BitsPerSample (1) | 16, 16, 16 |
BitsPerSample (2) | 16 16 16 |
BitsPerSample | 8 |
BlackClip | 0.000 |
Blacks2012 | -20 |
BlueHue | 0 |
BlueSaturation | 0 |
CameraProfile | Embedded |
Caption-Abstract | OLYMPUS DIGITAL CAMERA |
CFAPattern | [Red,Green][Green,Blue] |
Clarity2012 | +25 |
ColorComponents | 3 |
ColorMode | RGB |
ColorNoiseReduction | 30 |
ColorNoiseReductionDetail | 50 |
ColorNoiseReductionSmoothness | 50 |
ColorSpace (1) | Unknown (-1) |
ColorSpace | Uncalibrated |
ColorTemperature | -0.4 |
ColorTransform | YCbCr |
Contrast | Normal |
Contrast2012 | +7 |
ConvertToGrayscale | False |
CopyrightFlag | False |
CreateDate | 2019:09:21 20:08:31+02:00 |
CreatorTool | Adobe Photoshop CS3 Windows |
CustomRendered | Normal |
DefringeGreenAmount | 0 |
DefringeGreenHueHi | 60 |
DefringeGreenHueLo | 40 |
DefringePurpleAmount | 0 |
DefringePurpleHueHi | 70 |
DefringePurpleHueLo | 30 |
Dehaze | 0 |
Description | OLYMPUS DIGITAL CAMERA |
DigitalZoomRatio | 1 |
ExifImageHeight | 2736 |
ExifImageWidth | 3648 |
Exposure2012 | 0.00 |
ExposureCompensation | 0 |
ExposureMode | Manual |
ExposureProgram | Manual |
ExposureTime | 1/250 |
Flash | On, Did not fire |
FlashCompensation | 0 |
FlashFired | False |
FlashFunction | False |
FlashMode | On |
FlashRedEyeMode | False |
FlashReturn | No return detection |
FNumber | 6.3 |
FocalLength | 180.0 mm |
FocalLength35efl | 180.0 mm |
Format | image/jpeg |
GainControl | None |
GradientBasedCorrActive | true |
GradientBasedCorrAmount | 1.000000 |
GradientBasedCorrBrightness | 0.000000 |
GradientBasedCorrClarity2012 | 0.098900 |
GradientBasedCorrContrast2012 | 0.000000 |
GradientBasedCorrDefringe | 0.000000 |
GradientBasedCorrExposure2012 | 0.099000 |
GradientBasedCorrHighlights2012 | 0.208790 |
GradientBasedCorrHue | 36.000000 |
GradientBasedCorrLocalBlacks2012 | 0.000000 |
GradientBasedCorrLocalWhites2012 | 0.164840 |
GradientBasedCorrLuminanceNoise | 0.000000 |
GradientBasedCorrMaskFullX | 0.496867 |
GradientBasedCorrMaskFullY | 0.125078 |
GradientBasedCorrMaskValue | 1.000000 |
GradientBasedCorrMaskWhat | Mask/Gradient |
GradientBasedCorrMaskZeroX | 0.488138 |
GradientBasedCorrMaskZeroY | 0.883259 |
GradientBasedCorrMoire | 0.000000 |
GradientBasedCorrSaturation (1) | 0.076920 |
GradientBasedCorrSaturation | 0.000000 |
GradientBasedCorrShadows2012 | 0.000000 |
GradientBasedCorrSharpness | 0.000000 |
GradientBasedCorrTemperature | 0.000000 |
GradientBasedCorrTint | 0.000000 |
GradientBasedCorrWhat | Correction |
GrainAmount | 0 |
GreenHue | 0 |
GreenSaturation | 0 |
HasCrop | False |
HasSettings | True |
Highlights2012 | -80 |
HueAdjustmentAqua | 0 |
HueAdjustmentBlue | 0 |
HueAdjustmentGreen | 0 |
HueAdjustmentMagenta | 0 |
HueAdjustmentOrange | 0 |
HueAdjustmentPurple | 0 |
HueAdjustmentRed | 0 |
HueAdjustmentYellow | 0 |
ICCProfileName | Adobe RGB (1998) |
ImageDescription | OLYMPUS DIGITAL CAMERA |
ImageHeight | 2736 |
ImageSize | 3648x2736 |
ImageWidth | 3648 |
IncrementalTemperature | 0 |
IncrementalTint | 0 |
ISO | 100 |
IsPano360 | No |
Lens | 18.0-180.0 mm f/3.5-6.3 |
LensInfo | 18-180mm f/3.5-6.3 |
LensManualDistortionAmount | 0 |
LensModel | 18.0-180.0 mm f/3.5-6.3 |
LensProfileEnable | 1 |
LensProfileSetup | LensDefaults |
LensSerialNumber | 000000000 |
LightingEffect | 94.0 |
LightSource | Flash |
LightValue | 13.3 |
LuminanceAdjustmentAqua | 0 |
LuminanceAdjustmentBlue | 0 |
LuminanceAdjustmentGreen | 0 |
LuminanceAdjustmentMagenta | 0 |
LuminanceAdjustmentOrange | 0 |
LuminanceAdjustmentPurple | 0 |
LuminanceAdjustmentRed | 0 |
LuminanceAdjustmentYellow | 0 |
LuminanceSmoothing | 0 |
Make | OLYMPUS IMAGING CORP. |
MaxApertureValue | 3.5 |
Megapixels | 10.0 |
MeteringMode | Multi-segment |
Method | Contrast Optimizer |
Midtone | 0.0 |
Model | E-420 |
ModifyDate (1) | 2019:09:21 20:08:31+02:00 |
ModifyDate | 2019:09:21 20:08:31 |
Orientation | Horizontal (normal) |
PaintCorrectionActive | true |
PaintCorrectionAmount | 1.000000 |
PaintCorrectionBrightness | 0.000000 |
PaintCorrectionClarity2012 | 0.000000 |
PaintCorrectionContrast2012 | 0.000000 |
PaintCorrectionDefringe | 0.000000 |
PaintCorrectionExposure2012 | 0.000000 |
PaintCorrectionHighlights2012 | 0.000000 |
PaintCorrectionHue | 36.000000 |
PaintCorrectionLocalBlacks2012 | 0.000000 |
PaintCorrectionLocalWhites2012 | 0.000000 |
PaintCorrectionLuminanceNoise | 0.000000 |
PaintCorrectionMaskCenterWeight | 0.000000 |
PaintCorrectionMaskFlow | 0.505000 |
PaintCorrectionMaskRadius | 0.040844 |
PaintCorrectionMaskValue | 1.000000 |
PaintCorrectionMaskWhat | Mask/Paint |
PaintCorrectionMoire | 0.000000 |
PaintCorrectionSaturation (1) | 0.166670 |
PaintCorrectionSaturation | 0.000000 |
PaintCorrectionShadows2012 | 0.000000 |
PaintCorrectionSharpness | 0.000000 |
PaintCorrectionTemperature | 0.000000 |
PaintCorrectionTint | 0.000000 |
PaintCorrectionWhat | Correction |
ParametricDarks | 0 |
ParametricHighlights | 0 |
ParametricHighlightSplit | 75 |
ParametricLights | 0 |
ParametricMidtoneSplit | 50 |
ParametricShadows | 0 |
ParametricShadowSplit | 25 |
PerspectiveAspect | 0 |
PerspectiveHorizontal | 0 |
PerspectiveRotate | 0.0 |
PerspectiveScale | 100 |
PerspectiveUpright | 1 |
PerspectiveVertical | 0 |
PhotometricInterpretation | RGB |
PlanarConfiguration | Chunky |
PostCropVignetteAmount | 0 |
ProcessVersion | 6.7 |
ProfileDescription | Adobe RGB (1998) |
RawFileName | fjelltåpptåke.tif |
RedHue | 0 |
RedSaturation | 0 |
SamplesPerPixel | 3 |
Saturation (1) | 2.7 |
Saturation (2) | 0 |
Saturation | Normal |
SaturationAdjustmentAqua | 0 |
SaturationAdjustmentBlue | 0 |
SaturationAdjustmentGreen | +16 |
SaturationAdjustmentMagenta | 0 |
SaturationAdjustmentOrange | 0 |
SaturationAdjustmentPurple | 0 |
SaturationAdjustmentRed | 0 |
SaturationAdjustmentYellow | +11 |
SceneCaptureType | Standard |
SerialNumber | G21615072 |
Shadows2012 | +80 |
ShadowTint | 0 |
SharpenDetail | 39 |
SharpenEdgeMasking | 50 |
SharpenRadius | +1.5 |
Sharpness (1) | 50 |
Sharpness | Normal |
ShutterSpeed | 1/250 |
ShutterSpeedValue | 1/250 |
Software | Adobe Photoshop CS3 Windows |
SplitToningBalance | 0 |
SplitToningHighlightHue | 0 |
SplitToningHighlightSaturation | 0 |
SplitToningShadowHue | 0 |
SplitToningShadowSaturation | 0 |
Strength | 52.0 |
ToneCompression | -1.0 |
ToneCurve | 0, 0, 255, 255 |
ToneCurveBlue | 0, 0, 255, 255 |
ToneCurveGreen | 0, 0, 255, 255 |
ToneCurveName | Linear |
ToneCurveName2012 | Linear |
ToneCurvePV2012 | 0, 0, 255, 255 |
ToneCurvePV2012Blue | 0, 0, 255, 255 |
ToneCurvePV2012Green | 0, 0, 255, 255 |
ToneCurvePV2012Red | 0, 0, 255, 255 |
ToneCurveRed | 0, 0, 255, 255 |
ToneMapStrength | 0 |
URL_List | |
Version (1) | 5.0 |
Version | 9.1 |
Vibrance | +5 |
VignetteAmount | 0 |
WhiteBalance (1) | As Shot |
WhiteBalance | Manual |
WhiteClip | 1.600 |
Whites2012 | +40 |