Felt | Verdi |
AlreadyApplied | True |
Aperture | 8.0 |
ApertureValue | 8.0 |
AutoLateralCA | 0 |
BitsPerSample (1) | 8 8 8 |
BitsPerSample | 8 |
Blacks2012 | 0 |
BlueHue | 0 |
BlueSaturation | 0 |
CameraProfile | Adobe Standard |
Caption-Abstract | OLYMPUS DIGITAL CAMERA |
CFAPattern | [Red,Green][Green,Blue] |
CircleOfConfusion | 0.015 mm |
Clarity2012 | +25 |
ColorComponents | 3 |
ColorMode | RGB |
ColorNoiseReduction | 25 |
ColorNoiseReductionDetail | 50 |
ColorNoiseReductionSmoothness | 50 |
ColorSpace | sRGB |
ColorTemperature | 4600 |
ColorTransform | YCbCr |
Contrast | Normal |
Contrast2012 | 0 |
ConvertToGrayscale | False |
CreateDate (1) | 2019:07:26 21:27:37+02:00 |
CreateDate | 2019:07:26 21:27:37 |
CreatorTool | Adobe Photoshop Elements 17.0 (Windows) |
CustomRendered | Normal |
DateCreated (1) | 2019:07:26 |
DateCreated | 2019:07:26 21:27:37 |
DateTimeOriginal | 2019:07:26 21:27:37 |
DefringeGreenAmount | 0 |
DefringeGreenHueHi | 60 |
DefringeGreenHueLo | 40 |
DefringePurpleAmount | 0 |
DefringePurpleHueHi | 70 |
DefringePurpleHueLo | 30 |
Dehaze | 0 |
Description | OLYMPUS DIGITAL CAMERA |
DigitalZoomRatio | 1 |
DistortionCorrectionAlreadyApplied | True |
ExifImageHeight | 1080 |
ExifImageWidth | 1620 |
Exposure2012 | 0.00 |
ExposureCompensation | 0 |
ExposureMode | Auto |
ExposureProgram | Aperture-priority AE |
ExposureTime | 1/640 |
Flash | On, Did not fire |
FlashCompensation | 0 |
FNumber | 8.0 |
FocalLength | 47.0 mm |
FocalLength35efl | 47.0 mm (35 mm equivalent: 94.0 mm) |
FocalLengthIn35mmFormat | 94 mm |
Format | image/jpeg |
FOV | 21.7 deg |
GainControl | None |
GrainAmount | 0 |
GreenHue | 0 |
GreenSaturation | 0 |
HasCrop | False |
HasSettings | True |
Highlights2012 | 0 |
HueAdjustmentAqua | 0 |
HueAdjustmentBlue | 0 |
HueAdjustmentGreen | 0 |
HueAdjustmentMagenta | 0 |
HueAdjustmentOrange | 0 |
HueAdjustmentPurple | 0 |
HueAdjustmentRed | 0 |
HueAdjustmentYellow | 0 |
HyperfocalDistance | 18.38 m |
ICCProfileName | sRGB IEC61966-2.1 |
ImageDescription | OLYMPUS DIGITAL CAMERA |
ImageHeight | 1080 |
ImageSize | 1620x1080 |
ImageWidth | 1620 |
ISO | 200 |
LateralChromaticAberrationCorrectionAlreadyApplied | True |
Lens | OLYMPUS M.12-100mm F4.0 |
LensInfo | 12-100mm f/4 |
LensManualDistortionAmount | 0 |
LensModel | OLYMPUS M.12-100mm F4.0 |
LensProfileEnable | 0 |
LensProfileSetup | LensDefaults |
LensSerialNumber | ACC215510 |
LightSource | Unknown |
LightValue | 14.3 |
LookAmount | 1.000000 |
LookCopyright | © 2018 Adobe Systems, Inc. |
LookGroup | Profiles |
LookName | Adobe Color |
LookParametersCameraProfile | Adobe Standard |
LookParametersConvertToGrayscale | False |
LookParametersLookTable | E1095149FDB39D7A057BAB208837E2E1 |
LookParametersProcessVersion | 11.0 |
LookParametersToneCurvePV2012 | 0, 0, 22, 16, 40, 35, 127, 127, 224, 230, 240, 246, 255, 255 |
LookParametersToneCurvePV2012Blue | 0, 0, 255, 255 |
LookParametersToneCurvePV2012Green | 0, 0, 255, 255 |
LookParametersToneCurvePV2012Red | 0, 0, 255, 255 |
LookParametersVersion | 11.1 |
LookSupportsAmount | false |
LookSupportsMonochrome | false |
LookSupportsOutputReferred | false |
LuminanceAdjustmentAqua | 0 |
LuminanceAdjustmentBlue | 0 |
LuminanceAdjustmentGreen | 0 |
LuminanceAdjustmentMagenta | 0 |
LuminanceAdjustmentOrange | 0 |
LuminanceAdjustmentPurple | 0 |
LuminanceAdjustmentRed | 0 |
LuminanceAdjustmentYellow | 0 |
LuminanceSmoothing | 0 |
Make | OLYMPUS CORPORATION |
MaxApertureValue | 4.0 |
Megapixels | 1.7 |
MeteringMode | Center-weighted average |
Model | E-M1MarkII |
ModifyDate (1) | 2019:08:05 20:12:43+02:00 |
ModifyDate | 2019:08:05 20:12:43 |
Orientation | Horizontal (normal) |
OverrideLookVignette | False |
ParametricDarks | 0 |
ParametricHighlights | 0 |
ParametricHighlightSplit | 75 |
ParametricLights | 0 |
ParametricMidtoneSplit | 50 |
ParametricShadows | 0 |
ParametricShadowSplit | 25 |
PerspectiveAspect | 0 |
PerspectiveHorizontal | 0 |
PerspectiveRotate | 0.0 |
PerspectiveScale | 100 |
PerspectiveUpright | 0 |
PerspectiveVertical | 0 |
PerspectiveX | 0.00 |
PerspectiveY | 0.00 |
PhotometricInterpretation | RGB |
PostCropVignetteAmount | 0 |
ProcessVersion | 11.0 |
ProfileDescription | sRGB IEC61966-2.1 |
Rating | 0 |
RawFileName | P7260115.ORF |
RedHue | 0 |
RedSaturation | 0 |
SamplesPerPixel | 3 |
Saturation (1) | 0 |
Saturation | Normal |
SaturationAdjustmentAqua | 0 |
SaturationAdjustmentBlue | 0 |
SaturationAdjustmentGreen | 0 |
SaturationAdjustmentMagenta | 0 |
SaturationAdjustmentOrange | 0 |
SaturationAdjustmentPurple | 0 |
SaturationAdjustmentRed | 0 |
SaturationAdjustmentYellow | 0 |
ScaleFactor35efl | 2.0 |
SceneCaptureType | Standard |
SensitivityType | Standard Output Sensitivity |
SerialNumber | BHUA02180 |
Shadows2012 | 0 |
ShadowTint | 0 |
SharpenDetail | 25 |
SharpenEdgeMasking | 0 |
SharpenRadius | +1.0 |
Sharpness (1) | 102 |
Sharpness | Normal |
ShutterSpeed | 1/640 |
ShutterSpeedValue | 1/640 |
Software | Adobe Photoshop Elements 17.0 (Windows) |
SplitToningBalance | 0 |
SplitToningHighlightHue | 0 |
SplitToningHighlightSaturation | 0 |
SplitToningShadowHue | 0 |
SplitToningShadowSaturation | 0 |
Tint | +5 |
ToneCurve | 0, 0, 32, 22, 64, 56, 128, 128, 192, 196, 255, 255 |
ToneCurveBlue | 0, 0, 255, 255 |
ToneCurveGreen | 0, 0, 255, 255 |
ToneCurveName | Medium Contrast |
ToneCurveName2012 | Linear |
ToneCurvePV2012 | 0, 0, 255, 255 |
ToneCurvePV2012Blue | 0, 0, 255, 255 |
ToneCurvePV2012Green | 0, 0, 255, 255 |
ToneCurvePV2012Red | 0, 0, 255, 255 |
ToneCurveRed | 0, 0, 255, 255 |
ToneMapStrength | 0 |
URL_List | |
Version | 11.1 |
Vibrance | +41 |
VignetteAmount | 0 |
WhiteBalance (1) | As Shot |
WhiteBalance | Auto |
Whites2012 | 0 |