Felt | Verdi |
AlreadyApplied | True |
Artist | HANS LINDQUIST |
AutoLateralCA | 0 |
AutoWhiteVersion | 134348800 |
BitsPerSample | 8 |
Blacks2012 | 0 |
BlueHue | 0 |
BlueSaturation | 0 |
By-line | HANS LINDQUIST |
CameraProfile | Adobe Standard |
CircGradBasedCorrActive | true |
CircGradBasedCorrAmount | 1.000000 |
CircGradBasedCorrBrightness | 0.000000 |
CircGradBasedCorrClarity2012 (2) | 0.038460 |
CircGradBasedCorrClarity2012 (5) | 0.807690 |
CircGradBasedCorrClarity2012 | 0.067310 |
CircGradBasedCorrContrast2012 (6) | 0.000000 |
CircGradBasedCorrContrast2012 | 0.019230 |
CircGradBasedCorrDefringe | 0.000000 |
CircGradBasedCorrExposure2012 (1) | 0.394250 |
CircGradBasedCorrExposure2012 (2) | 0.230750 |
CircGradBasedCorrExposure2012 (3) | 0.269250 |
CircGradBasedCorrExposure2012 (4) | 0.115500 |
CircGradBasedCorrExposure2012 (5) | 0.105750 |
CircGradBasedCorrExposure2012 (7) | 0.009500 |
CircGradBasedCorrExposure2012 (8) | 0.077000 |
CircGradBasedCorrExposure2012 | 0.048000 |
CircGradBasedCorrHighlights2012 | 0.028850 |
CircGradBasedCorrHue | 240.000000 |
CircGradBasedCorrLuminanceNoise | 0.009620 |
CircGradBasedCorrMaskAngle (1) | -32.603900 |
CircGradBasedCorrMaskAngle (2) | -9.680600 |
CircGradBasedCorrMaskAngle (3) | 42.693200 |
CircGradBasedCorrMaskAngle (4) | -23.179000 |
CircGradBasedCorrMaskAngle (5) | 0.953611 |
CircGradBasedCorrMaskAngle (6) | 1.522000 |
CircGradBasedCorrMaskAngle (7) | 13.878500 |
CircGradBasedCorrMaskAngle | 12.065300 |
CircGradBasedCorrMaskBottom (1) | 0.806507 |
CircGradBasedCorrMaskBottom (2) | 0.841738 |
CircGradBasedCorrMaskBottom (3) | 0.834283 |
CircGradBasedCorrMaskBottom (4) | 0.656208 |
CircGradBasedCorrMaskBottom (5) | 0.761366 |
CircGradBasedCorrMaskBottom (6) | 0.539884 |
CircGradBasedCorrMaskBottom (7) | 0.749797 |
CircGradBasedCorrMaskBottom (8) | 0.392196 |
CircGradBasedCorrMaskBottom | 0.827259 |
CircGradBasedCorrMaskFeather | +75 |
CircGradBasedCorrMaskFlipped | true |
CircGradBasedCorrMaskLeft (1) | 0.562780 |
CircGradBasedCorrMaskLeft (2) | 0.065722 |
CircGradBasedCorrMaskLeft (3) | 0.032440 |
CircGradBasedCorrMaskLeft (4) | 0.813782 |
CircGradBasedCorrMaskLeft (5) | 0.370124 |
CircGradBasedCorrMaskLeft (6) | 0.111626 |
CircGradBasedCorrMaskLeft (7) | 0.166298 |
CircGradBasedCorrMaskLeft (8) | 0.871002 |
CircGradBasedCorrMaskLeft | 0.157001 |
CircGradBasedCorrMaskMidpoint | +50 |
CircGradBasedCorrMaskRight (1) | 1.091870 |
CircGradBasedCorrMaskRight (2) | 0.611031 |
CircGradBasedCorrMaskRight (3) | 0.163868 |
CircGradBasedCorrMaskRight (4) | 0.988466 |
CircGradBasedCorrMaskRight (5) | 0.739277 |
CircGradBasedCorrMaskRight (6) | 0.423953 |
CircGradBasedCorrMaskRight (7) | 0.436626 |
CircGradBasedCorrMaskRight (8) | 0.913170 |
CircGradBasedCorrMaskRight | 0.369071 |
CircGradBasedCorrMaskRoundness | 0 |
CircGradBasedCorrMaskTop (1) | 0.813759 |
CircGradBasedCorrMaskTop (2) | 0.805889 |
CircGradBasedCorrMaskTop (3) | 0.391441 |
CircGradBasedCorrMaskTop (4) | 0.387130 |
CircGradBasedCorrMaskTop (5) | 0.595819 |
CircGradBasedCorrMaskTop (6) | 0.432671 |
CircGradBasedCorrMaskTop (7) | 0.515437 |
CircGradBasedCorrMaskTop (8) | 0.276796 |
CircGradBasedCorrMaskTop | 0.616379 |
CircGradBasedCorrMaskValue | 1.000000 |
CircGradBasedCorrMaskVersion | +2 |
CircGradBasedCorrMaskWhat | Mask/CircularGradient |
CircGradBasedCorrMoire | 0.000000 |
CircGradBasedCorrSaturation (1) | -0.240380 |
CircGradBasedCorrSaturation | 0.000000 |
CircGradBasedCorrShadows2012 | 0.028850 |
CircGradBasedCorrSharpness | 0.038460 |
CircGradBasedCorrTemperature (1) | -0.221150 |
CircGradBasedCorrTemperature (2) | -0.105770 |
CircGradBasedCorrTemperature (6) | 0.028850 |
CircGradBasedCorrTemperature (7) | -0.153850 |
CircGradBasedCorrTemperature | 0.009620 |
CircGradBasedCorrTint | 0.000000 |
CircGradBasedCorrWhat | Correction |
CircleOfConfusion | 0.026 mm |
Clarity2012 | 0 |
ColorComponents | 3 |
ColorNoiseReduction | 25 |
ColorNoiseReductionDetail | 50 |
ColorNoiseReductionSmoothness | 50 |
ColorTemperature | 6450 |
ColorTransform | YCbCr |
Contrast2012 | +42 |
ConvertToGrayscale | False |
Copyright | 160662HL |
CopyrightNotice | 160662HL |
CreateDate (1) | 2019:04:01 08:59:20.30 |
CreateDate | 2019:04:01 08:59:20 |
Creator | HANS LINDQUIST |
CreatorTool | Adobe Photoshop Lightroom 6.0 (Windows) |
CropAngle | 1.522 |
CropBottom | 0.899449 |
CropConstrainToWarp | 0 |
CropLeft | 0.062404 |
CropRight | 0.928381 |
CropTop | 0.001384 |
CustomRendered | Normal |
DateCreated (1) | 2019:04:01 08:59:20.30 |
DateCreated | 2019:04:01 |
DateTimeOriginal | 2019:04:01 08:59:20 |
DefringeGreenAmount | 0 |
DefringeGreenHueHi | 60 |
DefringeGreenHueLo | 40 |
DefringePurpleAmount | 0 |
DefringePurpleHueHi | 70 |
DefringePurpleHueLo | 30 |
Exposure2012 | +0.10 |
ExposureCompensation | -8/3 |
ExposureMode | Auto |
ExposureProgram | Program AE |
ExposureTime | 1/50 |
Firmware | 1.0.4 |
Flash | Off, Did not fire |
FlashCompensation | 0 |
Format | image/jpeg |
GradientBasedCorrActive | true |
GradientBasedCorrAmount | 1.000000 |
GradientBasedCorrBrightness | 0.000000 |
GradientBasedCorrClarity2012 | 0.067310 |
GradientBasedCorrContrast2012 | 0.019230 |
GradientBasedCorrDefringe | 0.000000 |
GradientBasedCorrExposure2012 (1) | 0.115500 |
GradientBasedCorrExposure2012 | 0.019250 |
GradientBasedCorrHighlights2012 | 0.028850 |
GradientBasedCorrHue | 240.000000 |
GradientBasedCorrLuminanceNoise | 0.009620 |
GradientBasedCorrMaskFullX (1) | 0.877113 |
GradientBasedCorrMaskFullX | 0.114473 |
GradientBasedCorrMaskFullY (1) | 0.144523 |
GradientBasedCorrMaskFullY | 0.088329 |
GradientBasedCorrMaskValue | 1.000000 |
GradientBasedCorrMaskWhat | Mask/Gradient |
GradientBasedCorrMaskZeroX (1) | 0.722036 |
GradientBasedCorrMaskZeroX | 0.375283 |
GradientBasedCorrMaskZeroY (1) | 0.520270 |
GradientBasedCorrMaskZeroY | 0.381775 |
GradientBasedCorrMoire | 0.000000 |
GradientBasedCorrSaturation | 0.000000 |
GradientBasedCorrShadows2012 | 0.028850 |
GradientBasedCorrSharpness | 0.038460 |
GradientBasedCorrTemperature | 0.009620 |
GradientBasedCorrTint | 0.000000 |
GradientBasedCorrWhat | Correction |
GrainAmount | 0 |
GreenHue | 0 |
GreenSaturation | 0 |
HasCrop | True |
HasSettings | True |
Highlights2012 | -66 |
HueAdjustmentAqua | 0 |
HueAdjustmentBlue | 0 |
HueAdjustmentGreen | 0 |
HueAdjustmentMagenta | 0 |
HueAdjustmentOrange | 0 |
HueAdjustmentPurple | -79 |
HueAdjustmentRed | 0 |
HueAdjustmentYellow | +57 |
ImageHeight | 3867 |
ImageNumber | 0 |
ImageSize | 5924x3867 |
ImageWidth | 5924 |
ISO | 100 |
LensManualDistortionAmount | 0 |
LensProfileEnable | 0 |
LensProfileSetup | LensDefaults |
LensSerialNumber | 0000000000 |
LuminanceAdjustmentAqua | 0 |
LuminanceAdjustmentBlue | -11 |
LuminanceAdjustmentGreen | +26 |
LuminanceAdjustmentMagenta | 0 |
LuminanceAdjustmentOrange | 0 |
LuminanceAdjustmentPurple | 0 |
LuminanceAdjustmentRed | 0 |
LuminanceAdjustmentYellow | 0 |
LuminanceSmoothing | 0 |
Make | Canon |
Megapixels | 22.9 |
MeteringMode | Spot |
Model | Canon EOS 5D Mark IV |
ModifyDate (1) | 2019:04:02 22:52:06+02:00 |
ModifyDate | 2019:04:02 22:52:06 |
Orientation | Horizontal (normal) |
ParametricDarks | 0 |
ParametricHighlights | 0 |
ParametricHighlightSplit | 75 |
ParametricLights | 0 |
ParametricMidtoneSplit | 50 |
ParametricShadows | 0 |
ParametricShadowSplit | 25 |
PerspectiveAspect | 0 |
PerspectiveHorizontal | 0 |
PerspectiveRotate | -0.5 |
PerspectiveScale | 100 |
PerspectiveUpright | 0 |
PerspectiveVertical | 0 |
PostCropVignetteAmount | -6 |
PostCropVignetteFeather | 50 |
PostCropVignetteHighlightContrast | 0 |
PostCropVignetteMidpoint | 50 |
PostCropVignetteRoundness | 0 |
PostCropVignetteStyle | 1 |
ProcessVersion | 6.7 |
ProfileDescription | sRGB IEC61966-2.1 |
RawFileName | _43A8744.jpg |
RecommendedExposureIndex | 100 |
RedHue | 0 |
RedSaturation | 0 |
Rights | 160662HL |
Saturation | +9 |
SaturationAdjustmentAqua | 0 |
SaturationAdjustmentBlue | 0 |
SaturationAdjustmentGreen | +13 |
SaturationAdjustmentMagenta | 0 |
SaturationAdjustmentOrange | 0 |
SaturationAdjustmentPurple | 0 |
SaturationAdjustmentRed | 0 |
SaturationAdjustmentYellow | 0 |
ScaleFactor35efl | 1.1 |
SceneCaptureType | Standard |
SensitivityType | Recommended Exposure Index |
SerialNumber | 133055001843 |
Shadows2012 | +35 |
ShadowTint | 0 |
SharpenDetail | 25 |
SharpenEdgeMasking | 0 |
SharpenRadius | +1.0 |
Sharpness | 25 |
ShutterSpeed | 1/50 |
ShutterSpeedValue | 1/50 |
Software | Adobe Photoshop Lightroom 6.0 (Windows) |
SplitToningBalance | 0 |
SplitToningHighlightHue | 0 |
SplitToningHighlightSaturation | 0 |
SplitToningShadowHue | 0 |
SplitToningShadowSaturation | 0 |
Tint | +53 |
ToneCurve | 0, 0, 255, 255 |
ToneCurveBlue | 0, 0, 255, 255 |
ToneCurveGreen | 0, 0, 255, 255 |
ToneCurveName | Linear |
ToneCurveName2012 | Linear |
ToneCurvePV2012 | 0, 0, 255, 255 |
ToneCurvePV2012Blue | 0, 0, 255, 255 |
ToneCurvePV2012Green | 0, 0, 255, 255 |
ToneCurvePV2012Red | 0, 0, 255, 255 |
ToneCurveRed | 0, 0, 255, 255 |
Version | 9.0 |
Vibrance | 0 |
VignetteAmount | 0 |
WhiteBalance (1) | Custom |
WhiteBalance | Auto |
Whites2012 | +32 |