Felt | Verdi |
AlreadyApplied | True |
Aperture | 2.8 |
ApertureValue | 2.8 |
AutoLateralCA | 1 |
BitsPerSample | 8 |
Blacks2012 | -72 |
BlueHue | -39 |
BlueSaturation | -35 |
BrightnessValue | 5 |
CameraProfile | Embedded |
CircleOfConfusion | 0.005 mm |
Clarity2012 | +47 |
ColorComponents | 3 |
ColorMode | RGB |
ColorNoiseReduction | 25 |
ColorNoiseReductionDetail | 50 |
ColorNoiseReductionSmoothness | 50 |
ColorSpace | sRGB |
ColorTransform | YCbCr |
Contrast2012 | +6 |
ConvertToGrayscale | True |
CreateDate | 2009:06:23 18:23:59 |
CreatorTool | Digital Camera FinePix S1000fd Ver1.03 |
CropAngle | 0 |
CropBottom | 1 |
CropConstrainToWarp | 0 |
CropLeft | 0.106211 |
CropRight | 1 |
CropTop | 0 |
CustomRendered | Custom |
DateCreated (1) | 2009:06:23 |
DateCreated | 2009:06:23 18:23:59 |
DateTimeOriginal | 2009:06:23 18:23:59 |
Dehaze | 0 |
ExifImageHeight | 2736 |
ExifImageWidth | 3261 |
Exposure2012 | +0.26 |
ExposureCompensation | 0 |
ExposureMode | Auto |
ExposureProgram | Program AE |
ExposureTime | 1/55 |
Flash | Off, Did not fire |
FNumber | 2.8 |
FocalLength | 5.9 mm |
FocalLength35efl | 5.9 mm (35 mm equivalent: 36.8 mm) |
Format | image/jpeg |
FOV | 52.2 deg |
GrainAmount | 0 |
GrayMixerAqua | -80 |
GrayMixerBlue | -60 |
GrayMixerGreen | -25 |
GrayMixerMagenta | +9 |
GrayMixerOrange | -10 |
GrayMixerPurple | -3 |
GrayMixerRed | +21 |
GrayMixerYellow | -21 |
GreenHue | +56 |
GreenSaturation | +25 |
HasCrop | True |
HasSettings | True |
Highlights2012 | -14 |
HyperfocalDistance | 2.58 m |
ICCProfileName | sRGB IEC61966-2.1 |
ImageHeight | 2736 |
ImageSize | 3261x2736 |
ImageWidth | 3261 |
IncrementalTemperature | 0 |
IncrementalTint | 0 |
ISO | 200 |
Label | |
LateralChromaticAberrationCorrectionAlreadyApplied | True |
LensManualDistortionAmount | 0 |
LensProfileEnable | 0 |
LensProfileSetup | Auto |
LightSource | Unknown |
LightValue | 7.8 |
LuminanceSmoothing | 0 |
Make | FUJIFILM |
MaxApertureValue | 2.8 |
Megapixels | 8.9 |
MeteringMode | Multi-segment |
Model | FinePix S1000fd |
ModifyDate (1) | 2019:03:05 11:27+01:00 |
ModifyDate | 2019:03:05 11:27:00 |
Orientation | Horizontal (normal) |
OverrideLookVignette | True |
ParametricDarks | 0 |
ParametricHighlights | 0 |
ParametricHighlightSplit | 75 |
ParametricLights | 0 |
ParametricMidtoneSplit | 60 |
ParametricShadows | 0 |
ParametricShadowSplit | 14 |
PerspectiveAspect | 0 |
PerspectiveHorizontal | 0 |
PerspectiveRotate | 0.0 |
PerspectiveScale | 100 |
PerspectiveUpright | 0 |
PerspectiveVertical | 0 |
PerspectiveX | 0.00 |
PerspectiveY | 0.00 |
PostCropVignetteAmount | -31 |
PostCropVignetteFeather | 50 |
PostCropVignetteHighlightContrast | 0 |
PostCropVignetteMidpoint | 50 |
PostCropVignetteRoundness | 0 |
PostCropVignetteStyle | 1 |
ProcessVersion | 11.0 |
ProfileDescription | sRGB IEC61966-2.1 |
Rating | 0 |
RawFileName | i 120.jpg |
RedHue | +33 |
RedSaturation | -25 |
ScaleFactor35efl | 6.2 |
SceneCaptureType | Standard |
SceneType | Directly photographed |
SensingMethod | One-chip color area |
Shadows2012 | +72 |
ShadowTint | 0 |
SharpenDetail | 40 |
SharpenEdgeMasking | 30 |
SharpenRadius | +1.5 |
Sharpness (1) | 71 |
Sharpness | Normal |
ShutterSpeed | 1/55 |
ShutterSpeedValue | 1/55 |
Software | Adobe Photoshop CC 2019 (Windows) |
SplitToningBalance | +49 |
SplitToningHighlightHue | 49 |
SplitToningHighlightSaturation | 5 |
SplitToningShadowHue | 250 |
SplitToningShadowSaturation | 6 |
SubjectDistanceRange | Unknown |
ToneCurve | 0, 0, 255, 255 |
ToneCurveBlue | 0, 0, 255, 255 |
ToneCurveGreen | 0, 0, 255, 255 |
ToneCurveName | Linear |
ToneCurveName2012 | Custom |
ToneCurvePV2012 | 0, 19, 82, 85, 184, 190, 255, 221 |
ToneCurvePV2012Blue | 0, 0, 255, 255 |
ToneCurvePV2012Green | 0, 0, 255, 255 |
ToneCurvePV2012Red | 0, 0, 255, 255 |
ToneCurveRed | 0, 0, 255, 255 |
ToneMapStrength | 0 |
URL_List | |
Version | 11.2 |
VignetteAmount | -77 |
VignetteMidpoint | 34 |
WhiteBalance (1) | As Shot |
WhiteBalance | Auto |
Whites2012 | -22 |