Felt | Verdi |
Aperture | 8.0 |
ApertureValue (1) | 8.0 |
ApproximateFocusDistance | 11.9 |
AutoWhiteVersion | 134348800 |
BlueHue | 0 |
CircleOfConfusion | 0.019 mm |
Clarity2012 | +8 |
ColorComponents | 3 |
ColorNoiseReduction | 25 |
ColorNoiseReductionDetail | 50 |
ColorNoiseReductionSmoothness | 50 |
ColorTemperature | 4700 |
Contrast2012 | +60 |
ConvertToGrayscale | False |
CreateDate (1) | 2018:10:21 13:48:52+02:00 |
Creator | Dmitry Kechasov |
CustomRendered | Normal |
DateCreated | 2018:10:21 |
DateTimeOriginal (1) | 2018:10:21 13:48:52+02:00 |
DateTimeOriginal | 2018:10:21 13:48:52 |
DefringeGreenHueHi | 60 |
DefringePurpleAmount | 0 |
Dehaze | 0 |
ExifImageHeight | 724 |
Exposure2012 | +0.05 |
ExposureCompensation (1) | 0 |
ExposureProgram | Aperture-priority AE |
Flash | Off, Did not fire |
FlashFired | False |
FlashFunction | False |
FlashMode | Off |
FlashRedEyeMode | False |
FlashReturn | No return detection |
FNumber | 8.0 |
FocalLength | 45.0 mm |
Format | image/jpeg |
GrainAmount | 0 |
GreenHue | 0 |
GreenSaturation | 0 |
HasSettings | True |
HueAdjustmentBlue | 0 |
HueAdjustmentGreen | 0 |
HueAdjustmentMagenta | 0 |
HueAdjustmentPurple | 0 |
HyperfocalDistance | 13.64 m |
ICCProfileName | sRGB IEC61966-2.1 |
ImageHeight | 724 |
ImageNumber | 0 |
ImageSize | 1024x724 |
ImageWidth | 1024 |
Lens | EF24-105mm f/4L IS USM |
LensID (1) | 237 |
LensID | Canon EF 24-105mm f/4L IS USM |
LensInfo | 24-105mm f/? |
LensManualDistortionAmount | 0 |
LensModel | EF24-105mm f/4L IS USM |
LensProfileEnable | 0 |
LuminanceAdjustmentGreen | 0 |
LuminanceAdjustmentMagenta | 0 |
LuminanceAdjustmentRed | 0 |
LuminanceNoiseReductionContrast | 0 |
LuminanceNoiseReductionDetail | 50 |
LuminanceSmoothing | 33 |
Make | Canon |
MaxApertureValue | 4.0 |
Megapixels | 0.741 |
MeteringMode | Partial |
Model | Canon EOS 40D |
ModifyDate (1) | 2018:10:26 11:01:16+02:00 |
ModifyDate | 2018:10:26 11:05:47 |
Orientation | Horizontal (normal) |
OwnerName | Dmitry Kechasov |
ParametricDarks | 0 |
ParametricHighlights | 0 |
ParametricHighlightSplit | 75 |
ParametricLights | 0 |
ParametricMidtoneSplit | 50 |
ParametricShadows | 0 |
ParametricShadowSplit | 25 |
PerspectiveHorizontal | 0 |
PerspectiveRotate | 0.0 |
PerspectiveX | 0.00 |
ProcessingSoftware | Windows Photo Editor 10.0.10011.16384 |
ProcessVersion | 6.7 |
RawFileName | IMG_4065.CR2 |
RedHue | 0 |
RedSaturation | 0 |
SaturationAdjustmentAqua | 0 |
SaturationAdjustmentMagenta | 0 |
SaturationAdjustmentPurple | 0 |
SaturationAdjustmentYellow | 0 |
ScaleFactor35efl | 1.6 |
SceneCaptureType | Standard |
ShadowTint | 0 |
SharpenEdgeMasking | 0 |
SharpenRadius | +1.0 |
ShutterSpeed | 1/1250 |
ShutterSpeedValue | 1/1250 |
Software | Windows Photo Editor 10.0.10011.16384 |
SplitToningBalance | 0 |
SplitToningHighlightHue | 0 |
Tint | +7 |
ToneCurve | 0, 0, 32, 22, 64, 56, 128, 128, 192, 196, 255, 255 |
ToneCurveBlue | 0, 0, 255, 255 |
ToneCurveName | Medium Contrast |
ToneMapStrength | 0 |
URL_List | |
Vibrance | 0 |
VignetteAmount | 0 |
WhiteBalance (1) | As Shot |
WhiteBalance | Auto |
Whites2012 | 0 |