Felt | Verdi |
AlreadyApplied | True |
Aperture | 8.0 |
ApertureValue | 8.0 |
Artist | ARILD THINGVOLL |
AutoLateralCA | 1 |
BitsPerSample | 8 |
Blacks2012 | +12 |
BlueHue | 0 |
BlueSaturation | 0 |
BrightnessValue | 8.4 |
By-line | ARILD THINGVOLL |
CameraProfile | Camera ACROS+R FILTER |
CircGradBasedCorrActive | true |
CircGradBasedCorrAmount | 1.000000 |
CircGradBasedCorrBrightness | 0.000000 |
CircGradBasedCorrClarity2012 | 0.108700 |
CircGradBasedCorrContrast2012 | 0.152170 |
CircGradBasedCorrCorrectionRangeMaskColorAmount | 0.500000 |
CircGradBasedCorrCorrectionRangeMaskLumFeather | 0.500000 |
CircGradBasedCorrCorrectionRangeMaskLumMax | 1.000000 |
CircGradBasedCorrCorrectionRangeMaskLumMin | 0.000000 |
CircGradBasedCorrCorrectionRangeMaskType | 0 |
CircGradBasedCorrCorrectionRangeMaskVersion | +2 |
CircGradBasedCorrDefringe | 0.000000 |
CircGradBasedCorrExposure2012 | 0.108750 |
CircGradBasedCorrHighlights2012 | 0.000000 |
CircGradBasedCorrHue | 0.000000 |
CircGradBasedCorrLocalBlacks2012 | 0.000000 |
CircGradBasedCorrLocalDehaze | 0.000000 |
CircGradBasedCorrLocalWhites2012 | 0.000000 |
CircGradBasedCorrLuminanceNoise | 0.000000 |
CircGradBasedCorrMaskAngle | 0.000000 |
CircGradBasedCorrMaskBottom | 0.367682 |
CircGradBasedCorrMaskFeather | +50 |
CircGradBasedCorrMaskFlipped | true |
CircGradBasedCorrMaskLeft | 0.436749 |
CircGradBasedCorrMaskMidpoint | +50 |
CircGradBasedCorrMaskRight | 0.461646 |
CircGradBasedCorrMaskRoundness | 0 |
CircGradBasedCorrMaskTop | 0.307089 |
CircGradBasedCorrMaskValue | 1.000000 |
CircGradBasedCorrMaskVersion | +2 |
CircGradBasedCorrMaskWhat | Mask/CircularGradient |
CircGradBasedCorrMoire | 0.000000 |
CircGradBasedCorrSaturation | 0.000000 |
CircGradBasedCorrShadows2012 | 0.913040 |
CircGradBasedCorrSharpness | 0.000000 |
CircGradBasedCorrTemperature | 0.000000 |
CircGradBasedCorrTint | 0.000000 |
CircGradBasedCorrWhat | Correction |
CircleOfConfusion | 0.020 mm |
Clarity2012 | +26 |
ColorComponents | 3 |
ColorNoiseReduction | 25 |
ColorNoiseReductionDetail | 50 |
ColorNoiseReductionSmoothness | 50 |
ColorSpace | sRGB |
ColorTemperature | 5200 |
ColorTransform | YCbCr |
Contrast2012 | +40 |
ConvertToGrayscale | True |
CreateDate | 2018:10:07 11:42:47 |
Creator | ARILD THINGVOLL |
CreatorTool | Adobe Photoshop Lightroom Classic 7.5 (Windows) |
CropAngle | 0 |
CropBottom | 0.359952 |
CropConstrainToWarp | 0 |
CropLeft | 0.275184 |
CropRight | 0.600328 |
CropTop | 0.071253 |
CustomRendered | Custom |
DateCreated (1) | 2018:10:07 |
DateCreated | 2018:10:07 11:42:47 |
DateTimeOriginal | 2018:10:07 11:42:47 |
Dehaze | 0 |
Exposure2012 | 0.00 |
ExposureCompensation | -0.67 |
ExposureMode | Auto |
ExposureProgram | Aperture-priority AE |
ExposureTime | 1/280 |
Flash | No Flash |
FNumber | 8.0 |
FocalLength | 16.0 mm |
FocalLength35efl | 16.0 mm (35 mm equivalent: 24.0 mm) |
FocalLengthIn35mmFormat | 24 mm |
Format | image/jpeg |
FOV | 73.7 deg |
GrainAmount | 0 |
GreenHue | 0 |
GreenSaturation | 0 |
HasCrop | True |
HasSettings | True |
Highlights2012 | -48 |
HyperfocalDistance | 1.60 m |
ImageHeight | 1421 |
ImageSize | 2400x1421 |
ImageWidth | 2400 |
ISO | 200 |
Keywords | 0918, Oslo |
LateralChromaticAberrationCorrectionAlreadyApplied | True |
Lens | XF16mmF1.4 R WR |
LensInfo | 16mm f/1.4 |
LensMake | FUJIFILM |
LensManualDistortionAmount | 0 |
LensModel | XF16mmF1.4 R WR |
LensProfileEnable | 0 |
LensProfileSetup | LensDefaults |
LensSerialNumber | 76A00436 |
LightSource | Unknown |
LightValue | 13.1 |
LookName | |
LuminanceSmoothing | 0 |
Make | FUJIFILM |
MaxApertureValue | 1.4 |
Megapixels | 3.4 |
MeteringMode | Multi-segment |
Model | X-T2 |
ModifyDate (1) | 2018:10:16 20:28:40+02:00 |
ModifyDate | 2018:10:16 20:28:40 |
OverrideLookVignette | False |
PaintCorrectionActive | true |
PaintCorrectionAmount | 1.000000 |
PaintCorrectionBrightness | 0.000000 |
PaintCorrectionClarity2012 (2) | 0.326090 |
PaintCorrectionClarity2012 | 0.000000 |
PaintCorrectionContrast2012 (2) | 0.260870 |
PaintCorrectionContrast2012 | 0.000000 |
PaintCorrectionCorrectionRangeMaskColorAmount | 0.500000 |
PaintCorrectionCorrectionRangeMaskLumFeather | 0.500000 |
PaintCorrectionCorrectionRangeMaskLumMax | 1.000000 |
PaintCorrectionCorrectionRangeMaskLumMin | 0.000000 |
PaintCorrectionCorrectionRangeMaskType | 0 |
PaintCorrectionCorrectionRangeMaskVersion | +2 |
PaintCorrectionDefringe | 0.000000 |
PaintCorrectionExposure2012 (2) | -0.108750 |
PaintCorrectionExposure2012 (3) | 0.174000 |
PaintCorrectionExposure2012 (5) | 0.130500 |
PaintCorrectionExposure2012 (6) | 0.065250 |
PaintCorrectionExposure2012 | 0.000000 |
PaintCorrectionHighlights2012 (2) | -0.326090 |
PaintCorrectionHighlights2012 | 0.000000 |
PaintCorrectionHue | 0.000000 |
PaintCorrectionLocalBlacks2012 (6) | -0.108700 |
PaintCorrectionLocalBlacks2012 | 0.000000 |
PaintCorrectionLocalDehaze | 0.000000 |
PaintCorrectionLocalWhites2012 | 0.000000 |
PaintCorrectionLuminanceNoise | 0.000000 |
PaintCorrectionMaskCenterWeight | 0.000000 |
PaintCorrectionMaskFlow | 1.000000 |
PaintCorrectionMaskRadius (1) | 0.016228 |
PaintCorrectionMaskRadius (10) | 0.013627 |
PaintCorrectionMaskRadius (11) | 0.013656 |
PaintCorrectionMaskRadius (12) | 0.013664 |
PaintCorrectionMaskRadius (13) | 0.005420 |
PaintCorrectionMaskRadius (14) | 0.005423 |
PaintCorrectionMaskRadius (15) | 0.009219 |
PaintCorrectionMaskRadius (16) | 0.009206 |
PaintCorrectionMaskRadius (18) | 0.009211 |
PaintCorrectionMaskRadius (19) | 0.009207 |
PaintCorrectionMaskRadius (2) | 0.014134 |
PaintCorrectionMaskRadius (20) | 0.009088 |
PaintCorrectionMaskRadius (21) | 0.009084 |
PaintCorrectionMaskRadius (22) | 0.008031 |
PaintCorrectionMaskRadius (23) | 0.008042 |
PaintCorrectionMaskRadius (24) | 0.008056 |
PaintCorrectionMaskRadius (25) | 0.008059 |
PaintCorrectionMaskRadius (26) | 0.007917 |
PaintCorrectionMaskRadius (28) | 0.007913 |
PaintCorrectionMaskRadius (29) | 0.007975 |
PaintCorrectionMaskRadius (3) | 0.031123 |
PaintCorrectionMaskRadius (30) | 0.007968 |
PaintCorrectionMaskRadius (31) | 0.007961 |
PaintCorrectionMaskRadius (32) | 0.007956 |
PaintCorrectionMaskRadius (33) | 0.007951 |
PaintCorrectionMaskRadius (34) | 0.007944 |
PaintCorrectionMaskRadius (35) | 0.007924 |
PaintCorrectionMaskRadius (36) | 0.007916 |
PaintCorrectionMaskRadius (37) | 0.007910 |
PaintCorrectionMaskRadius (38) | 0.004091 |
PaintCorrectionMaskRadius (4) | 0.011696 |
PaintCorrectionMaskRadius (40) | 0.004089 |
PaintCorrectionMaskRadius (41) | 0.004087 |
PaintCorrectionMaskRadius (42) | 0.004095 |
PaintCorrectionMaskRadius (43) | 0.004090 |
PaintCorrectionMaskRadius (44) | 0.007729 |
PaintCorrectionMaskRadius (45) | 0.007734 |
PaintCorrectionMaskRadius (46) | 0.007745 |
PaintCorrectionMaskRadius (47) | 0.007757 |
PaintCorrectionMaskRadius (48) | 0.007768 |
PaintCorrectionMaskRadius (49) | 0.007783 |
PaintCorrectionMaskRadius (5) | 0.007845 |
PaintCorrectionMaskRadius (50) | 0.007789 |
PaintCorrectionMaskRadius (51) | 0.007812 |
PaintCorrectionMaskRadius (52) | 0.007825 |
PaintCorrectionMaskRadius (53) | 0.007772 |
PaintCorrectionMaskRadius (54) | 0.007776 |
PaintCorrectionMaskRadius (56) | 0.007777 |
PaintCorrectionMaskRadius (57) | 0.007728 |
PaintCorrectionMaskRadius (58) | 0.018751 |
PaintCorrectionMaskRadius (59) | 0.017497 |
PaintCorrectionMaskRadius (6) | 0.016429 |
PaintCorrectionMaskRadius (7) | 0.015143 |
PaintCorrectionMaskRadius (8) | 0.015135 |
PaintCorrectionMaskRadius (9) | 0.014846 |
PaintCorrectionMaskRadius | 0.006545 |
PaintCorrectionMaskValue | 0.777000 |
PaintCorrectionMaskWhat | Mask/Paint |
PaintCorrectionMoire | 0.000000 |
PaintCorrectionSaturation | 0.000000 |
PaintCorrectionShadows2012 (3) | 0.282610 |
PaintCorrectionShadows2012 | 0.000000 |
PaintCorrectionSharpness | 0.000000 |
PaintCorrectionTemperature | 0.000000 |
PaintCorrectionTint | 0.000000 |
PaintCorrectionWhat | Correction |
ParametricDarks | -51 |
ParametricHighlights | 0 |
ParametricHighlightSplit | 75 |
ParametricLights | +9 |
ParametricMidtoneSplit | 50 |
ParametricShadows | +100 |
ParametricShadowSplit | 25 |
PerspectiveAspect | 0 |
PerspectiveHorizontal | 0 |
PerspectiveRotate | 0.0 |
PerspectiveScale | 100 |
PerspectiveUpright | 1 |
PerspectiveVertical | 0 |
PerspectiveX | 0.00 |
PerspectiveY | 0.00 |
PostCropVignetteAmount | 0 |
ProcessVersion | 10.0 |
ProfileDescription | sRGB IEC61966-2.1 |
RawFileName | A. Thingvoll_2018_00200-67.RAF |
RedHue | 0 |
RedSaturation | 0 |
ScaleFactor35efl | 1.5 |
SceneCaptureType | Standard |
SceneType | Directly photographed |
SensingMethod | One-chip color area |
SensitivityType | Standard Output Sensitivity |
SerialNumber | 64M51292 |
Shadows2012 | +55 |
ShadowTint | 0 |
SharpenDetail | 33 |
SharpenEdgeMasking | 82 |
SharpenRadius | +1.0 |
Sharpness (1) | 71 |
Sharpness | Hard |
ShutterSpeed | 1/280 |
ShutterSpeedValue | 1/280 |
Software | Adobe Photoshop Lightroom Classic 7.5 (Windows) |
SplitToningBalance | 0 |
SplitToningHighlightHue | 0 |
SplitToningHighlightSaturation | 0 |
SplitToningShadowHue | 0 |
SplitToningShadowSaturation | 0 |
Subject | 0918, Oslo |
SubjectDistanceRange | Unknown |
Tint | +16 |
ToneCurve | 0, 0, 255, 255 |
ToneCurveBlue | 0, 0, 255, 255 |
ToneCurveGreen | 0, 0, 255, 255 |
ToneCurveName | Linear |
ToneCurveName2012 | Linear |
ToneCurvePV2012 | 0, 0, 255, 255 |
ToneCurvePV2012Blue | 0, 0, 255, 255 |
ToneCurvePV2012Green | 0, 0, 255, 255 |
ToneCurvePV2012Red | 0, 0, 255, 255 |
ToneCurveRed | 0, 0, 255, 255 |
ToneMapStrength | 0 |
Version | 10.5 |
VignetteAmount | 0 |
VignetteCorrectionAlreadyApplied | True |
WhiteBalance (1) | As Shot |
WhiteBalance | Auto |
Whites2012 | +36 |