Felt | Verdi |
AlreadyApplied | True |
Aperture | 2.8 |
ApertureValue | 2.8 |
ApproximateFocusDistance | 13.8 |
Artist | Ole Arne Schlytter |
AutoLateralCA | 0 |
AutoWhiteVersion | 134348800 |
BitsPerSample (1) | 8 8 8 |
BitsPerSample | 8 |
Blacks2012 | -57 |
BlueHue | 0 |
BlueSaturation | 0 |
By-line | Ole Arne Schlytter |
CameraProfile | Embedded |
Clarity2012 | +17 |
ColorComponents | 3 |
ColorMode | RGB |
ColorNoiseReduction | 0 |
ColorSpace | sRGB |
ColorTransform | YCbCr |
Contrast2012 | 0 |
ConvertToGrayscale | False |
Copyright | ole.arne@hotmail.com |
CopyrightNotice | ole.arne@hotmail.com |
CreateDate (1) | 2018:02:01 15:29:39+01:00 |
CreateDate | 2018:02:01 15:29:39 |
Creator | Ole Arne Schlytter |
CreatorTool | Adobe Photoshop Lightroom 5.7.1 (Macintosh) |
CustomRendered | Normal |
DateCreated (1) | 2018:02:01 |
DateCreated | 2018:02:01 15:29:39 |
DateTimeOriginal | 2018:02:01 15:29:39 |
DefringeGreenAmount | 0 |
DefringeGreenHueHi | 60 |
DefringeGreenHueLo | 40 |
DefringePurpleAmount | 0 |
DefringePurpleHueHi | 70 |
DefringePurpleHueLo | 30 |
ExifImageHeight | 764 |
ExifImageWidth | 1350 |
Exposure2012 | 0.00 |
ExposureCompensation | +2 |
ExposureMode | Auto |
ExposureProgram | Aperture-priority AE |
ExposureTime | 1/640 |
Firmware | 2.0.3 |
Flash | Off, Did not fire |
FlashCompensation | 0 |
FNumber | 2.8 |
FocalLength | 115.0 mm |
FocalLength35efl | 115.0 mm |
Format | image/jpeg |
GrainAmount | 0 |
GreenHue | 0 |
GreenSaturation | 0 |
HasCrop | False |
HasSettings | True |
Highlights2012 | -78 |
HueAdjustmentAqua | 0 |
HueAdjustmentBlue | 0 |
HueAdjustmentGreen | 0 |
HueAdjustmentMagenta | 0 |
HueAdjustmentOrange | 0 |
HueAdjustmentPurple | -16 |
HueAdjustmentRed | 0 |
HueAdjustmentYellow | 0 |
ICCProfileName | sRGB IEC61966-2.1 |
ImageHeight (1) | 2916 |
ImageHeight | 764 |
ImageNumber | 0 |
ImageSize | 1350x764 |
ImageWidth (1) | 5184 |
ImageWidth | 1350 |
IncrementalTemperature | 0 |
IncrementalTint | 0 |
ISO | 200 |
Lens | EF70-200mm f/2.8L USM |
LensID (1) | 165 |
LensID | Canon EF 70-200mm f/2.8L USM |
LensInfo | 70-200mm f/? |
LensManualDistortionAmount | -9 |
LensModel | EF70-200mm f/2.8L USM |
LensProfileEnable | 0 |
LensProfileSetup | LensDefaults |
LensSerialNumber | 0000000000 |
LightValue | 11.3 |
LuminanceAdjustmentAqua | 0 |
LuminanceAdjustmentBlue | 0 |
LuminanceAdjustmentGreen | 0 |
LuminanceAdjustmentMagenta | 0 |
LuminanceAdjustmentOrange | 0 |
LuminanceAdjustmentPurple | -4 |
LuminanceAdjustmentRed | 0 |
LuminanceAdjustmentYellow | +3 |
LuminanceNoiseReductionContrast | 0 |
LuminanceNoiseReductionDetail | 55 |
LuminanceSmoothing | 20 |
Make | Canon |
MaxApertureValue | 2.8 |
Megapixels | 1.0 |
MeteringMode | Spot |
Model | Canon EOS-1D X |
ModifyDate (1) | 2018:09:30 14:15:26+02:00 |
ModifyDate | 2018:09:30 14:15:26 |
Orientation | Horizontal (normal) |
ParametricDarks | 0 |
ParametricHighlights | 0 |
ParametricHighlightSplit | 75 |
ParametricLights | 0 |
ParametricMidtoneSplit | 50 |
ParametricShadows | 0 |
ParametricShadowSplit | 25 |
PerspectiveAspect | 0 |
PerspectiveHorizontal | 0 |
PerspectiveRotate | 0.0 |
PerspectiveScale | 100 |
PerspectiveUpright | 0 |
PerspectiveVertical | 0 |
PhotometricInterpretation | RGB |
PostCropVignetteAmount | 0 |
ProcessVersion | 6.7 |
ProfileDescription | sRGB IEC61966-2.1 |
RecommendedExposureIndex | 200 |
RedHue | 0 |
RedSaturation | 0 |
Rights | ole.arne@hotmail.com |
SamplesPerPixel | 3 |
Saturation | 0 |
SaturationAdjustmentAqua | 0 |
SaturationAdjustmentBlue | -43 |
SaturationAdjustmentGreen | 0 |
SaturationAdjustmentMagenta | 0 |
SaturationAdjustmentOrange | +13 |
SaturationAdjustmentPurple | 0 |
SaturationAdjustmentRed | 0 |
SaturationAdjustmentYellow | 0 |
SceneCaptureType | Standard |
SensitivityType | Recommended Exposure Index |
SerialNumber | 063012000928 |
Shadows2012 | +55 |
ShadowTint | 0 |
SharpenDetail | 25 |
SharpenEdgeMasking | 0 |
SharpenRadius | +1.3 |
Sharpness | 27 |
ShutterSpeed | 1/640 |
ShutterSpeedValue | 1/640 |
Software | Adobe Photoshop Elements 12.0 Macintosh |
SplitToningBalance | 0 |
SplitToningHighlightHue | 0 |
SplitToningHighlightSaturation | 0 |
SplitToningShadowHue | 0 |
SplitToningShadowSaturation | 0 |
ToneCurve | 0, 0, 255, 255 |
ToneCurveBlue | 0, 0, 255, 255 |
ToneCurveGreen | 0, 0, 255, 255 |
ToneCurveName | Linear |
ToneCurveName2012 | Linear |
ToneCurvePV2012 | 0, 0, 255, 255 |
ToneCurvePV2012Blue | 0, 0, 255, 255 |
ToneCurvePV2012Green | 0, 0, 255, 255 |
ToneCurvePV2012Red | 0, 0, 255, 255 |
ToneCurveRed | 0, 0, 255, 255 |
URL_List | |
Version | 8.7.1 |
Vibrance | 0 |
VignetteAmount | 0 |
WhiteBalance (1) | As Shot |
WhiteBalance | Auto |
Whites2012 | +33 |