Felt | Verdi |
ApertureValue | 8.0 |
BitsPerSample | 8 |
Blacks2012 | 0 |
BlueHue | 0 |
By-line | Dmitry Kechasov |
CameraProfile | Adobe Standard |
Clarity2012 | 0 |
ColorMode | RGB |
ColorSpace | sRGB |
ColorTemperature | 4400 |
Contrast2012 | +18 |
CreateDate (1) | 2018:08:10 17:22:05+02:00 |
CustomRendered | Normal |
DateCreated | 2018:08:10 |
DateTimeOriginal (1) | 2018:08:10 17:22:05+02:00 |
DefringePurpleHueLo | 30 |
DOF | inf (28.45 m - inf) |
ExifImageWidth (1) | 1024 |
Exposure2012 | +0.40 |
ExposureCompensation (1) | -1 |
ExposureMode | Auto |
ExposureProgram | Aperture-priority AE |
ExposureTime | 1/200 |
Flash (1) | Off, Did not fire |
FlashCompensation | 0 |
FlashFunction | False |
FlashMode | Off |
FlashRedEyeMode | False |
FlashReturn | No return detection |
FNumber | 8.0 |
FocalLength35efl | 65.0 mm (35 mm equivalent: 105.2 mm) |
FOV | 19.4 deg |
GreenHue | 0 |
HasSettings | True |
HueAdjustmentAqua | 0 |
HueAdjustmentBlue | 0 |
HueAdjustmentGreen | 0 |
HueAdjustmentMagenta | 0 |
HueAdjustmentRed | 0 |
HueAdjustmentYellow | 0 |
ImageHeight | 700 |
ImageSize | 1024x700 |
ISO | 160 |
LensInfo | 24-105mm f/? |
LensModel | EF24-105mm f/4L IS USM |
LuminanceAdjustmentAqua | 0 |
LuminanceAdjustmentGreen | 0 |
LuminanceAdjustmentMagenta | 0 |
LuminanceAdjustmentPurple | 0 |
LuminanceAdjustmentYellow | 0 |
LuminanceNoiseReductionContrast | 0 |
LuminanceNoiseReductionDetail | 50 |
Make | Canon |
MaxApertureValue (1) | 4.0 |
Megapixels | 0.717 |
MeteringMode | Partial |
Model | Canon EOS 40D |
ModifyDate (1) | 2018:09:20 18:48:46+02:00 |
OwnerName | Dmitry Kechasov |
ParametricDarks | 0 |
ParametricHighlights | 0 |
ParametricLights | 0 |
ParametricMidtoneSplit | 50 |
ParametricShadowSplit | 25 |
PerspectiveAspect | 0 |
PerspectiveHorizontal | 0 |
PerspectiveRotate | 0.0 |
PerspectiveScale | 100 |
PerspectiveVertical | 0 |
PerspectiveX | 0.00 |
PerspectiveY | 0.00 |
ProcessingSoftware | Windows Photo Editor 10.0.10011.16384 |
ProcessVersion | 6.7 |
Rating | 0 |
Saturation | +13 |
SaturationAdjustmentAqua | 0 |
SaturationAdjustmentBlue | 0 |
SaturationAdjustmentMagenta | 0 |
SaturationAdjustmentPurple | 0 |
SaturationAdjustmentYellow | 0 |
SceneCaptureType | Standard |
SerialNumber | 1230729926 |
SharpenDetail | 25 |
ShutterSpeed | 1/200 |
ShutterSpeedValue | 1/200 |
Software | Windows Photo Editor 10.0.10011.16384 |
SplitToningBalance | 0 |
SplitToningHighlightHue | 0 |
SplitToningHighlightSaturation | 0 |
SplitToningShadowSaturation | 0 |
ToneCurve | 0, 0, 32, 22, 64, 56, 128, 128, 192, 196, 255, 255 |
ToneCurveGreen | 0, 0, 255, 255 |
ToneCurveName | Medium Contrast |
ToneCurvePV2012Green | 0, 0, 255, 255 |
ToneCurvePV2012Red | 0, 0, 255, 255 |
WhiteBalance | Auto |