Felt | Verdi |
AlreadyApplied | True |
Aperture | 16.0 |
ApertureValue | 16.0 |
Artist | HANS |
AutoLateralCA | 0 |
AutoWhiteVersion | 134348800 |
BitsPerSample | 8 |
Blacks2012 | -6 |
BlueHue | 0 |
BlueSaturation | 0 |
By-line | HANS |
CameraProfile | Adobe Standard |
CircGradBasedCorrActive | true |
CircGradBasedCorrAmount | 1.000000 |
CircGradBasedCorrBrightness | 0.000000 |
CircGradBasedCorrClarity2012 | 0.000000 |
CircGradBasedCorrContrast2012 | -0.057690 |
CircGradBasedCorrDefringe | 0.000000 |
CircGradBasedCorrExposure2012 (1) | 0.077000 |
CircGradBasedCorrExposure2012 (2) | 0.000000 |
CircGradBasedCorrExposure2012 (3) | 0.057750 |
CircGradBasedCorrExposure2012 (4) | 0.048000 |
CircGradBasedCorrExposure2012 | 0.009500 |
CircGradBasedCorrHighlights2012 | 0.000000 |
CircGradBasedCorrHue | 240.000000 |
CircGradBasedCorrLuminanceNoise | 0.067310 |
CircGradBasedCorrMaskAngle (1) | -25.151400 |
CircGradBasedCorrMaskAngle (3) | 26.706100 |
CircGradBasedCorrMaskAngle (4) | 34.269000 |
CircGradBasedCorrMaskAngle | -0.652000 |
CircGradBasedCorrMaskBottom (1) | 0.653888 |
CircGradBasedCorrMaskBottom (2) | 0.562916 |
CircGradBasedCorrMaskBottom (3) | 0.718559 |
CircGradBasedCorrMaskBottom (4) | 0.931107 |
CircGradBasedCorrMaskBottom | 0.720524 |
CircGradBasedCorrMaskFeather (1) | +94 |
CircGradBasedCorrMaskFeather (2) | +70 |
CircGradBasedCorrMaskFeather (3) | +75 |
CircGradBasedCorrMaskFeather (4) | +80 |
CircGradBasedCorrMaskFeather | +83 |
CircGradBasedCorrMaskFlipped | true |
CircGradBasedCorrMaskLeft (1) | 0.125277 |
CircGradBasedCorrMaskLeft (2) | 0.292843 |
CircGradBasedCorrMaskLeft (3) | 0.123301 |
CircGradBasedCorrMaskLeft (4) | 0.177788 |
CircGradBasedCorrMaskLeft | 0.642490 |
CircGradBasedCorrMaskMidpoint | +50 |
CircGradBasedCorrMaskRight (1) | 0.769331 |
CircGradBasedCorrMaskRight (2) | 1.007300 |
CircGradBasedCorrMaskRight (3) | 0.242500 |
CircGradBasedCorrMaskRight (4) | 0.148229 |
CircGradBasedCorrMaskRight | 0.944312 |
CircGradBasedCorrMaskRoundness | 0 |
CircGradBasedCorrMaskTop (1) | 0.673017 |
CircGradBasedCorrMaskTop (2) | 0.398513 |
CircGradBasedCorrMaskTop (3) | 0.472879 |
CircGradBasedCorrMaskTop (4) | 0.657025 |
CircGradBasedCorrMaskTop | 0.656106 |
CircGradBasedCorrMaskValue | 1.000000 |
CircGradBasedCorrMaskVersion | +2 |
CircGradBasedCorrMaskWhat | Mask/CircularGradient |
CircGradBasedCorrMoire | 0.000000 |
CircGradBasedCorrSaturation | 0.000000 |
CircGradBasedCorrShadows2012 | 0.115380 |
CircGradBasedCorrSharpness | 0.000000 |
CircGradBasedCorrTemperature (2) | 0.230770 |
CircGradBasedCorrTemperature | 0.000000 |
CircGradBasedCorrTint | 0.019230 |
CircGradBasedCorrWhat | Correction |
CircleOfConfusion | 0.012 mm |
Clarity2012 | 0 |
ColorComponents | 3 |
ColorNoiseReduction | 25 |
ColorNoiseReductionDetail | 50 |
ColorNoiseReductionSmoothness | 50 |
ColorSpace | sRGB |
ColorTemperature | 7600 |
Contrast2012 | +21 |
ConvertToGrayscale | False |
CreateDate (1) | 2018:03:17 19:02:38.17 |
CreateDate | 2018:03:17 19:02:38 |
Creator | HANS |
CreatorTool | Adobe Photoshop Lightroom 6.0 (Windows) |
CropAngle | -0.652 |
CropBottom | 0.983216 |
CropConstrainToWarp | 0 |
CropLeft | 0.004662 |
CropRight | 0.995338 |
CropTop | 0.016784 |
CustomRendered | Normal |
DateCreated (1) | 2018:03:17 19:02:38.17 |
DateCreated | 2018:03:17 |
DateTimeOriginal | 2018:03:17 19:02:38 |
DefringeGreenAmount | 0 |
DefringeGreenHueHi | 60 |
DefringeGreenHueLo | 40 |
DefringePurpleAmount | 0 |
DefringePurpleHueHi | 70 |
DefringePurpleHueLo | 30 |
Exposure2012 | -0.05 |
ExposureCompensation | 0 |
ExposureMode | Auto |
ExposureProgram | Bulb |
ExposureTime | 7.1 |
Firmware | 1.0.4 |
Flash | Off, Did not fire |
FlashCompensation | 0 |
FNumber | 16.0 |
FocalLength | 15.0 mm |
FocalLength35efl | 15.0 mm (35 mm equivalent: 36.8 mm) |
Format | image/jpeg |
FOV | 52.1 deg |
GradientBasedCorrActive | true |
GradientBasedCorrAmount | 1.000000 |
GradientBasedCorrBrightness | 0.000000 |
GradientBasedCorrClarity2012 | 0.000000 |
GradientBasedCorrContrast2012 | -0.057690 |
GradientBasedCorrDefringe | 0.000000 |
GradientBasedCorrExposure2012 (1) | -0.019250 |
GradientBasedCorrExposure2012 (2) | 0.125000 |
GradientBasedCorrExposure2012 | 0.019250 |
GradientBasedCorrHighlights2012 | 0.000000 |
GradientBasedCorrHue | 240.000000 |
GradientBasedCorrLuminanceNoise | 0.067310 |
GradientBasedCorrMaskFullX (1) | 0.508461 |
GradientBasedCorrMaskFullX (2) | 0.500870 |
GradientBasedCorrMaskFullX | 0.103038 |
GradientBasedCorrMaskFullY (1) | 0.218081 |
GradientBasedCorrMaskFullY (2) | 0.665249 |
GradientBasedCorrMaskFullY | 0.527513 |
GradientBasedCorrMaskValue | 1.000000 |
GradientBasedCorrMaskWhat | Mask/Gradient |
GradientBasedCorrMaskZeroX (1) | 0.516143 |
GradientBasedCorrMaskZeroX (2) | 0.492487 |
GradientBasedCorrMaskZeroX | 0.391852 |
GradientBasedCorrMaskZeroY (1) | 0.465675 |
GradientBasedCorrMaskZeroY (2) | 0.391091 |
GradientBasedCorrMaskZeroY | 0.522583 |
GradientBasedCorrMoire | 0.000000 |
GradientBasedCorrSaturation | 0.000000 |
GradientBasedCorrShadows2012 | 0.115380 |
GradientBasedCorrSharpness | 0.000000 |
GradientBasedCorrTemperature (1) | -0.394230 |
GradientBasedCorrTemperature | 0.000000 |
GradientBasedCorrTint | 0.019230 |
GradientBasedCorrWhat | Correction |
GrainAmount | 0 |
GreenHue | 0 |
GreenSaturation | 0 |
HasCrop | True |
HasSettings | True |
Highlights2012 | -56 |
HueAdjustmentAqua | 0 |
HueAdjustmentBlue | 0 |
HueAdjustmentGreen | 0 |
HueAdjustmentMagenta | 0 |
HueAdjustmentOrange | 0 |
HueAdjustmentPurple | 0 |
HueAdjustmentRed | 0 |
HueAdjustmentYellow | 0 |
HyperfocalDistance | 1.15 m |
ImageHeight | 1825 |
ImageNumber | 0 |
ImageSize | 2738x1825 |
ImageWidth | 2738 |
ISO | 250 |
Lens | 15mm |
LensID (1) | 60 |
LensID | Irix 11mm f/4 + 1.4x |
LensInfo | 15mm f/? |
LensManualDistortionAmount | 0 |
LensModel | 15mm |
LensProfileEnable | 0 |
LensProfileSetup | LensDefaults |
LensSerialNumber | 0000000000 |
LightValue | 3.9 |
LuminanceAdjustmentAqua | 0 |
LuminanceAdjustmentBlue | 0 |
LuminanceAdjustmentGreen | 0 |
LuminanceAdjustmentMagenta | 0 |
LuminanceAdjustmentOrange | 0 |
LuminanceAdjustmentPurple | 0 |
LuminanceAdjustmentRed | 0 |
LuminanceAdjustmentYellow | 0 |
LuminanceSmoothing | 0 |
Make | Canon |
MaxApertureValue | 2.5 |
Megapixels | 5.0 |
MeteringMode | Multi-segment |
Model | Canon EOS 5D Mark IV |
ModifyDate (1) | 2018:03:23 11:20:01+01:00 |
ModifyDate | 2018:03:23 11:20:01 |
ParametricDarks | 0 |
ParametricHighlights | 0 |
ParametricHighlightSplit | 75 |
ParametricLights | 0 |
ParametricMidtoneSplit | 50 |
ParametricShadows | 0 |
ParametricShadowSplit | 25 |
PerspectiveAspect | 0 |
PerspectiveHorizontal | 0 |
PerspectiveRotate | 0.0 |
PerspectiveScale | 100 |
PerspectiveUpright | 0 |
PerspectiveVertical | 0 |
PostCropVignetteAmount | 0 |
ProcessVersion | 6.7 |
ProfileDescription | sRGB IEC61966-2.1 |
RawFileName | 543A1203.jpg |
RecommendedExposureIndex | 250 |
RedHue | 0 |
RedSaturation | 0 |
Saturation | 0 |
SaturationAdjustmentAqua | 0 |
SaturationAdjustmentBlue | 0 |
SaturationAdjustmentGreen | 0 |
SaturationAdjustmentMagenta | 0 |
SaturationAdjustmentOrange | 0 |
SaturationAdjustmentPurple | 0 |
SaturationAdjustmentRed | 0 |
SaturationAdjustmentYellow | 0 |
ScaleFactor35efl | 2.5 |
SceneCaptureType | Standard |
SensitivityType | Recommended Exposure Index |
SerialNumber | 133055001843 |
Shadows2012 | +100 |
ShadowTint | 0 |
SharpenDetail | 25 |
SharpenEdgeMasking | 0 |
SharpenRadius | +1.0 |
Sharpness | 25 |
ShutterSpeed | 7.1 |
ShutterSpeedValue | 7.1 |
Software | PhotoScape |
SplitToningBalance | 0 |
SplitToningHighlightHue | 0 |
SplitToningHighlightSaturation | 0 |
SplitToningShadowHue | 0 |
SplitToningShadowSaturation | 0 |
Tint | -5 |
ToneCurve | 0, 0, 255, 255 |
ToneCurveBlue | 0, 0, 255, 255 |
ToneCurveGreen | 0, 0, 255, 255 |
ToneCurveName | Linear |
ToneCurveName2012 | Linear |
ToneCurvePV2012 | 0, 0, 255, 255 |
ToneCurvePV2012Blue | 0, 0, 255, 255 |
ToneCurvePV2012Green | 0, 0, 255, 255 |
ToneCurvePV2012Red | 0, 0, 255, 255 |
ToneCurveRed | 0, 0, 255, 255 |
Version | 9.0 |
Vibrance | 0 |
VignetteAmount | 0 |
WhiteBalance (1) | Custom |
WhiteBalance | Auto |
Whites2012 | -58 |