Felt | Verdi |
AlreadyApplied | True |
Aperture | 2.5 |
ApertureValue | 2.5 |
Artist | HANS |
AutoLateralCA | 0 |
AutoWhiteVersion | 134348800 |
BitsPerSample | 8 |
Blacks2012 | +33 |
BlueHue | 0 |
BlueSaturation | 0 |
By-line | HANS |
CameraProfile | Adobe Standard |
CircGradBasedCorrActive | true |
CircGradBasedCorrAmount | 1.000000 |
CircGradBasedCorrBrightness | 0.000000 |
CircGradBasedCorrClarity2012 (1) | -0.019230 |
CircGradBasedCorrClarity2012 | 0.048080 |
CircGradBasedCorrContrast2012 (1) | 0.682690 |
CircGradBasedCorrContrast2012 (4) | 0.365380 |
CircGradBasedCorrContrast2012 | -0.028850 |
CircGradBasedCorrDefringe | 0.000000 |
CircGradBasedCorrExposure2012 (1) | 0.105750 |
CircGradBasedCorrExposure2012 (2) | 0.230750 |
CircGradBasedCorrExposure2012 (3) | -0.038500 |
CircGradBasedCorrExposure2012 (4) | -0.019250 |
CircGradBasedCorrExposure2012 (5) | 0.067250 |
CircGradBasedCorrExposure2012 (6) | -1.000000 |
CircGradBasedCorrExposure2012 | -0.057750 |
CircGradBasedCorrHighlights2012 (4) | -0.163460 |
CircGradBasedCorrHighlights2012 | 0.000000 |
CircGradBasedCorrHue | 240.000000 |
CircGradBasedCorrLuminanceNoise | 0.000000 |
CircGradBasedCorrMaskAngle (1) | 10.574000 |
CircGradBasedCorrMaskAngle (2) | -13.535700 |
CircGradBasedCorrMaskAngle (3) | 1.957000 |
CircGradBasedCorrMaskAngle (4) | 9.649750 |
CircGradBasedCorrMaskAngle (6) | 11.029700 |
CircGradBasedCorrMaskAngle | -20.479900 |
CircGradBasedCorrMaskBottom (1) | 0.810620 |
CircGradBasedCorrMaskBottom (2) | 0.594390 |
CircGradBasedCorrMaskBottom (3) | 0.441677 |
CircGradBasedCorrMaskBottom (4) | 0.964650 |
CircGradBasedCorrMaskBottom (5) | 0.879291 |
CircGradBasedCorrMaskBottom (6) | 0.142245 |
CircGradBasedCorrMaskBottom | 0.514097 |
CircGradBasedCorrMaskFeather (1) | +100 |
CircGradBasedCorrMaskFeather (2) | +86 |
CircGradBasedCorrMaskFeather (5) | +59 |
CircGradBasedCorrMaskFeather | +53 |
CircGradBasedCorrMaskFlipped | true |
CircGradBasedCorrMaskLeft (1) | 0.322531 |
CircGradBasedCorrMaskLeft (2) | 0.857791 |
CircGradBasedCorrMaskLeft (3) | 0.188825 |
CircGradBasedCorrMaskLeft (4) | 0.282035 |
CircGradBasedCorrMaskLeft (5) | 0.266021 |
CircGradBasedCorrMaskLeft (6) | 0.265000 |
CircGradBasedCorrMaskLeft | 0.581944 |
CircGradBasedCorrMaskMidpoint | +50 |
CircGradBasedCorrMaskRight (1) | 1.097720 |
CircGradBasedCorrMaskRight (2) | 1.062930 |
CircGradBasedCorrMaskRight (3) | 0.268298 |
CircGradBasedCorrMaskRight (4) | 0.366423 |
CircGradBasedCorrMaskRight (5) | 0.461837 |
CircGradBasedCorrMaskRight (6) | 0.294386 |
CircGradBasedCorrMaskRight | 0.759134 |
CircGradBasedCorrMaskRoundness | 0 |
CircGradBasedCorrMaskTop (1) | 0.264942 |
CircGradBasedCorrMaskTop (2) | 0.487236 |
CircGradBasedCorrMaskTop (3) | 0.395160 |
CircGradBasedCorrMaskTop (4) | -0.023326 |
CircGradBasedCorrMaskTop (5) | 0.493798 |
CircGradBasedCorrMaskTop (6) | 0.027275 |
CircGradBasedCorrMaskTop | 0.501904 |
CircGradBasedCorrMaskValue | 1.000000 |
CircGradBasedCorrMaskVersion | +2 |
CircGradBasedCorrMaskWhat | Mask/CircularGradient |
CircGradBasedCorrMoire | 0.000000 |
CircGradBasedCorrSaturation | 0.000000 |
CircGradBasedCorrShadows2012 (1) | 0.423080 |
CircGradBasedCorrShadows2012 | 1.000000 |
CircGradBasedCorrSharpness | 0.000000 |
CircGradBasedCorrTemperature (1) | 0.384620 |
CircGradBasedCorrTemperature | 0.019230 |
CircGradBasedCorrTint (1) | 0.182690 |
CircGradBasedCorrTint | 0.019230 |
CircGradBasedCorrWhat | Correction |
CircleOfConfusion | 0.024 mm |
Clarity2012 | +62 |
ColorComponents | 3 |
ColorNoiseReduction | 25 |
ColorNoiseReductionDetail | 50 |
ColorNoiseReductionSmoothness | 50 |
ColorSpace | sRGB |
ColorTemperature | 2900 |
ColorTransform | YCbCr |
Contrast2012 | +100 |
ConvertToGrayscale | False |
CreateDate (1) | 2018:01:06 18:36:54.60 |
CreateDate | 2018:01:06 18:36:54 |
Creator | HANS |
CreatorTool | Adobe Photoshop Lightroom 6.0 (Windows) |
CropAngle | 1.957 |
CropBottom | 0.889617 |
CropConstrainToWarp | 0 |
CropLeft | 0.201047 |
CropRight | 0.9818 |
CropTop | 0.049713 |
CustomRendered | Normal |
DateCreated (1) | 2018:01:06 18:36:54.60 |
DateCreated | 2018:01:06 |
DateTimeOriginal | 2018:01:06 18:36:54 |
DefringeGreenAmount | 0 |
DefringeGreenHueHi | 60 |
DefringeGreenHueLo | 40 |
DefringePurpleAmount | 0 |
DefringePurpleHueHi | 70 |
DefringePurpleHueLo | 30 |
Exposure2012 | -0.90 |
ExposureCompensation | 0 |
ExposureMode | Auto |
ExposureProgram | Bulb |
ExposureTime | 34 |
Firmware | 1.0.4 |
Flash | Off, Did not fire |
FlashCompensation | 0 |
FNumber | 2.5 |
FocalLength | 15.0 mm |
FocalLength35efl | 15.0 mm (35 mm equivalent: 18.8 mm) |
Format | image/jpeg |
FOV | 87.6 deg |
GradientBasedCorrActive | true |
GradientBasedCorrAmount | 1.000000 |
GradientBasedCorrBrightness | 0.000000 |
GradientBasedCorrClarity2012 | 0.048080 |
GradientBasedCorrContrast2012 | -0.028850 |
GradientBasedCorrDefringe | 0.000000 |
GradientBasedCorrExposure2012 (1) | 0.038500 |
GradientBasedCorrExposure2012 (2) | 0.048000 |
GradientBasedCorrExposure2012 (3) | 0.077000 |
GradientBasedCorrExposure2012 | -0.048000 |
GradientBasedCorrHighlights2012 | 0.000000 |
GradientBasedCorrHue | 240.000000 |
GradientBasedCorrLuminanceNoise (2) | 0.673080 |
GradientBasedCorrLuminanceNoise | 0.000000 |
GradientBasedCorrMaskFullX (1) | 0.834183 |
GradientBasedCorrMaskFullX (2) | 0.236142 |
GradientBasedCorrMaskFullX (3) | 0.881162 |
GradientBasedCorrMaskFullX | 0.308641 |
GradientBasedCorrMaskFullY (1) | 0.469048 |
GradientBasedCorrMaskFullY (2) | 0.430234 |
GradientBasedCorrMaskFullY (3) | 0.484000 |
GradientBasedCorrMaskFullY | 0.677181 |
GradientBasedCorrMaskValue | 1.000000 |
GradientBasedCorrMaskWhat | Mask/Gradient |
GradientBasedCorrMaskZeroX (1) | 0.480117 |
GradientBasedCorrMaskZeroX (2) | 0.321784 |
GradientBasedCorrMaskZeroX (3) | 0.791926 |
GradientBasedCorrMaskZeroX | 0.404659 |
GradientBasedCorrMaskZeroY (1) | 0.450900 |
GradientBasedCorrMaskZeroY (2) | 0.434623 |
GradientBasedCorrMaskZeroY (3) | 0.480456 |
GradientBasedCorrMaskZeroY | 0.618438 |
GradientBasedCorrMoire | 0.000000 |
GradientBasedCorrSaturation | 0.000000 |
GradientBasedCorrShadows2012 | 1.000000 |
GradientBasedCorrSharpness | 0.000000 |
GradientBasedCorrTemperature | 0.019230 |
GradientBasedCorrTint | 0.019230 |
GradientBasedCorrWhat | Correction |
GrainAmount | 0 |
GreenHue | 0 |
GreenSaturation | 0 |
HasCrop | True |
HasSettings | True |
Highlights2012 | -100 |
HueAdjustmentAqua | 0 |
HueAdjustmentBlue | 0 |
HueAdjustmentGreen | 0 |
HueAdjustmentMagenta | 0 |
HueAdjustmentOrange | 0 |
HueAdjustmentPurple | 0 |
HueAdjustmentRed | 0 |
HueAdjustmentYellow | 0 |
HyperfocalDistance | 3.75 m |
ImageHeight | 5371 |
ImageNumber | 0 |
ImageSize | 3581x5371 |
ImageWidth | 3581 |
ISO | 2500 |
Lens | 15mm |
LensID (1) | 60 |
LensID | Irix 11mm f/4 + 1.4x |
LensInfo | 15mm f/? |
LensManualDistortionAmount | 0 |
LensModel | 15mm |
LensProfileEnable | 0 |
LensProfileSetup | LensDefaults |
LensSerialNumber | 0000000000 |
LightValue | -7.1 |
LuminanceAdjustmentAqua | 0 |
LuminanceAdjustmentBlue | 0 |
LuminanceAdjustmentGreen | 0 |
LuminanceAdjustmentMagenta | 0 |
LuminanceAdjustmentOrange | 0 |
LuminanceAdjustmentPurple | 0 |
LuminanceAdjustmentRed | 0 |
LuminanceAdjustmentYellow | 0 |
LuminanceSmoothing | 0 |
Make | Canon |
MaxApertureValue | 2.5 |
Megapixels | 19.2 |
MeteringMode | Multi-segment |
Model | Canon EOS 5D Mark IV |
ModifyDate (1) | 2018:01:09 21:50:51+01:00 |
ModifyDate | 2018:01:09 21:50:51 |
Orientation | Horizontal (normal) |
ParametricDarks | 0 |
ParametricHighlights | 0 |
ParametricHighlightSplit | 75 |
ParametricLights | 0 |
ParametricMidtoneSplit | 50 |
ParametricShadows | 0 |
ParametricShadowSplit | 25 |
PerspectiveAspect | 0 |
PerspectiveHorizontal | 0 |
PerspectiveRotate | 0.0 |
PerspectiveScale | 100 |
PerspectiveUpright | 0 |
PerspectiveVertical | 0 |
PostCropVignetteAmount | 0 |
ProcessVersion | 6.7 |
ProfileDescription | sRGB IEC61966-2.1 |
RawFileName | 543A0802.jpg |
RecommendedExposureIndex | 2500 |
RedHue | 0 |
RedSaturation | 0 |
Saturation | 0 |
SaturationAdjustmentAqua | 0 |
SaturationAdjustmentBlue | 0 |
SaturationAdjustmentGreen | 0 |
SaturationAdjustmentMagenta | 0 |
SaturationAdjustmentOrange | 0 |
SaturationAdjustmentPurple | 0 |
SaturationAdjustmentRed | 0 |
SaturationAdjustmentYellow | 0 |
ScaleFactor35efl | 1.3 |
SceneCaptureType | Standard |
SensitivityType | Recommended Exposure Index |
SerialNumber | 133055001843 |
Shadows2012 | +75 |
ShadowTint | 0 |
SharpenDetail | 25 |
SharpenEdgeMasking | 0 |
SharpenRadius | +1.0 |
Sharpness | 25 |
ShutterSpeed | 34 |
ShutterSpeedValue | 34 |
Software | Adobe Photoshop Lightroom 6.0 (Windows) |
SplitToningBalance | 0 |
SplitToningHighlightHue | 0 |
SplitToningHighlightSaturation | 0 |
SplitToningShadowHue | 0 |
SplitToningShadowSaturation | 0 |
Tint | +2 |
ToneCurve | 0, 0, 255, 255 |
ToneCurveBlue | 0, 0, 255, 255 |
ToneCurveGreen | 0, 0, 255, 255 |
ToneCurveName | Linear |
ToneCurveName2012 | Linear |
ToneCurvePV2012 | 0, 0, 255, 255 |
ToneCurvePV2012Blue | 0, 0, 255, 255 |
ToneCurvePV2012Green | 0, 0, 255, 255 |
ToneCurvePV2012Red | 0, 0, 255, 255 |
ToneCurveRed | 0, 0, 255, 255 |
Version | 9.0 |
Vibrance | -36 |
VignetteAmount | 0 |
WhiteBalance (1) | Custom |
WhiteBalance | Auto |
Whites2012 | +59 |