Felt | Verdi |
AlreadyApplied | True |
Aperture | 4.0 |
ApertureValue | 4.0 |
AutoLateralCA | 1 |
AutoWhiteVersion | 134348800 |
BitsPerSample | 8 |
Blacks2012 | +34 |
BlueHue | 0 |
BlueSaturation | 0 |
CameraProfile | Adobe Standard |
CircleOfConfusion | 0.020 mm |
Clarity2012 | 0 |
ColorComponents | 3 |
ColorNoiseReduction | 25 |
ColorNoiseReductionDetail | 50 |
ColorNoiseReductionSmoothness | 50 |
ColorSpace | Uncalibrated |
ColorTemperature | 8800 |
ColorTransform | YCbCr |
Contrast | Normal |
Contrast2012 | +20 |
ConvertToGrayscale | False |
CreatorTool | Adobe Photoshop Lightroom 6.13 (Windows) |
CropAngle | 0 |
CropBottom | 0.989518 |
CropConstrainToWarp | 0 |
CropLeft | 0.251573 |
CropRight | 0.995807 |
CropTop | 0 |
DateCreated (1) | 2017:12:09 |
DateCreated | 2017:12:09 15:41:24 |
DateTimeOriginal | 2017:12:09 15:41:24 |
DefringeGreenAmount | 0 |
DefringeGreenHueHi | 60 |
DefringeGreenHueLo | 40 |
DefringePurpleAmount | 0 |
DefringePurpleHueHi | 70 |
DefringePurpleHueLo | 30 |
Dehaze | +37 |
DigitalZoomRatio | 1 |
DistortionCorrectionAlreadyApplied | True |
Exposure2012 | 0.00 |
ExposureCompensation | 0 |
ExposureMode | Manual |
ExposureProgram | Manual |
ExposureTime | 1/200 |
Firmware | 1.41 |
Flash | No Flash |
FNumber | 4.0 |
FocalLength | 12.0 mm |
FocalLength35efl | 12.0 mm (35 mm equivalent: 18.0 mm) |
FocalLengthIn35mmFormat | 18 mm |
Format | image/jpeg |
FOV | 90.0 deg |
GrainAmount | 0 |
GreenHue | 0 |
GreenSaturation | 0 |
HasCrop | True |
HasExtendedXMP | B805C2233F9C9DC580989DC4DFD03F90 |
HasSettings | True |
Highlights2012 | -66 |
HueAdjustmentAqua | 0 |
HueAdjustmentBlue | 0 |
HueAdjustmentGreen | 0 |
HueAdjustmentMagenta | 0 |
HueAdjustmentOrange | 0 |
HueAdjustmentPurple | 0 |
HueAdjustmentRed | 0 |
HueAdjustmentYellow | 0 |
HyperfocalDistance | 1.80 m |
ImageHeight | 4823 |
ImageSize | 4275x4823 |
ImageWidth | 4275 |
ISO | 400 |
LateralChromaticAberrationCorrectionAlreadyApplied | True |
Lens | NX 12-24mm F4-5.6 |
LensID (1) | 12 |
LensID | Samsung NX 12-24mm F4-5.6 ED |
LensInfo | 12-24mm f/4-5.6 |
LensManualDistortionAmount | 0 |
LensModel | NX 12-24mm F4-5.6 |
LensProfileChromaticAberrationScale | 100 |
LensProfileDistortionScale | 100 |
LensProfileEnable | 1 |
LensProfileFilename | Samsung NX10 (Samsung 18-55 f3.5-5.6 OIS) - RAW.lcp |
LensProfileName | Adobe (Samsung 18-55 f/3.5-5.6 OIS) |
LensProfileSetup | Custom |
LensProfileVignettingScale | 100 |
LensSerialNumber | 348900069033 |
LightSource | Unknown |
LightValue | 9.6 |
LuminanceAdjustmentAqua | 0 |
LuminanceAdjustmentBlue | 0 |
LuminanceAdjustmentGreen | 0 |
LuminanceAdjustmentMagenta | 0 |
LuminanceAdjustmentOrange | 0 |
LuminanceAdjustmentPurple | 0 |
LuminanceAdjustmentRed | 0 |
LuminanceAdjustmentYellow | 0 |
LuminanceNoiseReductionContrast | 0 |
LuminanceNoiseReductionDetail | 50 |
LuminanceSmoothing | 70 |
Make | SAMSUNG |
Megapixels | 20.6 |
MeteringMode | Multi-segment |
Model | NX1 |
ModifyDate (1) | 2017:12:12 17:19:40+01:00 |
ModifyDate | 2017:12:12 17:19:40 |
PaintCorrectionActive | true |
PaintCorrectionAmount | 1.000000 |
PaintCorrectionBrightness | 0.000000 |
PaintCorrectionClarity2012 (1) | 0.000000 |
PaintCorrectionClarity2012 (2) | 0.656860 |
PaintCorrectionClarity2012 (3) | 0.558820 |
PaintCorrectionClarity2012 | 0.254900 |
PaintCorrectionContrast2012 (1) | -0.254900 |
PaintCorrectionContrast2012 | 0.000000 |
PaintCorrectionDefringe | 0.000000 |
PaintCorrectionExposure2012 (2) | 0.075000 |
PaintCorrectionExposure2012 (3) | 0.000000 |
PaintCorrectionExposure2012 | 0.255000 |
PaintCorrectionHighlights2012 | 0.000000 |
PaintCorrectionHue | 240.000000 |
PaintCorrectionLocalBlacks2012 | 0.000000 |
PaintCorrectionLocalDehaze | 0.000000 |
PaintCorrectionLocalWhites2012 | 0.000000 |
PaintCorrectionLuminanceNoise | 0.000000 |
PaintCorrectionMaskCenterWeight (17) | 0.000000 |
PaintCorrectionMaskCenterWeight (2) | 0.047805 |
PaintCorrectionMaskCenterWeight | 0.037601 |
PaintCorrectionMaskFlow (2) | 0.772000 |
PaintCorrectionMaskFlow (48) | 1.000000 |
PaintCorrectionMaskFlow | 0.800000 |
PaintCorrectionMaskRadius (1) | 0.163300 |
PaintCorrectionMaskRadius (12) | 0.049783 |
PaintCorrectionMaskRadius (2) | 0.196708 |
PaintCorrectionMaskRadius (20) | 0.023036 |
PaintCorrectionMaskRadius (21) | 0.084996 |
PaintCorrectionMaskRadius (22) | 0.024968 |
PaintCorrectionMaskRadius (24) | 0.022635 |
PaintCorrectionMaskRadius (28) | 0.004177 |
PaintCorrectionMaskRadius (32) | 0.008130 |
PaintCorrectionMaskRadius (35) | 0.058359 |
PaintCorrectionMaskRadius (37) | 0.029996 |
PaintCorrectionMaskRadius (4) | 0.100874 |
PaintCorrectionMaskRadius (41) | 0.011209 |
PaintCorrectionMaskRadius (48) | 0.020784 |
PaintCorrectionMaskRadius (49) | 0.020883 |
PaintCorrectionMaskRadius (50) | 0.020835 |
PaintCorrectionMaskRadius (51) | 0.020923 |
PaintCorrectionMaskRadius (52) | 0.016643 |
PaintCorrectionMaskRadius (53) | 0.016657 |
PaintCorrectionMaskRadius (54) | 0.008264 |
PaintCorrectionMaskRadius (55) | 0.008216 |
PaintCorrectionMaskRadius (56) | 0.008193 |
PaintCorrectionMaskRadius (57) | 0.216178 |
PaintCorrectionMaskRadius (58) | 0.215892 |
PaintCorrectionMaskRadius (59) | 0.091474 |
PaintCorrectionMaskRadius (6) | 0.094179 |
PaintCorrectionMaskRadius | 0.094540 |
PaintCorrectionMaskValue (48) | 0.000000 |
PaintCorrectionMaskValue | 1.000000 |
PaintCorrectionMaskWhat | Mask/Paint |
PaintCorrectionMoire | 0.000000 |
PaintCorrectionSaturation (1) | 0.480390 |
PaintCorrectionSaturation (5) | 0.990200 |
PaintCorrectionSaturation | 0.000000 |
PaintCorrectionShadows2012 | 0.000000 |
PaintCorrectionSharpness | 0.000000 |
PaintCorrectionTemperature (1) | -0.470590 |
PaintCorrectionTemperature | 0.000000 |
PaintCorrectionTint (1) | 0.627450 |
PaintCorrectionTint (3) | 0.343140 |
PaintCorrectionTint | 0.000000 |
PaintCorrectionWhat | Correction |
ParametricDarks | 0 |
ParametricHighlights | 0 |
ParametricHighlightSplit | 75 |
ParametricLights | 0 |
ParametricMidtoneSplit | 50 |
ParametricShadows | 0 |
ParametricShadowSplit | 25 |
PerspectiveAspect | 0 |
PerspectiveHorizontal | 0 |
PerspectiveRotate | 0.0 |
PerspectiveScale | 100 |
PerspectiveUpright | 0 |
PerspectiveVertical | 0 |
PerspectiveX | 0.00 |
PerspectiveY | 0.00 |
PostCropVignetteAmount | 0 |
ProcessVersion | 6.7 |
ProfileDescription | Adobe RGB (1998) |
RedHue | -34 |
RedSaturation | 0 |
Saturation (1) | 0 |
Saturation | Normal |
SaturationAdjustmentAqua | 0 |
SaturationAdjustmentBlue | 0 |
SaturationAdjustmentGreen | 0 |
SaturationAdjustmentMagenta | 0 |
SaturationAdjustmentOrange | 0 |
SaturationAdjustmentPurple | 0 |
SaturationAdjustmentRed | 0 |
SaturationAdjustmentYellow | 0 |
ScaleFactor35efl | 1.5 |
SceneCaptureType | Standard |
SerialNumber | 0 |
Shadows2012 | +100 |
ShadowTint | +65 |
SharpenDetail | 25 |
SharpenEdgeMasking | 87 |
SharpenRadius | +1.0 |
Sharpness (1) | 40 |
Sharpness | Normal |
ShutterSpeed | 1/200 |
ShutterSpeedValue | 1/200 |
Software | Adobe Photoshop Lightroom 6.13 (Windows) |
SplitToningBalance | 0 |
SplitToningHighlightHue | 0 |
SplitToningHighlightSaturation | 0 |
SplitToningShadowHue | 0 |
SplitToningShadowSaturation | 0 |
Tint | -25 |
ToneCurve | 0, 0, 255, 255 |
ToneCurveBlue | 0, 0, 255, 255 |
ToneCurveGreen | 0, 0, 255, 255 |
ToneCurveName | Linear |
ToneCurveName2012 | Linear |
ToneCurvePV2012 | 0, 0, 255, 255 |
ToneCurvePV2012Blue | 0, 0, 255, 255 |
ToneCurvePV2012Green | 0, 0, 255, 255 |
ToneCurvePV2012Red | 0, 0, 255, 255 |
ToneCurveRed | 0, 0, 255, 255 |
ToneMapStrength | 0 |
Version | 10.0 |
Vibrance | 0 |
VignetteAmount | 0 |
VignetteCorrectionAlreadyApplied | True |
WhiteBalance (1) | Custom |
WhiteBalance | Auto |
Whites2012 | +43 |