Felt | Verdi |
AlreadyApplied | True |
Aperture | 18.0 |
ApertureValue | 18.0 |
ApproximateFocusDistance | 5.65 |
AutoLateralCA | 0 |
AutoWhiteVersion | 134348800 |
BitsPerSample | 8 |
Blacks2012 | +13 |
BlueHue | 0 |
BlueSaturation | 0 |
CameraProfile | Adobe Standard |
CircGradBasedCorrActive | true |
CircGradBasedCorrAmount | 1.000000 |
CircGradBasedCorrBrightness | 0.000000 |
CircGradBasedCorrClarity2012 | 0.014281 |
CircGradBasedCorrContrast2012 (4) | 0.048080 |
CircGradBasedCorrContrast2012 | 0.047594 |
CircGradBasedCorrDefringe | 0.000000 |
CircGradBasedCorrExposure2012 (1) | 0.615500 |
CircGradBasedCorrExposure2012 (10) | 0.144250 |
CircGradBasedCorrExposure2012 (11) | -0.077000 |
CircGradBasedCorrExposure2012 (12) | 0.153750 |
CircGradBasedCorrExposure2012 (13) | 0.077000 |
CircGradBasedCorrExposure2012 (14) | 0.355750 |
CircGradBasedCorrExposure2012 (15) | 0.240500 |
CircGradBasedCorrExposure2012 (16) | 0.134500 |
CircGradBasedCorrExposure2012 (17) | 0.211500 |
CircGradBasedCorrExposure2012 (18) | 0.192250 |
CircGradBasedCorrExposure2012 (2) | 0.259500 |
CircGradBasedCorrExposure2012 (3) | 0.327000 |
CircGradBasedCorrExposure2012 (4) | -0.009500 |
CircGradBasedCorrExposure2012 (5) | 0.384500 |
CircGradBasedCorrExposure2012 (7) | 0.067250 |
CircGradBasedCorrExposure2012 (8) | 0.182750 |
CircGradBasedCorrExposure2012 (9) | 0.202000 |
CircGradBasedCorrExposure2012 | -0.096250 |
CircGradBasedCorrHighlights2012 | -0.214182 |
CircGradBasedCorrHue | 240.000000 |
CircGradBasedCorrLuminanceNoise | 0.000000 |
CircGradBasedCorrMaskAngle (11) | 0.050122 |
CircGradBasedCorrMaskAngle (12) | 1.522000 |
CircGradBasedCorrMaskAngle (13) | 3.445210 |
CircGradBasedCorrMaskAngle (15) | 5.321000 |
CircGradBasedCorrMaskAngle (17) | 16.447300 |
CircGradBasedCorrMaskAngle (4) | 6.557240 |
CircGradBasedCorrMaskAngle (5) | 4.745730 |
CircGradBasedCorrMaskAngle (6) | 2.134960 |
CircGradBasedCorrMaskAngle (7) | -21.895100 |
CircGradBasedCorrMaskAngle (8) | -22.211600 |
CircGradBasedCorrMaskAngle | -14.205600 |
CircGradBasedCorrMaskBottom (1) | 0.797252 |
CircGradBasedCorrMaskBottom (10) | 0.423680 |
CircGradBasedCorrMaskBottom (11) | 0.564937 |
CircGradBasedCorrMaskBottom (12) | 0.550595 |
CircGradBasedCorrMaskBottom (13) | 0.476275 |
CircGradBasedCorrMaskBottom (14) | 0.601877 |
CircGradBasedCorrMaskBottom (15) | 0.814699 |
CircGradBasedCorrMaskBottom (16) | 0.693457 |
CircGradBasedCorrMaskBottom (17) | 0.881702 |
CircGradBasedCorrMaskBottom (18) | 0.934413 |
CircGradBasedCorrMaskBottom (2) | 0.672249 |
CircGradBasedCorrMaskBottom (3) | 0.723660 |
CircGradBasedCorrMaskBottom (4) | 1.123520 |
CircGradBasedCorrMaskBottom (5) | 0.785261 |
CircGradBasedCorrMaskBottom (6) | 0.849959 |
CircGradBasedCorrMaskBottom (7) | 0.932402 |
CircGradBasedCorrMaskBottom (8) | 0.552373 |
CircGradBasedCorrMaskBottom (9) | 0.568011 |
CircGradBasedCorrMaskBottom | 0.829573 |
CircGradBasedCorrMaskFeather (11) | +79 |
CircGradBasedCorrMaskFeather (14) | +88 |
CircGradBasedCorrMaskFeather | +50 |
CircGradBasedCorrMaskFlipped | true |
CircGradBasedCorrMaskLeft (1) | 0.313089 |
CircGradBasedCorrMaskLeft (10) | 0.381587 |
CircGradBasedCorrMaskLeft (11) | 0.510555 |
CircGradBasedCorrMaskLeft (12) | 0.219026 |
CircGradBasedCorrMaskLeft (13) | 0.032761 |
CircGradBasedCorrMaskLeft (14) | 0.488604 |
CircGradBasedCorrMaskLeft (15) | 0.504591 |
CircGradBasedCorrMaskLeft (16) | 0.522908 |
CircGradBasedCorrMaskLeft (17) | 0.652053 |
CircGradBasedCorrMaskLeft (18) | 0.352371 |
CircGradBasedCorrMaskLeft (2) | 0.539927 |
CircGradBasedCorrMaskLeft (3) | 0.044754 |
CircGradBasedCorrMaskLeft (4) | -0.016902 |
CircGradBasedCorrMaskLeft (5) | 0.033309 |
CircGradBasedCorrMaskLeft (6) | 0.464910 |
CircGradBasedCorrMaskLeft (7) | 0.756481 |
CircGradBasedCorrMaskLeft (8) | 0.156287 |
CircGradBasedCorrMaskLeft (9) | 0.056804 |
CircGradBasedCorrMaskLeft | 0.410122 |
CircGradBasedCorrMaskMidpoint | +50 |
CircGradBasedCorrMaskRight (1) | 0.535152 |
CircGradBasedCorrMaskRight (10) | 0.478366 |
CircGradBasedCorrMaskRight (11) | 1.046980 |
CircGradBasedCorrMaskRight (12) | 0.328462 |
CircGradBasedCorrMaskRight (13) | 0.372003 |
CircGradBasedCorrMaskRight (14) | 1.026740 |
CircGradBasedCorrMaskRight (15) | 1.013800 |
CircGradBasedCorrMaskRight (16) | 0.578683 |
CircGradBasedCorrMaskRight (17) | 0.769396 |
CircGradBasedCorrMaskRight (18) | 0.478873 |
CircGradBasedCorrMaskRight (2) | 1.027240 |
CircGradBasedCorrMaskRight (3) | 0.355796 |
CircGradBasedCorrMaskRight (4) | 0.861554 |
CircGradBasedCorrMaskRight (5) | 0.415334 |
CircGradBasedCorrMaskRight (6) | 0.726035 |
CircGradBasedCorrMaskRight (7) | 0.826896 |
CircGradBasedCorrMaskRight (8) | 0.249090 |
CircGradBasedCorrMaskRight (9) | 0.177025 |
CircGradBasedCorrMaskRight | 0.463245 |
CircGradBasedCorrMaskRoundness | 0 |
CircGradBasedCorrMaskTop (1) | 0.290717 |
CircGradBasedCorrMaskTop (10) | 0.297356 |
CircGradBasedCorrMaskTop (11) | 0.295944 |
CircGradBasedCorrMaskTop (12) | 0.452429 |
CircGradBasedCorrMaskTop (13) | 0.346481 |
CircGradBasedCorrMaskTop (14) | 0.385004 |
CircGradBasedCorrMaskTop (15) | 0.589213 |
CircGradBasedCorrMaskTop (16) | 0.409822 |
CircGradBasedCorrMaskTop (17) | 0.797150 |
CircGradBasedCorrMaskTop (18) | 0.720917 |
CircGradBasedCorrMaskTop (2) | 0.527756 |
CircGradBasedCorrMaskTop (3) | 0.435060 |
CircGradBasedCorrMaskTop (4) | 0.657421 |
CircGradBasedCorrMaskTop (5) | 0.698482 |
CircGradBasedCorrMaskTop (6) | 0.798864 |
CircGradBasedCorrMaskTop (7) | 0.823260 |
CircGradBasedCorrMaskTop (8) | 0.431960 |
CircGradBasedCorrMaskTop (9) | 0.490261 |
CircGradBasedCorrMaskTop | 0.801380 |
CircGradBasedCorrMaskValue | 1.000000 |
CircGradBasedCorrMaskVersion | +2 |
CircGradBasedCorrMaskWhat | Mask/CircularGradient |
CircGradBasedCorrMoire | 0.000000 |
CircGradBasedCorrSaturation | 0.000000 |
CircGradBasedCorrShadows2012 | 0.495000 |
CircGradBasedCorrSharpness | 0.000000 |
CircGradBasedCorrTemperature | 0.000000 |
CircGradBasedCorrTint | 0.000000 |
CircGradBasedCorrWhat | Correction |
CircleOfConfusion | 0.019 mm |
Clarity2012 | -2 |
ColorComponents | 3 |
ColorNoiseReduction | 25 |
ColorNoiseReductionDetail | 50 |
ColorNoiseReductionSmoothness | 50 |
ColorSpace | sRGB |
ColorTemperature | 5400 |
Contrast2012 | 0 |
ConvertToGrayscale | False |
CreateDate (1) | 2017:10:10 09:05:47.68 |
CreateDate | 2017:10:10 09:05:47 |
CreatorTool | Adobe Photoshop Lightroom 6.0 (Windows) |
CropAngle | 1.522 |
CropBottom | 0.953244 |
CropConstrainToWarp | 0 |
CropLeft | 0.099071 |
CropRight | 0.984041 |
CropTop | 0.016409 |
CustomRendered | Normal |
DateCreated (1) | 2017:10:10 09:05:47.68 |
DateCreated | 2017:10:10 |
DateTimeOriginal | 2017:10:10 09:05:47 |
DefringeGreenAmount | 0 |
DefringeGreenHueHi | 60 |
DefringeGreenHueLo | 40 |
DefringePurpleAmount | 0 |
DefringePurpleHueHi | 70 |
DefringePurpleHueLo | 30 |
DOF | inf (0.82 m - inf) |
Exposure2012 | +0.30 |
ExposureCompensation | 0 |
ExposureMode | Auto |
ExposureProgram | Landscape |
ExposureTime | 1/320 |
Firmware | 1.0.0 |
Flash | Off, Did not fire |
FlashCompensation | 0 |
FNumber | 18.0 |
FocalLength | 18.0 mm |
FocalLength35efl | 18.0 mm (35 mm equivalent: 28.6 mm) |
Format | image/jpeg |
FOV | 64.4 deg |
GrainAmount | 0 |
GreenHue | 0 |
GreenSaturation | 0 |
HasCrop | True |
HasSettings | True |
Highlights2012 | -40 |
HueAdjustmentAqua | 0 |
HueAdjustmentBlue | 0 |
HueAdjustmentGreen | 0 |
HueAdjustmentMagenta | 0 |
HueAdjustmentOrange | 0 |
HueAdjustmentPurple | 0 |
HueAdjustmentRed | 0 |
HueAdjustmentYellow | 0 |
HyperfocalDistance | 0.95 m |
ImageHeight | 3605 |
ImageNumber | 0 |
ImageSize | 5407x3605 |
ImageWidth | 5407 |
ISO | 100 |
Lens | TAMRON 18-200mm F/3.5-6.3 DiII VC B018 |
LensID (1) | 127 |
LensID | Tamron 18-200mm f/3.5-6.3 Di II VC (B018) |
LensInfo | 18-200mm f/? |
LensManualDistortionAmount | 0 |
LensModel | TAMRON 18-200mm F/3.5-6.3 DiII VC B018 |
LensProfileEnable | 0 |
LensProfileSetup | LensDefaults |
LensSerialNumber | 0000000000 |
LightValue | 16.7 |
LuminanceAdjustmentAqua | 0 |
LuminanceAdjustmentBlue | +11 |
LuminanceAdjustmentGreen | -30 |
LuminanceAdjustmentMagenta | 0 |
LuminanceAdjustmentOrange | -4 |
LuminanceAdjustmentPurple | 0 |
LuminanceAdjustmentRed | 0 |
LuminanceAdjustmentYellow | -29 |
LuminanceNoiseReductionContrast | 0 |
LuminanceNoiseReductionDetail | 50 |
LuminanceSmoothing | 52 |
Make | Canon |
MaxApertureValue | 3.5 |
Megapixels | 19.5 |
MeteringMode | Multi-segment |
Model | Canon EOS 750D |
ModifyDate (1) | 2017:10:11 13:10:42+02:00 |
ModifyDate | 2017:10:11 13:10:42 |
ParametricDarks | 0 |
ParametricHighlights | 0 |
ParametricHighlightSplit | 75 |
ParametricLights | 0 |
ParametricMidtoneSplit | 50 |
ParametricShadows | 0 |
ParametricShadowSplit | 25 |
PerspectiveAspect | 0 |
PerspectiveHorizontal | 0 |
PerspectiveRotate | 0.0 |
PerspectiveScale | 100 |
PerspectiveUpright | 0 |
PerspectiveVertical | 0 |
PostCropVignetteAmount | 0 |
ProcessVersion | 6.7 |
ProfileDescription | sRGB IEC61966-2.1 |
RawFileName | IMG_1606.jpg |
RecommendedExposureIndex | 100 |
RedHue | 0 |
RedSaturation | 0 |
Saturation | 0 |
SaturationAdjustmentAqua | 0 |
SaturationAdjustmentBlue | +39 |
SaturationAdjustmentGreen | 0 |
SaturationAdjustmentMagenta | 0 |
SaturationAdjustmentOrange | 0 |
SaturationAdjustmentPurple | 0 |
SaturationAdjustmentRed | 0 |
SaturationAdjustmentYellow | 0 |
ScaleFactor35efl | 1.6 |
SceneCaptureType | Standard |
SensitivityType | Recommended Exposure Index |
SerialNumber | 123032005578 |
Shadows2012 | +50 |
ShadowTint | 0 |
SharpenDetail | 25 |
SharpenEdgeMasking | 0 |
SharpenRadius | +1.0 |
Sharpness | 25 |
ShutterSpeed | 1/320 |
ShutterSpeedValue | 1/320 |
Software | PhotoScape |
SplitToningBalance | 0 |
SplitToningHighlightHue | 0 |
SplitToningHighlightSaturation | 0 |
SplitToningShadowHue | 0 |
SplitToningShadowSaturation | 0 |
Tint | 0 |
ToneCurve | 0, 0, 255, 255 |
ToneCurveBlue | 0, 0, 255, 255 |
ToneCurveGreen | 0, 0, 255, 255 |
ToneCurveName | Linear |
ToneCurveName2012 | Linear |
ToneCurvePV2012 | 0, 0, 255, 255 |
ToneCurvePV2012Blue | 0, 0, 255, 255 |
ToneCurvePV2012Green | 0, 0, 255, 255 |
ToneCurvePV2012Red | 0, 0, 255, 255 |
ToneCurveRed | 0, 0, 255, 255 |
Version | 9.0 |
Vibrance | 0 |
VignetteAmount | 0 |
WhiteBalance (1) | Custom |
WhiteBalance | Auto |
Whites2012 | +61 |