Felt | Verdi |
AlreadyApplied | True |
Aperture | 11.0 |
ApertureValue | 11.0 |
ApproximateFocusDistance | 4294967295 |
AutoLateralCA | 0 |
AutoWhiteVersion | 134348800 |
BitsPerSample | 8 |
Blacks2012 | -48 |
BlueHue | 0 |
BlueSaturation | 0 |
CameraProfile | Adobe Standard |
CircGradBasedCorrActive | true |
CircGradBasedCorrAmount | 1.000000 |
CircGradBasedCorrBrightness | 0.000000 |
CircGradBasedCorrClarity2012 | 0.014281 |
CircGradBasedCorrContrast2012 | 0.047594 |
CircGradBasedCorrDefringe | 0.000000 |
CircGradBasedCorrExposure2012 (1) | 0.077000 |
CircGradBasedCorrExposure2012 (2) | 0.163500 |
CircGradBasedCorrExposure2012 (3) | 0.250000 |
CircGradBasedCorrExposure2012 (4) | 0.230750 |
CircGradBasedCorrExposure2012 (5) | 0.182750 |
CircGradBasedCorrExposure2012 | 0.192250 |
CircGradBasedCorrHighlights2012 | -0.214182 |
CircGradBasedCorrHue | 240.000000 |
CircGradBasedCorrLuminanceNoise | 0.000000 |
CircGradBasedCorrMaskAngle (2) | 0.000000 |
CircGradBasedCorrMaskAngle (3) | -34.716000 |
CircGradBasedCorrMaskAngle (4) | -3.445460 |
CircGradBasedCorrMaskAngle (5) | 6.295510 |
CircGradBasedCorrMaskAngle | -4.938670 |
CircGradBasedCorrMaskBottom (1) | 0.578035 |
CircGradBasedCorrMaskBottom (2) | 0.686416 |
CircGradBasedCorrMaskBottom (3) | 1.002300 |
CircGradBasedCorrMaskBottom (4) | 0.801907 |
CircGradBasedCorrMaskBottom (5) | 0.565475 |
CircGradBasedCorrMaskBottom | 0.476067 |
CircGradBasedCorrMaskFeather | +50 |
CircGradBasedCorrMaskFlipped | true |
CircGradBasedCorrMaskLeft (1) | 0.313102 |
CircGradBasedCorrMaskLeft (2) | -0.464355 |
CircGradBasedCorrMaskLeft (3) | 0.803395 |
CircGradBasedCorrMaskLeft (4) | 0.820659 |
CircGradBasedCorrMaskLeft (5) | 0.858407 |
CircGradBasedCorrMaskLeft | 0.877681 |
CircGradBasedCorrMaskMidpoint | +50 |
CircGradBasedCorrMaskRight (1) | 0.862235 |
CircGradBasedCorrMaskRight (2) | 0.371870 |
CircGradBasedCorrMaskRight (3) | 1.025120 |
CircGradBasedCorrMaskRight (4) | 0.894178 |
CircGradBasedCorrMaskRight (5) | 0.889185 |
CircGradBasedCorrMaskRight | 1.002860 |
CircGradBasedCorrMaskRoundness | 0 |
CircGradBasedCorrMaskTop (1) | 0.384394 |
CircGradBasedCorrMaskTop (2) | 0.302022 |
CircGradBasedCorrMaskTop (3) | 0.740478 |
CircGradBasedCorrMaskTop (4) | 0.461099 |
CircGradBasedCorrMaskTop (5) | 0.298687 |
CircGradBasedCorrMaskTop | 0.451679 |
CircGradBasedCorrMaskValue | 1.000000 |
CircGradBasedCorrMaskVersion | +2 |
CircGradBasedCorrMaskWhat | Mask/CircularGradient |
CircGradBasedCorrMoire | 0.000000 |
CircGradBasedCorrSaturation | 0.000000 |
CircGradBasedCorrShadows2012 | 0.495000 |
CircGradBasedCorrSharpness | 0.000000 |
CircGradBasedCorrTemperature | 0.000000 |
CircGradBasedCorrTint | 0.000000 |
CircGradBasedCorrWhat | Correction |
CircleOfConfusion | 0.019 mm |
Clarity2012 | -48 |
ColorComponents | 3 |
ColorNoiseReduction | 25 |
ColorNoiseReductionDetail | 50 |
ColorNoiseReductionSmoothness | 50 |
ColorSpace | sRGB |
ColorTemperature | 6100 |
Contrast2012 | +16 |
ConvertToGrayscale | False |
CreateDate (1) | 2017:10:10 08:49:18.08 |
CreateDate | 2017:10:10 08:49:18 |
CreatorTool | Adobe Photoshop Lightroom 6.0 (Windows) |
CustomRendered | Normal |
DateCreated (1) | 2017:10:10 08:49:18.08 |
DateCreated | 2017:10:10 |
DateTimeOriginal | 2017:10:10 08:49:18 |
DefringeGreenAmount | 0 |
DefringeGreenHueHi | 60 |
DefringeGreenHueLo | 40 |
DefringePurpleAmount | 0 |
DefringePurpleHueHi | 70 |
DefringePurpleHueLo | 30 |
DOF | inf (1.56 m - inf) |
Exposure2012 | -0.70 |
ExposureCompensation | 0 |
ExposureMode | Auto |
ExposureProgram | Landscape |
ExposureTime | 1/125 |
Firmware | 1.0.0 |
Flash | Off, Did not fire |
FlashCompensation | 0 |
FNumber | 11.0 |
FocalLength | 18.0 mm |
FocalLength35efl | 18.0 mm (35 mm equivalent: 28.6 mm) |
Format | image/jpeg |
FOV | 64.4 deg |
GradientBasedCorrActive | true |
GradientBasedCorrAmount | 1.000000 |
GradientBasedCorrBrightness | 0.000000 |
GradientBasedCorrClarity2012 | 0.014281 |
GradientBasedCorrContrast2012 | 0.047594 |
GradientBasedCorrDefringe | 0.000000 |
GradientBasedCorrExposure2012 | 0.096250 |
GradientBasedCorrHighlights2012 | -0.214182 |
GradientBasedCorrHue | 240.000000 |
GradientBasedCorrLuminanceNoise | 0.000000 |
GradientBasedCorrMaskFullX | 1.006740 |
GradientBasedCorrMaskFullY | 1.031790 |
GradientBasedCorrMaskValue | 1.000000 |
GradientBasedCorrMaskWhat | Mask/Gradient |
GradientBasedCorrMaskZeroX | 1.002890 |
GradientBasedCorrMaskZeroY | 1.024570 |
GradientBasedCorrMoire | 0.000000 |
GradientBasedCorrSaturation | 0.000000 |
GradientBasedCorrShadows2012 | 0.495000 |
GradientBasedCorrSharpness | 0.000000 |
GradientBasedCorrTemperature | 0.000000 |
GradientBasedCorrTint | 0.000000 |
GradientBasedCorrWhat | Correction |
GrainAmount | 0 |
GreenHue | 0 |
GreenSaturation | 0 |
HasCrop | False |
HasSettings | True |
Highlights2012 | -100 |
HueAdjustmentAqua | 0 |
HueAdjustmentBlue | 0 |
HueAdjustmentGreen | 0 |
HueAdjustmentMagenta | 0 |
HueAdjustmentOrange | 0 |
HueAdjustmentPurple | 0 |
HueAdjustmentRed | 0 |
HueAdjustmentYellow | 0 |
HyperfocalDistance | 1.56 m |
ImageHeight | 3856 |
ImageNumber | 0 |
ImageSize | 5925x3856 |
ImageWidth | 5925 |
ISO | 100 |
Lens | TAMRON 18-200mm F/3.5-6.3 DiII VC B018 |
LensID (1) | 127 |
LensID | Tamron 18-200mm f/3.5-6.3 Di II VC (B018) |
LensInfo | 18-200mm f/? |
LensManualDistortionAmount | 0 |
LensModel | TAMRON 18-200mm F/3.5-6.3 DiII VC B018 |
LensProfileEnable | 0 |
LensProfileSetup | LensDefaults |
LensSerialNumber | 0000000000 |
LightValue | 13.9 |
LuminanceAdjustmentAqua | 0 |
LuminanceAdjustmentBlue | -23 |
LuminanceAdjustmentGreen | 0 |
LuminanceAdjustmentMagenta | 0 |
LuminanceAdjustmentOrange | +23 |
LuminanceAdjustmentPurple | 0 |
LuminanceAdjustmentRed | 0 |
LuminanceAdjustmentYellow | +16 |
LuminanceSmoothing | 0 |
Make | Canon |
MaxApertureValue | 3.5 |
Megapixels | 22.8 |
MeteringMode | Multi-segment |
Model | Canon EOS 750D |
ModifyDate (1) | 2017:10:11 21:02:18+02:00 |
ModifyDate | 2017:10:11 21:02:18 |
ParametricDarks | 0 |
ParametricHighlights | 0 |
ParametricHighlightSplit | 75 |
ParametricLights | 0 |
ParametricMidtoneSplit | 50 |
ParametricShadows | 0 |
ParametricShadowSplit | 25 |
PerspectiveAspect | 0 |
PerspectiveHorizontal | 0 |
PerspectiveRotate | 0.0 |
PerspectiveScale | 100 |
PerspectiveUpright | 0 |
PerspectiveVertical | 0 |
PostCropVignetteAmount | 0 |
ProcessVersion | 6.7 |
ProfileDescription | sRGB IEC61966-2.1 |
RawFileName | IMG_1596.jpg |
RecommendedExposureIndex | 100 |
RedHue | 0 |
RedSaturation | 0 |
Saturation | 0 |
SaturationAdjustmentAqua | 0 |
SaturationAdjustmentBlue | +11 |
SaturationAdjustmentGreen | 0 |
SaturationAdjustmentMagenta | 0 |
SaturationAdjustmentOrange | 0 |
SaturationAdjustmentPurple | 0 |
SaturationAdjustmentRed | 0 |
SaturationAdjustmentYellow | 0 |
ScaleFactor35efl | 1.6 |
SceneCaptureType | Standard |
SensitivityType | Recommended Exposure Index |
SerialNumber | 123032005578 |
Shadows2012 | +100 |
ShadowTint | 0 |
SharpenDetail | 25 |
SharpenEdgeMasking | 0 |
SharpenRadius | +1.0 |
Sharpness | 25 |
ShutterSpeed | 1/125 |
ShutterSpeedValue | 1/125 |
Software | PhotoScape |
SplitToningBalance | 0 |
SplitToningHighlightHue | 0 |
SplitToningHighlightSaturation | 0 |
SplitToningShadowHue | 0 |
SplitToningShadowSaturation | 0 |
Tint | +12 |
ToneCurve | 0, 0, 255, 255 |
ToneCurveBlue | 0, 0, 255, 255 |
ToneCurveGreen | 0, 0, 255, 255 |
ToneCurveName | Linear |
ToneCurveName2012 | Linear |
ToneCurvePV2012 | 0, 0, 255, 255 |
ToneCurvePV2012Blue | 0, 0, 255, 255 |
ToneCurvePV2012Green | 0, 0, 255, 255 |
ToneCurvePV2012Red | 0, 0, 255, 255 |
ToneCurveRed | 0, 0, 255, 255 |
Version | 9.0 |
Vibrance | 0 |
VignetteAmount | 0 |
WhiteBalance (1) | Custom |
WhiteBalance | Auto |
Whites2012 | +80 |