Felt | Verdi |
ApertureValue (1) | 4.0 |
ApproximateFocusDistance | 1.5 |
AutoLateralCA | 0 |
Blacks2012 | -20 |
BlueHue | 0 |
BlueSaturation | 0 |
CameraProfile | Adobe Standard |
CircleOfConfusion | 0.031 mm |
Clarity2012 | 0 |
ColorComponents | 3 |
ColorNoiseReductionSmoothness | 50 |
ColorSpace (1) | Uncalibrated |
ConvertToGrayscale | False |
CreateDate (1) | 2017:09:23 10:55:34+02:00 |
CustomRendered | Normal |
DateTimeOriginal (1) | 2017:09:23 10:55:34+02:00 |
DateTimeOriginal | 2017:09:23 10:55:34 |
DefringeGreenHueLo | 40 |
DefringePurpleAmount | 0 |
DefringePurpleHueHi | 70 |
ExifImageHeight (1) | 873 |
ExifImageWidth (1) | 1280 |
Exposure2012 | +0.60 |
ExposureCompensation (1) | -5/3 |
ExposureProgram | Aperture-priority AE |
ExposureTime | 1/1600 |
Firmware | 2.1.1 |
FlashMode | Off |
FlashReturn | No return detection |
FNumber | 4.0 |
Format | application/vnd.adobe.photoshop |
FOV | 10.5 deg |
GreenSaturation | 0 |
HueAdjustmentBlue | 0 |
HueAdjustmentGreen | 0 |
HueAdjustmentMagenta | 0 |
HueAdjustmentOrange | 0 |
HueAdjustmentPurple | 0 |
HueAdjustmentRed | 0 |
ICCProfileName | sRGB IEC61966-2.1 |
ImageHeight | 873 |
ImageWidth | 1280 |
ISO | 200 |
LensID (1) | 170 |
LensID | Canon EF 200mm f/2.8L II USM |
LensInfo | 200mm f/? |
LensModel | EF200mm f/2.8L USM |
LensProfileSetup | LensDefaults |
LightValue | 13.6 |
LuminanceAdjustmentAqua | 0 |
LuminanceAdjustmentMagenta | 0 |
LuminanceAdjustmentRed | 0 |
LuminanceAdjustmentYellow | 0 |
LuminanceSmoothing | 19 |
Make (1) | Canon |
MeteringMode | Multi-segment |
Model | Canon EOS 5D Mark II |
ModifyDate (1) | 2017:09:23 13:56:18+02:00 |
ParametricDarks | 0 |
ParametricHighlights | 0 |
ParametricLights | 0 |
ParametricMidtoneSplit | 50 |
ParametricShadows | 0 |
PerspectiveAspect | 0 |
PerspectiveUpright | 0 |
PerspectiveX | 0.00 |
ProcessVersion | 6.7 |
Rating | 0 |
RawFileName | IMG_0260.CR2 |
SaturationAdjustmentAqua | 0 |
SaturationAdjustmentBlue | 0 |
SaturationAdjustmentGreen | 0 |
SaturationAdjustmentMagenta | 0 |
SaturationAdjustmentOrange | 0 |
ScaleFactor35efl | 1.0 |
SerialNumber | 3531607589 |
SharpenDetail | 25 |
SharpenEdgeMasking | 26 |
Sharpness | 120 |
ShutterSpeedValue (1) | 1/1600 |
Software | Windows Photo Editor 10.0.10011.16384 |
SplitToningHighlightSaturation | 0 |
Tint | +28 |
ToneCurveGreen | 0, 0, 255, 255 |
ToneCurveName | Medium Contrast |
ToneCurveName2012 | Linear |
ToneCurvePV2012 | 0, 0, 255, 255 |
ToneCurvePV2012Green | 0, 0, 255, 255 |
ToneCurvePV2012Red | 0, 0, 255, 255 |
ToneMapStrength | 0 |