Felt | Verdi |
AlreadyApplied | True |
Aperture | 8.0 |
ApertureValue | 8.0 |
ApproximateFocusDistance | 4294967295 |
AutoLateralCA | 0 |
AutoWhiteVersion | 134348800 |
BitsPerSample | 8 |
Blacks2012 | +83 |
BlueHue | -28 |
BlueSaturation | +5 |
CameraProfile | Adobe Standard |
Clarity2012 | -38 |
ColorComponents | 3 |
ColorNoiseReduction | 25 |
ColorNoiseReductionDetail | 50 |
ColorNoiseReductionSmoothness | 50 |
ColorSpace | sRGB |
ColorTemperature | 5950 |
ColorTransform | YCbCr |
Contrast2012 | -79 |
ConvertToGrayscale | False |
CreateDate (1) | 2017:07:01 08:34:40.00 |
CreateDate | 2017:07:01 08:34:40 |
CreatorTool | Adobe Photoshop Lightroom 6.12 (Windows) |
CropAngle | 0 |
CropBottom | 0.859748 |
CropConstrainToWarp | 0 |
CropLeft | 0 |
CropRight | 1 |
CropTop | 0.162693 |
CustomRendered | Normal |
DateCreated (1) | 2017:07:01 |
DateCreated | 2017:07:01 08:34:40.00 |
DateTimeOriginal | 2017:07:01 08:34:40 |
DefringeGreenAmount | 0 |
DefringeGreenHueHi | 60 |
DefringeGreenHueLo | 40 |
DefringePurpleAmount | 0 |
DefringePurpleHueHi | 70 |
DefringePurpleHueLo | 30 |
Dehaze | 0 |
Exposure2012 | +0.12 |
ExposureCompensation | 0 |
ExposureMode | Manual |
ExposureProgram | Manual |
ExposureTime | 1/2500 |
Firmware | 1.2.3 |
Flash | Off, Did not fire |
FlashCompensation | 0 |
FNumber | 8.0 |
FocalLength | 280.0 mm |
FocalLength35efl | 280.0 mm |
Format | image/jpeg |
GrainAmount | 0 |
GreenHue | +49 |
GreenSaturation | 0 |
HasCrop | True |
HasSettings | True |
Highlights2012 | +31 |
HueAdjustmentAqua | +68 |
HueAdjustmentBlue | 0 |
HueAdjustmentGreen | +100 |
HueAdjustmentMagenta | +20 |
HueAdjustmentOrange | +2 |
HueAdjustmentPurple | +15 |
HueAdjustmentRed | +15 |
HueAdjustmentYellow | +15 |
ImageHeight | 2677 |
ImageNumber | 0 |
ImageSize | 5760x2677 |
ImageWidth | 5760 |
ISO | 800 |
Keywords | 2017, Safari Tarangire 1. juli 2017, Toppafrika |
Lens | EF70-200mm f/2.8L IS II USM +1.4x III |
LensID (1) | 252 |
LensID | Canon EF 70-200mm f/2.8L IS II USM + 1.4x |
LensInfo | 98-280mm f/? |
LensManualDistortionAmount | 0 |
LensModel | EF70-200mm f/2.8L IS II USM +1.4x III |
LensProfileEnable | 0 |
LensProfileSetup | LensDefaults |
LensSerialNumber | 000044a298 |
LightValue | 14.3 |
LuminanceAdjustmentAqua | -35 |
LuminanceAdjustmentBlue | +28 |
LuminanceAdjustmentGreen | -15 |
LuminanceAdjustmentMagenta | -10 |
LuminanceAdjustmentOrange | -8 |
LuminanceAdjustmentPurple | -10 |
LuminanceAdjustmentRed | -15 |
LuminanceAdjustmentYellow | 0 |
LuminanceSmoothing | 0 |
Make | Canon |
MaxApertureValue | 4.0 |
Megapixels | 15.4 |
MeteringMode | Multi-segment |
Model | Canon EOS 5D Mark III |
ModifyDate (1) | 2017:08:14 21:19:46+02:00 |
ModifyDate | 2017:08:14 21:19:46 |
ParametricDarks | -3 |
ParametricHighlights | +18 |
ParametricHighlightSplit | 75 |
ParametricLights | -28 |
ParametricMidtoneSplit | 50 |
ParametricShadows | +1 |
ParametricShadowSplit | 25 |
PerspectiveAspect | 0 |
PerspectiveHorizontal | 0 |
PerspectiveRotate | 0.0 |
PerspectiveScale | 100 |
PerspectiveUpright | 0 |
PerspectiveVertical | 0 |
PerspectiveX | 0.00 |
PerspectiveY | 0.00 |
PostCropVignetteAmount | 0 |
ProcessVersion | 6.7 |
ProfileDescription | sRGB IEC61966-2.1 |
RecommendedExposureIndex | 800 |
RedHue | +28 |
RedSaturation | 0 |
Saturation | +5 |
SaturationAdjustmentAqua | -39 |
SaturationAdjustmentBlue | -23 |
SaturationAdjustmentGreen | -50 |
SaturationAdjustmentMagenta | -25 |
SaturationAdjustmentOrange | -4 |
SaturationAdjustmentPurple | -30 |
SaturationAdjustmentRed | -10 |
SaturationAdjustmentYellow | -5 |
SceneCaptureType | Standard |
SensitivityType | Recommended Exposure Index |
SerialNumber | 248020005664 |
Shadows2012 | +29 |
ShadowTint | 0 |
SharpenDetail | 25 |
SharpenEdgeMasking | 0 |
SharpenRadius | +1.0 |
Sharpness | 25 |
ShutterSpeed | 1/2500 |
ShutterSpeedValue | 1/2500 |
Software | Adobe Photoshop Lightroom 6.12 (Windows) |
SplitToningBalance | +94 |
SplitToningHighlightHue | 57 |
SplitToningHighlightSaturation | 9 |
SplitToningShadowHue | 201 |
SplitToningShadowSaturation | 6 |
Subject | 2017, Safari Tarangire 1. juli 2017, Toppafrika |
Tint | +6 |
ToneCurve | 0, 0, 255, 255 |
ToneCurveBlue | 0, 0, 255, 255 |
ToneCurveGreen | 0, 0, 255, 255 |
ToneCurveName | Linear |
ToneCurveName2012 | Custom |
ToneCurvePV2012 | 0, 15, 63, 51, 132, 138, 177, 191, 255, 255 |
ToneCurvePV2012Blue | 0, 18, 46, 31, 130, 130, 183, 190, 255, 251 |
ToneCurvePV2012Green | 0, 11, 44, 30, 127, 129, 177, 185, 255, 255 |
ToneCurvePV2012Red | 0, 0, 45, 32, 87, 76, 127, 129, 178, 189, 255, 255 |
ToneCurveRed | 0, 0, 255, 255 |
ToneMapStrength | 0 |
Version | 9.12 |
Vibrance | -24 |
VignetteAmount | 0 |
WhiteBalance (1) | As Shot |
WhiteBalance | Manual |
Whites2012 | -100 |