Felt | Verdi |
AlreadyApplied | True |
Aperture | 8.0 |
ApertureValue | 8.0 |
ApproximateFocusDistance | 1.93 |
AutoLateralCA | 0 |
AutoWhiteVersion | 134348800 |
BitsPerSample | 8 |
Blacks2012 | 0 |
BlueHue | 0 |
BlueSaturation | 0 |
CameraProfile | Adobe Standard |
CircGradBasedCorrActive | true |
CircGradBasedCorrAmount | 1.000000 |
CircGradBasedCorrBrightness | 0.000000 |
CircGradBasedCorrClarity2012 | 1.000000 |
CircGradBasedCorrContrast2012 | 0.000000 |
CircGradBasedCorrDefringe | 0.000000 |
CircGradBasedCorrExposure2012 | -1.000000 |
CircGradBasedCorrHighlights2012 | 0.000000 |
CircGradBasedCorrHue | 357.000000 |
CircGradBasedCorrLuminanceNoise | 0.000000 |
CircGradBasedCorrMaskAngle | 0.000000 |
CircGradBasedCorrMaskBottom | 0.858281 |
CircGradBasedCorrMaskFeather | +50 |
CircGradBasedCorrMaskFlipped | false |
CircGradBasedCorrMaskLeft | -0.033971 |
CircGradBasedCorrMaskMidpoint | +50 |
CircGradBasedCorrMaskRight | 0.940552 |
CircGradBasedCorrMaskRoundness | 0 |
CircGradBasedCorrMaskTop | -0.192675 |
CircGradBasedCorrMaskValue | 1.000000 |
CircGradBasedCorrMaskVersion | +2 |
CircGradBasedCorrMaskWhat | Mask/CircularGradient |
CircGradBasedCorrMoire | 0.000000 |
CircGradBasedCorrSaturation (1) | 0.000000 |
CircGradBasedCorrSaturation | 0.990000 |
CircGradBasedCorrShadows2012 | -1.000000 |
CircGradBasedCorrSharpness | 1.000000 |
CircGradBasedCorrTemperature | 0.097740 |
CircGradBasedCorrTint | 0.000000 |
CircGradBasedCorrWhat | Correction |
CircleOfConfusion | 0.029 mm |
Clarity2012 | +9 |
ColorComponents | 3 |
ColorNoiseReduction | 25 |
ColorNoiseReductionDetail | 50 |
ColorNoiseReductionSmoothness | 50 |
ColorSpace | sRGB |
ColorTemperature | 7825 |
ColorTransform | YCbCr |
Contrast2012 | 0 |
ConvertToGrayscale | False |
Copyright | ERLING.KVALSOREN40848497NORGE ME |
CopyrightNotice | ERLING.KVALSOREN40848497NORGE ME |
CreateDate (1) | 2017:05:09 18:10:18.46 |
CreateDate | 2017:05:09 18:10:18 |
CreatorTool | Adobe Photoshop Lightroom 6.0 (Windows) |
CropAngle | 0 |
CropBottom | 0.866143 |
CropConstrainToWarp | 0 |
CropLeft | 0 |
CropRight | 1 |
CropTop | 0.022393 |
CustomRendered | Normal |
DateCreated (1) | 2017:05:09 18:10:18.46 |
DateCreated | 2017:05:09 |
DateTimeOriginal | 2017:05:09 18:10:18 |
DefringeGreenAmount | 0 |
DefringeGreenHueHi | 60 |
DefringeGreenHueLo | 40 |
DefringePurpleAmount | 0 |
DefringePurpleHueHi | 70 |
DefringePurpleHueLo | 30 |
DOF | 6.92 m (1.10 - 8.02 m) |
Exposure2012 | -0.15 |
ExposureCompensation | +2/3 |
ExposureMode | Auto |
ExposureProgram | Aperture-priority AE |
ExposureTime | 1/30 |
Firmware | 2.0.3 |
Flash | Off, Did not fire |
FlashCompensation | 0 |
FNumber | 8.0 |
FocalLength | 24.0 mm |
FocalLength35efl | 24.0 mm (35 mm equivalent: 25.1 mm) |
Format | image/jpeg |
FOV | 71.2 deg |
GrainAmount | 0 |
GreenHue | 0 |
GreenSaturation | 0 |
HasCrop | True |
HasExtendedXMP | 27B0A03E0F0DBE9D178424D8992638C3 |
HasSettings | True |
Highlights2012 | 0 |
HueAdjustmentAqua | 0 |
HueAdjustmentBlue | 0 |
HueAdjustmentGreen | -45 |
HueAdjustmentMagenta | 0 |
HueAdjustmentOrange | 0 |
HueAdjustmentPurple | 0 |
HueAdjustmentRed | 0 |
HueAdjustmentYellow | 0 |
HyperfocalDistance | 2.51 m |
ImageHeight | 2916 |
ImageNumber | 0 |
ImageSize | 5184x2916 |
ImageWidth | 5184 |
ISO | 100 |
Lens | EF24-105mm f/4L IS USM |
LensID (1) | 237 |
LensID | Canon EF 24-105mm f/4L IS USM |
LensInfo | 24-105mm f/? |
LensManualDistortionAmount | 0 |
LensModel | EF24-105mm f/4L IS USM |
LensProfileEnable | 0 |
LensProfileSetup | LensDefaults |
LensSerialNumber | 000015f1ef |
LightValue | 10.9 |
LuminanceAdjustmentAqua | 0 |
LuminanceAdjustmentBlue | 0 |
LuminanceAdjustmentGreen | -100 |
LuminanceAdjustmentMagenta | 0 |
LuminanceAdjustmentOrange | 0 |
LuminanceAdjustmentPurple | 0 |
LuminanceAdjustmentRed | 0 |
LuminanceAdjustmentYellow | 0 |
LuminanceSmoothing | 0 |
Make | Canon |
MaxApertureValue | 4.0 |
Megapixels | 15.1 |
MeteringMode | Multi-segment |
Model | Canon EOS-1D X |
ModifyDate (1) | 2017:05:13 22:26:02+02:00 |
ModifyDate | 2017:05:13 22:26:02 |
Orientation | Horizontal (normal) |
PaintCorrectionActive | true |
PaintCorrectionAmount | 1.000000 |
PaintCorrectionBrightness | 0.000000 |
PaintCorrectionClarity2012 (1) | 0.729320 |
PaintCorrectionClarity2012 | 1.000000 |
PaintCorrectionContrast2012 (1) | 0.248120 |
PaintCorrectionContrast2012 | 0.000000 |
PaintCorrectionDefringe | 0.000000 |
PaintCorrectionExposure2012 (10) | -0.495500 |
PaintCorrectionExposure2012 (12) | 1.000000 |
PaintCorrectionExposure2012 (13) | 0.000000 |
PaintCorrectionExposure2012 (14) | 0.531500 |
PaintCorrectionExposure2012 (7) | -1.000000 |
PaintCorrectionExposure2012 | -0.261250 |
PaintCorrectionHighlights2012 (1) | -0.624060 |
PaintCorrectionHighlights2012 (10) | -0.909910 |
PaintCorrectionHighlights2012 | 0.000000 |
PaintCorrectionHue (1) | 347.000000 |
PaintCorrectionHue (12) | 335.000000 |
PaintCorrectionHue (15) | 239.000000 |
PaintCorrectionHue (2) | 249.000000 |
PaintCorrectionHue (3) | 3.000000 |
PaintCorrectionHue (8) | 7.000000 |
PaintCorrectionHue | 5.000000 |
PaintCorrectionLuminanceNoise | 0.000000 |
PaintCorrectionMaskCenterWeight | 0.204522 |
PaintCorrectionMaskFlow | 0.868000 |
PaintCorrectionMaskRadius (11) | 0.098958 |
PaintCorrectionMaskRadius (114) | 0.088240 |
PaintCorrectionMaskRadius (115) | 0.134099 |
PaintCorrectionMaskRadius (121) | 0.078492 |
PaintCorrectionMaskRadius (126) | 0.048835 |
PaintCorrectionMaskRadius (127) | 0.030609 |
PaintCorrectionMaskRadius (131) | 0.053585 |
PaintCorrectionMaskRadius (133) | 0.035050 |
PaintCorrectionMaskRadius (159) | 0.039568 |
PaintCorrectionMaskRadius (164) | 0.110930 |
PaintCorrectionMaskRadius (167) | 0.094364 |
PaintCorrectionMaskRadius (169) | 0.073357 |
PaintCorrectionMaskRadius (182) | 0.058412 |
PaintCorrectionMaskRadius (190) | 0.044163 |
PaintCorrectionMaskRadius (191) | 0.217934 |
PaintCorrectionMaskRadius (198) | 0.164799 |
PaintCorrectionMaskRadius (2) | 0.127095 |
PaintCorrectionMaskRadius (201) | 0.152287 |
PaintCorrectionMaskRadius (30) | 0.077827 |
PaintCorrectionMaskRadius (50) | 0.053136 |
PaintCorrectionMaskRadius (51) | 0.093561 |
PaintCorrectionMaskRadius (75) | 0.043795 |
PaintCorrectionMaskRadius (77) | 0.012306 |
PaintCorrectionMaskRadius (82) | 0.016034 |
PaintCorrectionMaskRadius (83) | 0.104433 |
PaintCorrectionMaskRadius (85) | 0.024159 |
PaintCorrectionMaskRadius (86) | 0.010525 |
PaintCorrectionMaskRadius (90) | 0.007130 |
PaintCorrectionMaskRadius (95) | 0.009655 |
PaintCorrectionMaskRadius | 0.049305 |
PaintCorrectionMaskValue | 0.580000 |
PaintCorrectionMaskWhat | Mask/Paint |
PaintCorrectionMoire | 0.000000 |
PaintCorrectionSaturation (1) | 0.067670 |
PaintCorrectionSaturation (10) | 0.600000 |
PaintCorrectionSaturation (15) | 0.000000 |
PaintCorrectionSaturation (2) | 0.920000 |
PaintCorrectionSaturation (24) | 0.750000 |
PaintCorrectionSaturation (30) | 0.540000 |
PaintCorrectionSaturation (4) | 0.950000 |
PaintCorrectionSaturation (6) | 0.990000 |
PaintCorrectionSaturation | 0.970000 |
PaintCorrectionShadows2012 (1) | 0.278200 |
PaintCorrectionShadows2012 (6) | -1.000000 |
PaintCorrectionShadows2012 | 0.000000 |
PaintCorrectionSharpness | 1.000000 |
PaintCorrectionTemperature (3) | 0.097740 |
PaintCorrectionTemperature | -0.027030 |
PaintCorrectionTint | 0.000000 |
PaintCorrectionWhat | Correction |
ParametricDarks | 0 |
ParametricHighlights | 0 |
ParametricHighlightSplit | 75 |
ParametricLights | 0 |
ParametricMidtoneSplit | 50 |
ParametricShadows | 0 |
ParametricShadowSplit | 25 |
PerspectiveAspect | 0 |
PerspectiveHorizontal | 0 |
PerspectiveRotate | 0.0 |
PerspectiveScale | 100 |
PerspectiveUpright | 0 |
PerspectiveVertical | 0 |
PostCropVignetteAmount | 0 |
ProcessVersion | 6.7 |
ProfileDescription | sRGB IEC61966-2.1 |
RawFileName | CK6R9946-2.jpg |
RecommendedExposureIndex | 100 |
RedHue | 0 |
RedSaturation | 0 |
RegionAppliedToDimensionsH | 2916 |
RegionAppliedToDimensionsUnit | pixel |
RegionAppliedToDimensionsW | 5184 |
RegionAreaH | 0.07713 |
RegionAreaW | 0.04334 |
RegionAreaX | 0.33736 |
RegionAreaY | 0.07698 |
RegionRotation | 0.14064 |
RegionType | Face |
Rights | ERLING.KVALSOREN40848497NORGE ME |
Saturation | +7 |
SaturationAdjustmentAqua | 0 |
SaturationAdjustmentBlue | 0 |
SaturationAdjustmentGreen | -78 |
SaturationAdjustmentMagenta | 0 |
SaturationAdjustmentOrange | 0 |
SaturationAdjustmentPurple | 0 |
SaturationAdjustmentRed | 0 |
SaturationAdjustmentYellow | 0 |
ScaleFactor35efl | 1.0 |
SceneCaptureType | Standard |
SensitivityType | Recommended Exposure Index |
SerialNumber | 063012000926 |
Shadows2012 | 0 |
ShadowTint | 0 |
SharpenDetail | 25 |
SharpenEdgeMasking | 0 |
SharpenRadius | +1.0 |
Sharpness | 25 |
ShutterSpeed | 1/30 |
ShutterSpeedValue | 1/30 |
Software | Adobe Photoshop Lightroom 6.0 (Windows) |
SplitToningBalance | 0 |
SplitToningHighlightHue | 0 |
SplitToningHighlightSaturation | 0 |
SplitToningShadowHue | 0 |
SplitToningShadowSaturation | 0 |
Tint | +19 |
ToneCurve | 0, 0, 255, 255 |
ToneCurveBlue | 0, 0, 255, 255 |
ToneCurveGreen | 0, 0, 255, 255 |
ToneCurveName | Linear |
ToneCurveName2012 | Linear |
ToneCurvePV2012 | 0, 0, 255, 255 |
ToneCurvePV2012Blue | 0, 0, 255, 255 |
ToneCurvePV2012Green | 0, 0, 255, 255 |
ToneCurvePV2012Red | 0, 0, 255, 255 |
ToneCurveRed | 0, 0, 255, 255 |
Version | 9.0 |
Vibrance | 0 |
VignetteAmount | 0 |
WhiteBalance (1) | Custom |
WhiteBalance | Auto |
Whites2012 | 0 |