Felt | Verdi |
AlreadyApplied | True |
Aperture | 8.0 |
ApertureValue | 8.0 |
AutoLateralCA | 1 |
AutoWhiteVersion | 134348800 |
BitsPerSample | 8 |
Blacks2012 | -41 |
BlueHue | 0 |
BlueSaturation | 0 |
CameraProfile | Adobe Standard |
CircGradBasedCorrActive | true |
CircGradBasedCorrAmount | 1.000000 |
CircGradBasedCorrBrightness | 0.000000 |
CircGradBasedCorrClarity2012 (1) | 0.461540 |
CircGradBasedCorrClarity2012 | 0.019230 |
CircGradBasedCorrContrast2012 (1) | 0.000000 |
CircGradBasedCorrContrast2012 | 0.461540 |
CircGradBasedCorrDefringe | 0.000000 |
CircGradBasedCorrExposure2012 (1) | 0.050000 |
CircGradBasedCorrExposure2012 | 0.000000 |
CircGradBasedCorrHighlights2012 | 0.000000 |
CircGradBasedCorrHue | 170.876999 |
CircGradBasedCorrLocalBlacks2012 | 0.000000 |
CircGradBasedCorrLocalDehaze (1) | 0.100000 |
CircGradBasedCorrLocalDehaze | 0.000000 |
CircGradBasedCorrLocalWhites2012 | 0.000000 |
CircGradBasedCorrLuminanceNoise | 0.000000 |
CircGradBasedCorrMaskAngle | 4.946300 |
CircGradBasedCorrMaskBottom (1) | 0.758327 |
CircGradBasedCorrMaskBottom | 0.767941 |
CircGradBasedCorrMaskFeather (1) | +50 |
CircGradBasedCorrMaskFeather | +57 |
CircGradBasedCorrMaskFlipped (1) | true |
CircGradBasedCorrMaskFlipped | false |
CircGradBasedCorrMaskLeft (1) | 0.472116 |
CircGradBasedCorrMaskLeft | 0.472077 |
CircGradBasedCorrMaskMidpoint | +50 |
CircGradBasedCorrMaskRight (1) | 0.553340 |
CircGradBasedCorrMaskRight | 0.553524 |
CircGradBasedCorrMaskRoundness | 0 |
CircGradBasedCorrMaskTop (1) | 0.265323 |
CircGradBasedCorrMaskTop | 0.273587 |
CircGradBasedCorrMaskValue | 1.000000 |
CircGradBasedCorrMaskVersion | +2 |
CircGradBasedCorrMaskWhat | Mask/CircularGradient |
CircGradBasedCorrMoire | 0.000000 |
CircGradBasedCorrSaturation | 0.000000 |
CircGradBasedCorrShadows2012 | 0.000000 |
CircGradBasedCorrSharpness (1) | 0.480770 |
CircGradBasedCorrSharpness | 0.057690 |
CircGradBasedCorrTemperature | 0.000000 |
CircGradBasedCorrTint | 0.000000 |
CircGradBasedCorrWhat | Correction |
CircleOfConfusion | 0.020 mm |
Clarity2012 | 0 |
ColorComponents | 3 |
ColorNoiseReduction | 25 |
ColorNoiseReductionDetail | 50 |
ColorNoiseReductionSmoothness | 50 |
ColorSpace | sRGB |
ColorTemperature | 3050 |
ColorTransform | YCbCr |
Contrast | Normal |
Contrast2012 | 0 |
ConvertToGrayscale | True |
CreatorTool | Adobe Photoshop Lightroom 6.9 (Windows) |
CropAngle | 0 |
CropBottom | 0.952612 |
CropConstrainToWarp | 1 |
CropLeft | 0.059427 |
CropRight | 0.953302 |
CropTop | 0.272785 |
DateCreated (1) | 2017:02:23 |
DateCreated | 2017:02:23 20:43:16 |
DateTimeOriginal | 2017:02:23 20:43:16 |
Dehaze | 0 |
DigitalZoomRatio | 1 |
Exposure2012 | 0.00 |
ExposureCompensation | 0 |
ExposureMode | Manual |
ExposureProgram | Manual |
ExposureTime | 15 |
Firmware | 1.12 |
Flash | No Flash |
FNumber | 8.0 |
FocalLength | 16.0 mm |
FocalLength35efl | 16.0 mm (35 mm equivalent: 24.0 mm) |
FocalLengthIn35mmFormat | 24 mm |
Format | image/jpeg |
FOV | 73.7 deg |
GradientBasedCorrActive | true |
GradientBasedCorrAmount | 1.000000 |
GradientBasedCorrBrightness | 0.000000 |
GradientBasedCorrClarity2012 | 0.000000 |
GradientBasedCorrContrast2012 | 0.000000 |
GradientBasedCorrDefringe | 0.000000 |
GradientBasedCorrExposure2012 (1) | -0.150000 |
GradientBasedCorrExposure2012 (2) | -0.250000 |
GradientBasedCorrExposure2012 | -0.125000 |
GradientBasedCorrHighlights2012 | 0.000000 |
GradientBasedCorrHue | 170.876999 |
GradientBasedCorrLocalBlacks2012 (2) | -0.134620 |
GradientBasedCorrLocalBlacks2012 | 0.000000 |
GradientBasedCorrLocalDehaze | 0.000000 |
GradientBasedCorrLocalWhites2012 | 0.000000 |
GradientBasedCorrLuminanceNoise | 0.000000 |
GradientBasedCorrMaskFullX (1) | 0.520772 |
GradientBasedCorrMaskFullX (2) | 0.513043 |
GradientBasedCorrMaskFullX (3) | 0.517874 |
GradientBasedCorrMaskFullX (4) | 0.901538 |
GradientBasedCorrMaskFullX | 0.123760 |
GradientBasedCorrMaskFullY (1) | 0.202899 |
GradientBasedCorrMaskFullY (2) | 0.042029 |
GradientBasedCorrMaskFullY (3) | 0.997101 |
GradientBasedCorrMaskFullY (4) | 0.545513 |
GradientBasedCorrMaskFullY | 0.561204 |
GradientBasedCorrMaskValue | 1.000000 |
GradientBasedCorrMaskWhat | Mask/Gradient |
GradientBasedCorrMaskZeroX (1) | 0.520772 |
GradientBasedCorrMaskZeroX (2) | 0.513043 |
GradientBasedCorrMaskZeroX (3) | 0.519025 |
GradientBasedCorrMaskZeroX (4) | 0.652183 |
GradientBasedCorrMaskZeroX | 0.391755 |
GradientBasedCorrMaskZeroY (1) | 0.469566 |
GradientBasedCorrMaskZeroY (2) | 0.269565 |
GradientBasedCorrMaskZeroY (3) | 0.681199 |
GradientBasedCorrMaskZeroY (4) | 0.553727 |
GradientBasedCorrMaskZeroY | 0.573768 |
GradientBasedCorrMoire | 0.000000 |
GradientBasedCorrSaturation | 0.000000 |
GradientBasedCorrShadows2012 | 0.000000 |
GradientBasedCorrSharpness | 0.000000 |
GradientBasedCorrTemperature | 0.000000 |
GradientBasedCorrTint | 0.000000 |
GradientBasedCorrWhat | Correction |
GrainAmount | 0 |
GrayMixerAqua | -22 |
GrayMixerBlue | +1 |
GrayMixerGreen | -20 |
GrayMixerMagenta | +9 |
GrayMixerOrange | -7 |
GrayMixerPurple | +12 |
GrayMixerRed | +2 |
GrayMixerYellow | -11 |
GreenHue | 0 |
GreenSaturation | 0 |
HasCrop | True |
HasExtendedXMP | 04F898FB1F57BE714ADA48B64A8E0F43 |
HasSettings | True |
Highlights2012 | -78 |
HyperfocalDistance | 1.60 m |
ImageHeight | 2937 |
ImageSize | 5792x2937 |
ImageWidth | 5792 |
ISO | 100 |
Lens | NX 16mm F2.4 |
LensID (1) | 8 |
LensID | Samsung NX 16mm F2.4 Pancake |
LensInfo | 16mm f/2.4 |
LensManualDistortionAmount | 0 |
LensModel | NX 16mm F2.4 |
LensProfileEnable | 1 |
LensProfileSetup | LensDefaults |
LensSerialNumber | 313900364678 |
LightSource | Unknown |
LightValue | 2.1 |
LuminanceSmoothing | 0 |
Make | SAMSUNG |
Megapixels | 17.0 |
MeteringMode | Multi-segment |
Model | NX500 |
ModifyDate (1) | 2017:03:22 20:42:30+01:00 |
ModifyDate | 2017:03:22 20:42:30 |
PaintCorrectionActive | true |
PaintCorrectionAmount | 1.000000 |
PaintCorrectionBrightness | 0.000000 |
PaintCorrectionClarity2012 (1) | 0.461540 |
PaintCorrectionClarity2012 (2) | 0.557690 |
PaintCorrectionClarity2012 | 0.000000 |
PaintCorrectionContrast2012 | 0.000000 |
PaintCorrectionDefringe | 0.000000 |
PaintCorrectionExposure2012 (1) | -0.403750 |
PaintCorrectionExposure2012 (2) | -0.050000 |
PaintCorrectionExposure2012 | 0.100000 |
PaintCorrectionHighlights2012 (2) | 0.000000 |
PaintCorrectionHighlights2012 | 0.596150 |
PaintCorrectionHue | 170.876999 |
PaintCorrectionLocalBlacks2012 (1) | -0.288460 |
PaintCorrectionLocalBlacks2012 | 0.000000 |
PaintCorrectionLocalDehaze | 0.000000 |
PaintCorrectionLocalWhites2012 (2) | 0.173080 |
PaintCorrectionLocalWhites2012 | 0.000000 |
PaintCorrectionLuminanceNoise | 0.000000 |
PaintCorrectionMaskCenterWeight (63) | 0.037854 |
PaintCorrectionMaskCenterWeight (93) | 0.158200 |
PaintCorrectionMaskCenterWeight | 0.000000 |
PaintCorrectionMaskFlow (61) | 0.785000 |
PaintCorrectionMaskFlow (94) | 0.518000 |
PaintCorrectionMaskFlow | 1.000000 |
PaintCorrectionMaskRadius (2) | 0.049263 |
PaintCorrectionMaskRadius (26) | 0.021694 |
PaintCorrectionMaskRadius (36) | 0.046642 |
PaintCorrectionMaskRadius (37) | 0.052093 |
PaintCorrectionMaskRadius (41) | 0.063800 |
PaintCorrectionMaskRadius (42) | 0.035228 |
PaintCorrectionMaskRadius (47) | 0.071256 |
PaintCorrectionMaskRadius (53) | 0.042183 |
PaintCorrectionMaskRadius (79) | 0.028399 |
PaintCorrectionMaskRadius (86) | 0.046562 |
PaintCorrectionMaskRadius (87) | 0.020761 |
PaintCorrectionMaskRadius (91) | 0.030839 |
PaintCorrectionMaskRadius (95) | 0.023946 |
PaintCorrectionMaskRadius (96) | 0.038885 |
PaintCorrectionMaskRadius | 0.016684 |
PaintCorrectionMaskValue (37) | 0.000000 |
PaintCorrectionMaskValue (44) | 0.887000 |
PaintCorrectionMaskValue | 1.000000 |
PaintCorrectionMaskWhat | Mask/Paint |
PaintCorrectionMoire | 0.000000 |
PaintCorrectionSaturation | 0.000000 |
PaintCorrectionShadows2012 (2) | 0.000000 |
PaintCorrectionShadows2012 | -0.653850 |
PaintCorrectionSharpness (2) | 0.461540 |
PaintCorrectionSharpness | 0.000000 |
PaintCorrectionTemperature | 0.000000 |
PaintCorrectionTint | 0.000000 |
PaintCorrectionWhat | Correction |
ParametricDarks | 0 |
ParametricHighlights | 0 |
ParametricHighlightSplit | 75 |
ParametricLights | 0 |
ParametricMidtoneSplit | 50 |
ParametricShadows | 0 |
ParametricShadowSplit | 25 |
PerspectiveAspect | 0 |
PerspectiveHorizontal | 0 |
PerspectiveRotate | 0.0 |
PerspectiveScale | 100 |
PerspectiveUpright | 1 |
PerspectiveVertical | 0 |
PerspectiveX | 0.00 |
PerspectiveY | 0.00 |
PostCropVignetteAmount | 0 |
ProcessVersion | 6.7 |
ProfileDescription | sRGB IEC61966-2.1 |
RedHue | 0 |
RedSaturation | 0 |
Saturation | Normal |
ScaleFactor35efl | 1.5 |
SceneCaptureType | Standard |
SerialNumber | 0 |
Shadows2012 | +100 |
ShadowTint | 0 |
SharpenDetail | 25 |
SharpenEdgeMasking | 0 |
SharpenRadius | +1.0 |
Sharpness (1) | 25 |
Sharpness | Normal |
ShutterSpeed | 15 |
ShutterSpeedValue | 15 |
Software | Adobe Photoshop Lightroom 6.9 (Windows) |
SplitToningBalance | 0 |
SplitToningHighlightHue | 0 |
SplitToningHighlightSaturation | 0 |
SplitToningShadowHue | 0 |
SplitToningShadowSaturation | 0 |
Tint | +32 |
ToneCurve | 0, 0, 255, 255 |
ToneCurveBlue | 0, 0, 255, 255 |
ToneCurveGreen | 0, 0, 255, 255 |
ToneCurveName | Linear |
ToneCurveName2012 | Linear |
ToneCurvePV2012 | 0, 0, 255, 255 |
ToneCurvePV2012Blue | 0, 0, 255, 255 |
ToneCurvePV2012Green | 0, 0, 255, 255 |
ToneCurvePV2012Red | 0, 0, 255, 255 |
ToneCurveRed | 0, 0, 255, 255 |
ToneMapStrength | 0 |
Version | 9.9 |
VignetteAmount | 0 |
WhiteBalance (1) | As Shot |
WhiteBalance | Auto |
Whites2012 | +64 |