Felt | Verdi |
AlreadyApplied | True |
Aperture | 6.3 |
ApertureValue | 6.3 |
ApproximateFocusDistance | 30.1 |
AutoLateralCA | 0 |
AutoWhiteVersion | 134348800 |
BitsPerSample | 8 |
Blacks2012 | -22 |
BlueHue | 0 |
BlueSaturation | 0 |
CameraProfile | Adobe Standard |
CircleOfConfusion | 0.015 mm |
Clarity2012 | 0 |
ColorComponents | 3 |
ColorNoiseReduction | 25 |
ColorNoiseReductionDetail | 50 |
ColorNoiseReductionSmoothness | 50 |
ColorSpace | sRGB |
ColorTemperature | 5100 |
ColorTransform | YCbCr |
Contrast2012 | +15 |
ConvertToGrayscale | True |
CreateDate (1) | 2017:02:01 10:13:02.00 |
CreateDate | 2017:02:01 10:13:02 |
CreatorTool | Adobe Photoshop Lightroom 6.6.1 (Macintosh) |
CustomRendered | Normal |
DateCreated (1) | 2017:02:01 |
DateCreated | 2017:02:01 10:13:02.00 |
DateTimeOriginal | 2017:02:01 10:13:02 |
Dehaze | 0 |
DOF | 0.48 m (29.86 - 30.34 m) |
Exposure2012 | 0.00 |
ExposureCompensation | -1/3 |
ExposureMode | Auto |
ExposureProgram | Aperture-priority AE |
ExposureTime | 1/1000 |
Firmware | 1.0.5 |
Flash | Off, Did not fire |
FlashCompensation | 0 |
FNumber | 6.3 |
FocalLength | 600.0 mm |
FocalLength35efl | 600.0 mm (35 mm equivalent: 1170.2 mm) |
Format | image/jpeg |
FOV | 1.8 deg |
GradientBasedCorrActive | true |
GradientBasedCorrAmount | 1.000000 |
GradientBasedCorrBrightness | 0.000000 |
GradientBasedCorrClarity2012 | 0.300963 |
GradientBasedCorrContrast2012 | 0.150000 |
GradientBasedCorrDefringe | 0.000000 |
GradientBasedCorrExposure2012 | 0.116097 |
GradientBasedCorrHighlights2012 | -0.280342 |
GradientBasedCorrHue | 0.000000 |
GradientBasedCorrLocalBlacks2012 | 0.000000 |
GradientBasedCorrLocalDehaze | 0.120000 |
GradientBasedCorrLocalWhites2012 | 0.000000 |
GradientBasedCorrLuminanceNoise | 0.000000 |
GradientBasedCorrMaskFullX | 0.498366 |
GradientBasedCorrMaskFullY | 0.061507 |
GradientBasedCorrMaskValue | 1.000000 |
GradientBasedCorrMaskWhat | Mask/Gradient |
GradientBasedCorrMaskZeroX | 0.505770 |
GradientBasedCorrMaskZeroY | 1.497250 |
GradientBasedCorrMoire | 0.000000 |
GradientBasedCorrSaturation (1) | 0.069644 |
GradientBasedCorrSaturation | 0.000000 |
GradientBasedCorrShadows2012 | 0.010810 |
GradientBasedCorrSharpness | 0.000000 |
GradientBasedCorrTemperature | 0.004535 |
GradientBasedCorrTint | 0.000000 |
GradientBasedCorrWhat | Correction |
GrainAmount | 0 |
GrayMixerAqua | -18 |
GrayMixerBlue | +11 |
GrayMixerGreen | -27 |
GrayMixerMagenta | +4 |
GrayMixerOrange | -19 |
GrayMixerPurple | +16 |
GrayMixerRed | -10 |
GrayMixerYellow | -23 |
GreenHue | 0 |
GreenSaturation | 0 |
HasCrop | False |
HasExtendedXMP | 10DA87C457D1C91FA4BFE6FA9F065EE0 |
HasSettings | True |
Highlights2012 | 0 |
HyperfocalDistance | 3709.14 m |
ImageHeight | 3002 |
ImageNumber | 0 |
ImageSize | 4503x3002 |
ImageWidth | 4503 |
ISO | 160 |
Lens | 150-600mm F5-6.3 DG OS HSM | Sports 014 |
LensID (1) | 183 |
LensID | Sigma 150-600mm f/5-6.3 DG OS HSM | S |
LensInfo | 150-600mm f/? |
LensManualDistortionAmount | 0 |
LensModel | 150-600mm F5-6.3 DG OS HSM | Sports 014 |
LensProfileEnable | 0 |
LensProfileSetup | LensDefaults |
LensSerialNumber | 0000000000 |
LightValue | 14.6 |
LuminanceSmoothing | 0 |
Make | Canon |
MaxApertureValue | 6.2 |
Megapixels | 13.5 |
MeteringMode | Multi-segment |
Model | Canon EOS 7D Mark II |
ModifyDate (1) | 2017:03:18 14:19:25+01:00 |
ModifyDate | 2017:03:18 14:19:25 |
PaintCorrectionActive | true |
PaintCorrectionAmount | 1.000000 |
PaintCorrectionBrightness | 0.000000 |
PaintCorrectionClarity2012 (1) | 0.400963 |
PaintCorrectionClarity2012 | 0.300963 |
PaintCorrectionContrast2012 (1) | 0.370000 |
PaintCorrectionContrast2012 | 0.150000 |
PaintCorrectionDefringe | 0.000000 |
PaintCorrectionExposure2012 (1) | 0.171239 |
PaintCorrectionExposure2012 | 0.075000 |
PaintCorrectionHighlights2012 | 0.000000 |
PaintCorrectionHue | 0.000000 |
PaintCorrectionLocalBlacks2012 (1) | 0.000000 |
PaintCorrectionLocalBlacks2012 | 0.055505 |
PaintCorrectionLocalDehaze (1) | 0.050000 |
PaintCorrectionLocalDehaze | 0.045331 |
PaintCorrectionLocalWhites2012 (1) | 0.130000 |
PaintCorrectionLocalWhites2012 | -0.073310 |
PaintCorrectionLuminanceNoise (1) | 0.000000 |
PaintCorrectionLuminanceNoise | 0.122456 |
PaintCorrectionMaskCenterWeight | 0.000000 |
PaintCorrectionMaskFlow | 1.000000 |
PaintCorrectionMaskRadius (1) | 0.040038 |
PaintCorrectionMaskRadius | 0.044076 |
PaintCorrectionMaskValue | 1.000000 |
PaintCorrectionMaskWhat | Mask/Paint |
PaintCorrectionMoire | 0.000000 |
PaintCorrectionSaturation (1) | 0.279644 |
PaintCorrectionSaturation (3) | -0.010356 |
PaintCorrectionSaturation | 0.000000 |
PaintCorrectionShadows2012 (1) | -0.030294 |
PaintCorrectionShadows2012 | 0.118550 |
PaintCorrectionSharpness (1) | 0.000000 |
PaintCorrectionSharpness | 0.195494 |
PaintCorrectionTemperature | 0.004535 |
PaintCorrectionTint (1) | 0.060000 |
PaintCorrectionTint | 0.000000 |
PaintCorrectionWhat | Correction |
ParametricDarks | 0 |
ParametricHighlights | 0 |
ParametricHighlightSplit | 75 |
ParametricLights | 0 |
ParametricMidtoneSplit | 50 |
ParametricShadows | 0 |
ParametricShadowSplit | 25 |
PerspectiveAspect | 0 |
PerspectiveHorizontal | 0 |
PerspectiveRotate | 0.0 |
PerspectiveScale | 100 |
PerspectiveUpright | 0 |
PerspectiveVertical | 0 |
PerspectiveX | 0.00 |
PerspectiveY | 0.00 |
PostCropVignetteAmount | -25 |
PostCropVignetteFeather | 50 |
PostCropVignetteHighlightContrast | 0 |
PostCropVignetteMidpoint | 50 |
PostCropVignetteRoundness | 0 |
PostCropVignetteStyle | 1 |
ProcessVersion | 6.7 |
ProfileDescription | sRGB IEC61966-2.1 |
RecommendedExposureIndex | 160 |
RedHue | 0 |
RedSaturation | 0 |
ScaleFactor35efl | 2.0 |
SceneCaptureType | Standard |
SensitivityType | Recommended Exposure Index |
SerialNumber | 153053001866 |
Shadows2012 | +18 |
ShadowTint | 0 |
SharpenDetail | 47 |
SharpenEdgeMasking | 26 |
SharpenRadius | +1.4 |
Sharpness | 82 |
ShutterSpeed | 1/1000 |
ShutterSpeedValue | 1/1000 |
Software | Adobe Photoshop Lightroom 6.6.1 (Macintosh) |
SplitToningBalance | 0 |
SplitToningHighlightHue | 0 |
SplitToningHighlightSaturation | 0 |
SplitToningShadowHue | 0 |
SplitToningShadowSaturation | 0 |
Tint | +6 |
ToneCurve | 0, 0, 255, 255 |
ToneCurveBlue | 0, 0, 255, 255 |
ToneCurveGreen | 0, 0, 255, 255 |
ToneCurveName | Linear |
ToneCurveName2012 | Linear |
ToneCurvePV2012 | 0, 0, 255, 255 |
ToneCurvePV2012Blue | 0, 0, 255, 255 |
ToneCurvePV2012Green | 0, 0, 255, 255 |
ToneCurvePV2012Red | 0, 0, 255, 255 |
ToneCurveRed | 0, 0, 255, 255 |
ToneMapStrength | 0 |
Version | 9.6 |
VignetteAmount | 0 |
WhiteBalance (1) | As Shot |
WhiteBalance | Manual |
Whites2012 | +28 |