Felt | Verdi |
AlreadyApplied | True |
Aperture | 2.8 |
ApertureValue | 2.8 |
ApproximateFocusDistance | 5.31 |
Artist | Rikki Martin Langnes |
AutoLateralCA | 0 |
AutoWhiteVersion | 134348800 |
BitsPerSample | 8 |
Blacks2012 | +14 |
BlueHue | 0 |
BlueSaturation | 0 |
By-line | Rikki Martin Langnes |
CameraProfile | Adobe Standard |
CFAPattern | [Red,Green][Green,Blue] |
CircleOfConfusion | 0.020 mm |
Clarity2012 | +34 |
ColorComponents | 3 |
ColorNoiseReduction | 25 |
ColorNoiseReductionDetail | 50 |
ColorNoiseReductionSmoothness | 50 |
ColorSpace | sRGB |
ColorTemperature | 6196 |
ColorTransform | YCbCr |
Contrast | Normal |
Contrast2012 | +51 |
ConvertToGrayscale | False |
Copyright | Rikki Martin Langnes |
CopyrightNotice | Rikki Martin Langnes |
CreateDate (1) | 2017:01:28 13:53:49.12 |
CreateDate | 2017:01:28 13:53:49 |
Creator | Rikki Martin Langnes |
CreatorTool | Adobe Photoshop Lightroom 6.8 (Macintosh) |
CropAngle | 0.773061 |
CropBottom | 0.973547 |
CropConstrainToWarp | 0 |
CropLeft | 0.054564 |
CropRight | 0.956457 |
CropTop | 0.001832 |
CustomRendered | Custom |
DateCreated (1) | 2017:01:28 |
DateCreated | 2017:01:28 13:53:49.12 |
DateTimeOriginal | 2017:01:28 13:53:49 |
DefringeGreenAmount | 0 |
DefringeGreenHueHi | 60 |
DefringeGreenHueLo | 40 |
DefringePurpleAmount | 0 |
DefringePurpleHueHi | 70 |
DefringePurpleHueLo | 30 |
Dehaze | 0 |
DigitalZoomRatio | 1 |
DOF | 4.33 m (3.92 - 8.25 m) |
Exposure2012 | -0.35 |
ExposureCompensation | 0 |
ExposureMode | Manual |
ExposureProgram | Manual |
ExposureTime | 5 |
Flash | Off, Did not fire |
FNumber | 2.8 |
FocalLength | 29.0 mm |
FocalLength35efl | 29.0 mm (35 mm equivalent: 43.0 mm) |
FocalLengthIn35mmFormat | 43 mm |
Format | image/jpeg |
FOV | 45.4 deg |
GainControl | None |
GradientBasedCorrActive | true |
GradientBasedCorrAmount | 1.000000 |
GradientBasedCorrBrightness | 0.000000 |
GradientBasedCorrClarity2012 (1) | 0.546966 |
GradientBasedCorrClarity2012 (2) | 0.460029 |
GradientBasedCorrClarity2012 (3) | 0.447765 |
GradientBasedCorrClarity2012 | 0.662427 |
GradientBasedCorrContrast2012 (1) | 0.377453 |
GradientBasedCorrContrast2012 (2) | 0.223928 |
GradientBasedCorrContrast2012 (3) | 0.582849 |
GradientBasedCorrContrast2012 | -0.244186 |
GradientBasedCorrDefringe (2) | 0.010265 |
GradientBasedCorrDefringe | 0.000000 |
GradientBasedCorrExposure2012 (1) | -0.157794 |
GradientBasedCorrExposure2012 (2) | -0.030796 |
GradientBasedCorrExposure2012 (3) | -0.333939 |
GradientBasedCorrExposure2012 | -0.052507 |
GradientBasedCorrHighlights2012 (1) | 0.468750 |
GradientBasedCorrHighlights2012 (2) | -0.061682 |
GradientBasedCorrHighlights2012 | 0.000000 |
GradientBasedCorrHue | 235.901993 |
GradientBasedCorrLocalBlacks2012 | 0.000000 |
GradientBasedCorrLocalDehaze | 0.000000 |
GradientBasedCorrLocalWhites2012 | 0.000000 |
GradientBasedCorrLuminanceNoise (1) | -0.890625 |
GradientBasedCorrLuminanceNoise (2) | -0.867278 |
GradientBasedCorrLuminanceNoise (3) | -1.000000 |
GradientBasedCorrLuminanceNoise | -0.917424 |
GradientBasedCorrMaskFullX (1) | 0.474688 |
GradientBasedCorrMaskFullX (2) | 0.521845 |
GradientBasedCorrMaskFullX (3) | 0.506270 |
GradientBasedCorrMaskFullX | 0.531005 |
GradientBasedCorrMaskFullY (1) | 0.188953 |
GradientBasedCorrMaskFullY (2) | 0.121198 |
GradientBasedCorrMaskFullY (3) | 0.739077 |
GradientBasedCorrMaskFullY | 0.854477 |
GradientBasedCorrMaskValue | 1.000000 |
GradientBasedCorrMaskWhat | Mask/Gradient |
GradientBasedCorrMaskZeroX (1) | 0.476590 |
GradientBasedCorrMaskZeroX (2) | 0.525342 |
GradientBasedCorrMaskZeroX (3) | 0.504456 |
GradientBasedCorrMaskZeroX | 0.529078 |
GradientBasedCorrMaskZeroY (1) | 0.343357 |
GradientBasedCorrMaskZeroY (2) | 0.231198 |
GradientBasedCorrMaskZeroY (3) | 0.547053 |
GradientBasedCorrMaskZeroY | 0.731548 |
GradientBasedCorrMoire | 0.000000 |
GradientBasedCorrSaturation (1) | -0.099746 |
GradientBasedCorrSaturation (3) | 0.122820 |
GradientBasedCorrSaturation (5) | -0.059048 |
GradientBasedCorrSaturation (7) | -0.094023 |
GradientBasedCorrSaturation | 0.000000 |
GradientBasedCorrShadows2012 (1) | 0.541243 |
GradientBasedCorrShadows2012 (2) | 0.451581 |
GradientBasedCorrShadows2012 (3) | -0.314862 |
GradientBasedCorrShadows2012 | 0.520621 |
GradientBasedCorrSharpness (1) | 0.591388 |
GradientBasedCorrSharpness (2) | 0.315225 |
GradientBasedCorrSharpness (3) | 0.420785 |
GradientBasedCorrSharpness | 0.277889 |
GradientBasedCorrTemperature (1) | 0.321493 |
GradientBasedCorrTemperature (2) | -0.331940 |
GradientBasedCorrTemperature (3) | -0.326399 |
GradientBasedCorrTemperature | -0.019168 |
GradientBasedCorrTint (1) | 0.313499 |
GradientBasedCorrTint (2) | -0.128543 |
GradientBasedCorrTint (3) | -0.300690 |
GradientBasedCorrTint | -0.132812 |
GradientBasedCorrWhat | Correction |
GrainAmount | 0 |
GreenHue | 0 |
GreenSaturation | 0 |
HasCrop | True |
HasSettings | True |
Highlights2012 | -2 |
HueAdjustmentAqua | 0 |
HueAdjustmentBlue | 0 |
HueAdjustmentGreen | 0 |
HueAdjustmentMagenta | 0 |
HueAdjustmentOrange | 0 |
HueAdjustmentPurple | 0 |
HueAdjustmentRed | 0 |
HueAdjustmentYellow | 0 |
HyperfocalDistance | 14.82 m |
ImageHeight | 838 |
ImageNumber | 11102 |
ImageSize | 1200x838 |
ImageWidth | 1200 |
ISO | 100 |
Lens | 17.0-50.0 mm f/2.8 |
LensID (1) | 157 |
LensID | Sigma 17-50mm F2.8 EX DC OS HSM |
LensInfo | 17-50mm f/2.8 |
LensManualDistortionAmount | 0 |
LensModel | 17.0-50.0 mm f/2.8 |
LensProfileEnable | 0 |
LensProfileSetup | LensDefaults |
LightSource | Cloudy |
LightValue | 0.6 |
LuminanceAdjustmentAqua | 0 |
LuminanceAdjustmentBlue | 0 |
LuminanceAdjustmentGreen | 0 |
LuminanceAdjustmentMagenta | 0 |
LuminanceAdjustmentOrange | 0 |
LuminanceAdjustmentPurple | 0 |
LuminanceAdjustmentRed | 0 |
LuminanceAdjustmentYellow | 0 |
LuminanceSmoothing | 0 |
Make | NIKON CORPORATION |
MaxApertureValue | 2.8 |
Megapixels | 1.0 |
MeteringMode | Spot |
Model | NIKON D7200 |
ModifyDate (1) | 2017:02:01 18:20:57+01:00 |
ModifyDate | 2017:02:01 18:20:57 |
ParametricDarks | 0 |
ParametricHighlights | 0 |
ParametricHighlightSplit | 75 |
ParametricLights | -66 |
ParametricMidtoneSplit | 50 |
ParametricShadows | 0 |
ParametricShadowSplit | 25 |
PerspectiveAspect | 0 |
PerspectiveHorizontal | 0 |
PerspectiveRotate | 0.0 |
PerspectiveScale | 100 |
PerspectiveUpright | 0 |
PerspectiveVertical | 0 |
PerspectiveX | 0.00 |
PerspectiveY | 0.00 |
PostCropVignetteAmount | 0 |
ProcessVersion | 6.7 |
ProfileDescription | sRGB IEC61966-2.1 |
RedHue | 0 |
RedSaturation | 0 |
Rights | Rikki Martin Langnes |
Saturation (1) | 0 |
Saturation | Normal |
SaturationAdjustmentAqua | 0 |
SaturationAdjustmentBlue | 0 |
SaturationAdjustmentGreen | 0 |
SaturationAdjustmentMagenta | 0 |
SaturationAdjustmentOrange | 0 |
SaturationAdjustmentPurple | 0 |
SaturationAdjustmentRed | 0 |
SaturationAdjustmentYellow | 0 |
ScaleFactor35efl | 1.5 |
SceneCaptureType | Standard |
SceneType | Directly photographed |
SensingMethod | One-chip color area |
SensitivityType | Recommended Exposure Index |
SerialNumber | 8151727 |
Shadows2012 | +60 |
ShadowTint | 0 |
SharpenDetail | 25 |
SharpenEdgeMasking | 0 |
SharpenRadius | +1.0 |
Sharpness (1) | 25 |
Sharpness | Normal |
ShutterSpeed | 5 |
ShutterSpeedValue | 5 |
Software | Adobe Photoshop Lightroom 6.8 (Macintosh) |
SplitToningBalance | 0 |
SplitToningHighlightHue | 0 |
SplitToningHighlightSaturation | 0 |
SplitToningShadowHue | 0 |
SplitToningShadowSaturation | 0 |
SubjectDistanceRange | Unknown |
Tint | 0 |
ToneCurve | 0, 0, 255, 255 |
ToneCurveBlue | 0, 0, 255, 255 |
ToneCurveGreen | 0, 0, 255, 255 |
ToneCurveName | Linear |
ToneCurveName2012 | Linear |
ToneCurvePV2012 | 0, 0, 255, 255 |
ToneCurvePV2012Blue | 0, 0, 255, 255 |
ToneCurvePV2012Green | 0, 0, 255, 255 |
ToneCurvePV2012Red | 0, 0, 255, 255 |
ToneCurveRed | 0, 0, 255, 255 |
ToneMapStrength | 0 |
Version | 9.8 |
Vibrance | 0 |
VignetteAmount | 0 |
WhiteBalance (1) | Custom |
WhiteBalance | Manual |
Whites2012 | -41 |