Felt | Verdi |
AlreadyApplied | True |
Aperture | 11.0 |
ApertureValue | 11.0 |
ApproximateFocusDistance | 2.64 |
AutoLateralCA | 0 |
AutoWhiteVersion | 134348800 |
BitsPerSample | 8 |
Blacks2012 | -6 |
BlueHue | 0 |
BlueSaturation | 0 |
CameraProfile | Adobe Standard |
CircleOfConfusion | 0.028 mm |
Clarity2012 | 0 |
ColorComponents | 3 |
ColorNoiseReduction | 25 |
ColorNoiseReductionDetail | 50 |
ColorNoiseReductionSmoothness | 50 |
ColorSpace | sRGB |
ColorTemperature | 5850 |
Contrast2012 | -11 |
ConvertToGrayscale | False |
Copyright | ERLING.KVALSOREN40848497NORGE ME |
CopyrightNotice | ERLING.KVALSOREN40848497NORGE ME |
CreateDate (1) | 2016:06:28 11:53:35.32 |
CreateDate | 2016:06:28 11:53:35 |
CreatorTool | Windows Photo Editor 10.0.10011.16384 |
CropAngle | 0 |
CropBottom | 1 |
CropConstrainToWarp | 0 |
CropLeft | 0.078556 |
CropRight | 1 |
CropTop | 0.095541 |
CustomRendered | Normal |
DateCreated (1) | 2016:06:28 11:53:35.32 |
DateCreated | 2016:06:28 |
DateTimeOriginal | 2016:06:28 11:53:35 |
DefringeGreenAmount | 0 |
DefringeGreenHueHi | 60 |
DefringeGreenHueLo | 40 |
DefringePurpleAmount | 0 |
DefringePurpleHueHi | 70 |
DefringePurpleHueLo | 30 |
DOF | 1.01 m (2.23 - 3.24 m) |
Exposure2012 | +1.36 |
ExposureCompensation | -2/3 |
ExposureMode | Auto |
ExposureProgram | Aperture-priority AE |
ExposureTime | 1/500 |
Firmware | 2.0.3 |
Flash | Off, Did not fire |
FlashCompensation | 0 |
FNumber | 11.0 |
FocalLength | 65.0 mm |
FocalLength35efl | 65.0 mm (35 mm equivalent: 70.9 mm) |
Format | image/jpeg |
FOV | 28.5 deg |
GradientBasedCorrActive | true |
GradientBasedCorrAmount | 1.000000 |
GradientBasedCorrBrightness | 0.000000 |
GradientBasedCorrClarity2012 | 1.000000 |
GradientBasedCorrContrast2012 | -0.053570 |
GradientBasedCorrDefringe | 1.000000 |
GradientBasedCorrExposure2012 | -0.547750 |
GradientBasedCorrHighlights2012 | -0.408700 |
GradientBasedCorrHue | 235.000000 |
GradientBasedCorrLuminanceNoise | -0.266060 |
GradientBasedCorrMaskFullX | 0.481586 |
GradientBasedCorrMaskFullY | -0.012748 |
GradientBasedCorrMaskValue | 1.000000 |
GradientBasedCorrMaskWhat | Mask/Gradient |
GradientBasedCorrMaskZeroX | 0.449481 |
GradientBasedCorrMaskZeroY | 0.675637 |
GradientBasedCorrMoire | -0.321100 |
GradientBasedCorrSaturation (1) | 0.000000 |
GradientBasedCorrSaturation | 0.400000 |
GradientBasedCorrShadows2012 | 0.214290 |
GradientBasedCorrSharpness | 1.000000 |
GradientBasedCorrTemperature | 0.826090 |
GradientBasedCorrTint | -0.196430 |
GradientBasedCorrWhat | Correction |
GrainAmount | 0 |
GreenHue | 0 |
GreenSaturation | 0 |
HasCrop | True |
HasExtendedXMP | 3AF0AB7597167AF23753C5F87BF949E6 |
HasSettings | True |
Highlights2012 | -50 |
HueAdjustmentAqua | 0 |
HueAdjustmentBlue | 0 |
HueAdjustmentGreen | 0 |
HueAdjustmentMagenta | 0 |
HueAdjustmentOrange | 0 |
HueAdjustmentPurple | 0 |
HueAdjustmentRed | 0 |
HueAdjustmentYellow | 0 |
HyperfocalDistance | 13.95 m |
ImageHeight | 3126 |
ImageNumber | 0 |
ImageSize | 4777x3126 |
ImageWidth | 4777 |
ISO | 200 |
Lens | EF28-300mm f/3.5-5.6L IS USM |
LensID (1) | 233 |
LensID | Canon EF 28-300mm f/3.5-5.6L IS USM |
LensInfo | 28-300mm f/? |
LensManualDistortionAmount | 0 |
LensModel | EF28-300mm f/3.5-5.6L IS USM |
LensProfileEnable | 0 |
LensProfileSetup | LensDefaults |
LensSerialNumber | 0000206f71 |
LightValue | 14.9 |
LuminanceAdjustmentAqua | 0 |
LuminanceAdjustmentBlue | 0 |
LuminanceAdjustmentGreen | 0 |
LuminanceAdjustmentMagenta | 0 |
LuminanceAdjustmentOrange | 0 |
LuminanceAdjustmentPurple | 0 |
LuminanceAdjustmentRed | 0 |
LuminanceAdjustmentYellow | 0 |
LuminanceNoiseReductionContrast | 0 |
LuminanceNoiseReductionDetail | 50 |
LuminanceSmoothing | 99 |
Make | Canon |
MaxApertureValue | 4.4 |
Megapixels | 14.9 |
MeteringMode | Partial |
Model | Canon EOS-1D X |
ModifyDate (1) | 2016:12:02 21:46:06+01:00 |
ModifyDate | 2016:12:04 19:35:17 |
Orientation | Horizontal (normal) |
PaintCorrectionActive | true |
PaintCorrectionAmount | 1.000000 |
PaintCorrectionBrightness | 0.000000 |
PaintCorrectionClarity2012 (1) | 1.000000 |
PaintCorrectionClarity2012 | 0.000000 |
PaintCorrectionContrast2012 (1) | -0.053570 |
PaintCorrectionContrast2012 (3) | -0.261260 |
PaintCorrectionContrast2012 | 0.000000 |
PaintCorrectionDefringe (1) | 1.000000 |
PaintCorrectionDefringe (3) | 0.315320 |
PaintCorrectionDefringe | 0.000000 |
PaintCorrectionExposure2012 (1) | 0.008750 |
PaintCorrectionExposure2012 (2) | 0.000000 |
PaintCorrectionExposure2012 (3) | 0.315250 |
PaintCorrectionExposure2012 | 0.441500 |
PaintCorrectionHighlights2012 (1) | -0.408700 |
PaintCorrectionHighlights2012 (3) | -0.027030 |
PaintCorrectionHighlights2012 | -0.045050 |
PaintCorrectionHue (1) | 191.000000 |
PaintCorrectionHue | 102.000000 |
PaintCorrectionLuminanceNoise (1) | -0.266060 |
PaintCorrectionLuminanceNoise | 0.000000 |
PaintCorrectionMaskCenterWeight (4) | 0.148686 |
PaintCorrectionMaskCenterWeight | 0.153068 |
PaintCorrectionMaskFlow (2) | 0.175000 |
PaintCorrectionMaskFlow | 0.868000 |
PaintCorrectionMaskRadius (1) | 0.130727 |
PaintCorrectionMaskRadius (2) | 0.062356 |
PaintCorrectionMaskRadius (3) | 0.032630 |
PaintCorrectionMaskRadius (5) | 0.192742 |
PaintCorrectionMaskRadius (6) | 0.269271 |
PaintCorrectionMaskRadius | 0.243466 |
PaintCorrectionMaskValue | 0.580000 |
PaintCorrectionMaskWhat | Mask/Paint |
PaintCorrectionMoire (1) | -0.321100 |
PaintCorrectionMoire | 0.000000 |
PaintCorrectionSaturation (2) | 0.080000 |
PaintCorrectionSaturation (5) | 0.369370 |
PaintCorrectionSaturation (7) | 0.000000 |
PaintCorrectionSaturation | 0.330000 |
PaintCorrectionShadows2012 (1) | 0.214290 |
PaintCorrectionShadows2012 (3) | 0.405410 |
PaintCorrectionShadows2012 | 0.000000 |
PaintCorrectionSharpness | 1.000000 |
PaintCorrectionTemperature (1) | 0.826090 |
PaintCorrectionTemperature | 0.000000 |
PaintCorrectionTint (1) | -0.196430 |
PaintCorrectionTint | 0.000000 |
PaintCorrectionWhat | Correction |
ParametricDarks | 0 |
ParametricHighlights | 0 |
ParametricHighlightSplit | 75 |
ParametricLights | 0 |
ParametricMidtoneSplit | 50 |
ParametricShadows | 0 |
ParametricShadowSplit | 25 |
PerspectiveAspect | 0 |
PerspectiveHorizontal | 0 |
PerspectiveRotate | 0.0 |
PerspectiveScale | 100 |
PerspectiveUpright | 0 |
PerspectiveVertical | 0 |
PostCropVignetteAmount | 0 |
ProcessingSoftware | Windows Photo Editor 10.0.10011.16384 |
ProcessVersion | 6.7 |
RawFileName | File1287.jpg |
RecommendedExposureIndex | 200 |
RedHue | 0 |
RedSaturation | 0 |
Rights | ERLING.KVALSOREN40848497NORGE ME |
Saturation | 0 |
SaturationAdjustmentAqua | 0 |
SaturationAdjustmentBlue | 0 |
SaturationAdjustmentGreen | 0 |
SaturationAdjustmentMagenta | 0 |
SaturationAdjustmentOrange | 0 |
SaturationAdjustmentPurple | 0 |
SaturationAdjustmentRed | 0 |
SaturationAdjustmentYellow | 0 |
ScaleFactor35efl | 1.1 |
SceneCaptureType | Standard |
SensitivityType | Recommended Exposure Index |
SerialNumber | 063012000926 |
Shadows2012 | +50 |
ShadowTint | 0 |
SharpenDetail | 58 |
SharpenEdgeMasking | 74 |
SharpenRadius | +2.6 |
Sharpness | 150 |
ShutterSpeed | 1/500 |
ShutterSpeedValue | 1/500 |
Software | Windows Photo Editor 10.0.10011.16384 |
SplitToningBalance | 0 |
SplitToningHighlightHue | 0 |
SplitToningHighlightSaturation | 0 |
SplitToningShadowHue | 0 |
SplitToningShadowSaturation | 0 |
Tint | +18 |
ToneCurve | 0, 0, 255, 255 |
ToneCurveBlue | 0, 0, 255, 255 |
ToneCurveGreen | 0, 0, 255, 255 |
ToneCurveName | Linear |
ToneCurveName2012 | Linear |
ToneCurvePV2012 | 0, 0, 255, 255 |
ToneCurvePV2012Blue | 0, 0, 255, 255 |
ToneCurvePV2012Green | 0, 0, 255, 255 |
ToneCurvePV2012Red | 0, 0, 255, 255 |
ToneCurveRed | 0, 0, 255, 255 |
Version | 9.0 |
Vibrance | 0 |
VignetteAmount | 0 |
WhiteBalance (1) | As Shot |
WhiteBalance | Auto |
Whites2012 | +31 |