Felt | Verdi |
AlreadyApplied | True |
Aperture | 16.0 |
ApertureValue | 16.0 |
ApproximateFocusDistance | 4294967295 |
AutoLateralCA | 0 |
BitsPerSample | 8 |
Blacks2012 | -5 |
BlueHue | 0 |
BlueSaturation | 0 |
Brightness | +50 |
CameraProfile | Adobe Standard |
CFAPattern | [Red,Green][Green,Blue] |
CircleOfConfusion | 0.030 mm |
Clarity | 0 |
Clarity2012 | +25 |
ColorComponents | 3 |
ColorNoiseReduction | 59 |
ColorNoiseReductionDetail | 55 |
ColorTemperature | 6000 |
ColorTransform | YCbCr |
Contrast (1) | +25 |
Contrast | Normal |
Contrast2012 | +10 |
ConvertToGrayscale | False |
CreateDate (1) | 2016:07:04 00:36:55.16 |
CreateDate | 2016:07:04 00:36:55 |
CreatorTool | Adobe Photoshop Lightroom 4.0 (Windows) |
CropAngle | 0 |
CropBottom | 0.973105 |
CropConstrainToWarp | 0 |
CropHeight | 2555 |
CropLeft | 0 |
CropRight | 0.912124 |
CropTop | 0.070905 |
CropUnit | pixels |
CropWidth | 3882 |
CustomRendered | Normal |
DateCreated (1) | 2016:07:04 |
DateCreated | 2016:07:04 00:36:55.16 |
DateTimeOriginal | 2016:07:04 00:36:55 |
Defringe | 0 |
DigitalZoomRatio | 1 |
DOF | inf (1.20 m - inf) |
Exposure | 0.00 |
Exposure2012 | -0.12 |
ExposureCompensation | 0 |
ExposureMode | Manual |
ExposureProgram | Manual |
ExposureTime | 122 |
FillLight | 0 |
Flash | No Flash |
FNumber | 16.0 |
FocalLength | 24.0 mm |
FocalLength35efl | 24.0 mm (35 mm equivalent: 24.0 mm) |
FocalLengthIn35mmFormat | 24 mm |
Format | image/jpeg |
FOV | 73.7 deg |
GainControl | None |
GradientBasedCorrActive | true |
GradientBasedCorrAmount | 1.000000 |
GradientBasedCorrBrightness | 0.000000 |
GradientBasedCorrClarity2012 | 0.341460 |
GradientBasedCorrContrast2012 | 0.341460 |
GradientBasedCorrExposure2012 | -0.024500 |
GradientBasedCorrHighlights2012 | -0.853660 |
GradientBasedCorrHue | 0.000000 |
GradientBasedCorrLuminanceNoise | 0.350000 |
GradientBasedCorrMaskFullX | 0.509741 |
GradientBasedCorrMaskFullY | 0.739283 |
GradientBasedCorrMaskValue | 1.000000 |
GradientBasedCorrMaskWhat | Mask/Gradient |
GradientBasedCorrMaskZeroX | 0.509319 |
GradientBasedCorrMaskZeroY | 0.572763 |
GradientBasedCorrMoire | 0.000000 |
GradientBasedCorrSaturation (1) | 0.048780 |
GradientBasedCorrSaturation | 0.000000 |
GradientBasedCorrShadows2012 | 0.243900 |
GradientBasedCorrSharpness | 0.500000 |
GradientBasedCorrTemperature | 0.000000 |
GradientBasedCorrTint | 0.000000 |
GradientBasedCorrWhat | Correction |
GrainAmount | 0 |
GreenHue | 0 |
GreenSaturation | 0 |
HasCrop | True |
HasSettings | True |
HighlightRecovery | 0 |
Highlights2012 | -46 |
HueAdjustmentAqua | 0 |
HueAdjustmentBlue | 0 |
HueAdjustmentGreen | 0 |
HueAdjustmentMagenta | 0 |
HueAdjustmentOrange | 0 |
HueAdjustmentPurple | 0 |
HueAdjustmentRed | 0 |
HueAdjustmentYellow | 0 |
HyperfocalDistance | 1.20 m |
ImageHeight | 2555 |
ImageNumber | 33812 |
ImageSize | 3882x2555 |
ImageWidth | 3882 |
ISO | 250 |
Lens | 14.0-24.0 mm f/2.8 |
LensID (1) | 146 |
LensID | AF-S Zoom-Nikkor 14-24mm f/2.8G ED |
LensInfo | 14-24mm f/2.8 |
LensManualDistortionAmount | 0 |
LensModel | 14.0-24.0 mm f/2.8 |
LensProfileEnable | 0 |
LensProfileSetup | LensDefaults |
LightSource | Fine Weather |
LightValue | -0.3 |
LuminanceAdjustmentAqua | 0 |
LuminanceAdjustmentBlue | 0 |
LuminanceAdjustmentGreen | 0 |
LuminanceAdjustmentMagenta | 0 |
LuminanceAdjustmentOrange | +5 |
LuminanceAdjustmentPurple | 0 |
LuminanceAdjustmentRed | 0 |
LuminanceAdjustmentYellow | +5 |
LuminanceNoiseReductionContrast | 20 |
LuminanceNoiseReductionDetail | 55 |
LuminanceSmoothing | 10 |
Make | NIKON CORPORATION |
MaxApertureValue | 2.8 |
Megapixels | 9.9 |
MeteringMode | Multi-segment |
Model | NIKON D700 |
ModifyDate (1) | 2016:07:05 00:52:04+02:00 |
ModifyDate | 2016:07:05 00:52:04 |
ParametricDarks | -7 |
ParametricHighlights | -20 |
ParametricHighlightSplit | 75 |
ParametricLights | 0 |
ParametricMidtoneSplit | 50 |
ParametricShadows | +24 |
ParametricShadowSplit | 25 |
PerspectiveHorizontal | 0 |
PerspectiveRotate | 0.0 |
PerspectiveScale | 103 |
PerspectiveVertical | 0 |
PostCropVignetteAmount | 0 |
ProcessVersion | 6.7 |
ProfileDescription | sRGB IEC61966-2.1 |
RedHue | 0 |
RedSaturation | 0 |
Saturation (1) | 0 |
Saturation | Normal |
SaturationAdjustmentAqua | 0 |
SaturationAdjustmentBlue | 0 |
SaturationAdjustmentGreen | -36 |
SaturationAdjustmentMagenta | 0 |
SaturationAdjustmentOrange | +11 |
SaturationAdjustmentPurple | 0 |
SaturationAdjustmentRed | 0 |
SaturationAdjustmentYellow | +7 |
ScaleFactor35efl | 1.0 |
SceneCaptureType | Standard |
SceneType | Directly photographed |
SensingMethod | One-chip color area |
SerialNumber | 2038506 |
Shadows | 5 |
Shadows2012 | +51 |
ShadowTint | 0 |
SharpenDetail | 50 |
SharpenEdgeMasking | 9 |
SharpenRadius | +1.5 |
Sharpness (1) | 40 |
Sharpness | Hard |
ShutterSpeed | 122 |
ShutterSpeedValue | 122 |
Software | Adobe Photoshop Lightroom 4.0 (Windows) |
SplitToningBalance | 0 |
SplitToningHighlightHue | 0 |
SplitToningHighlightSaturation | 0 |
SplitToningShadowHue | 0 |
SplitToningShadowSaturation | 0 |
SubjectDistanceRange | Unknown |
Tint | -6 |
ToneCurve | 0, 0, 255, 255 |
ToneCurveBlue | 0, 0, 255, 255 |
ToneCurveGreen | 0, 0, 255, 255 |
ToneCurveName | Linear |
ToneCurveName2012 | Linear |
ToneCurvePV2012 | 0, 0, 255, 255 |
ToneCurvePV2012Blue | 0, 0, 255, 255 |
ToneCurvePV2012Green | 0, 0, 255, 255 |
ToneCurvePV2012Red | 0, 0, 255, 255 |
ToneCurveRed | 0, 0, 255, 255 |
Version | 7.0 |
Vibrance | +12 |
VignetteAmount | +10 |
VignetteMidpoint | 6 |
WhiteBalance (1) | Custom |
WhiteBalance | Manual |
Whites2012 | -27 |