Felt | Verdi |
2016-06-13T03:45:16-04:00 Filen 20160526_Lofoten_8817_tonemapped.tif er lagret
2016-06-13T03:46:09-04:00 Filen 20160526_Lofoten_8817_tonemapped.jpg er lagret
AlreadyApplied | True |
Aperture | 8.0 |
ApertureValue | 8.0 |
ApproximateFocusDistance | 4294967295 |
AutoLateralCA | 0 |
AutoWhiteVersion | 134348800 |
BitsPerSample | 8 |
BlackClip | 0.000000 |
Blacks2012 | 0 |
BlueHue | 0 |
BlueSaturation | 0 |
CameraProfile | Embedded |
Clarity2012 | 0 |
ColorComponents | 3 |
ColorMode | RGB |
ColorNoiseReduction | 0 |
ColorSaturation | 100.0 |
ColorSpace | Uncalibrated |
ColorTemperature | 2.7 |
ColorTransform | YCbCr |
Contrast2012 | -47 |
ConvertToGrayscale | False |
Copyright | Hasselblad H4D |
CopyrightNotice | Hasselblad H4D |
CreateDate | 2016:05:26 01:12:30 |
CreatorTool | Photomatix Pro 5.1.2 |
DateCreated (1) | 2016:05:26 |
DateCreated | 2016:05:26 01:12:30 |
DateTimeOriginal | 2016:05:26 01:12:30 |
DefringeGreenAmount | 0 |
DefringeGreenHueHi | 60 |
DefringeGreenHueLo | 40 |
DefringePurpleAmount | 0 |
DefringePurpleHueHi | 70 |
DefringePurpleHueLo | 30 |
Dehaze | 0 |
ExifImageHeight | 972 |
ExifImageWidth | 1366 |
Exposure2012 | 0.00 |
ExposureProgram | Aperture-priority AE |
ExposureTime | 1/10 |
FNumber | 8.0 |
FocalLength | 110.0 mm |
FocalLength35efl | 110.0 mm |
Format | image/jpeg |
Gamma | 1.63 |
GrainAmount | 0 |
GreenHue | 0 |
GreenSaturation | 0 |
HasCrop | False |
HasSettings | True |
Highlights2012 | -100 |
HighlightsSmoothing | 0.0 |
HueAdjustmentAqua | 0 |
HueAdjustmentBlue | 0 |
HueAdjustmentGreen | 0 |
HueAdjustmentMagenta | 0 |
HueAdjustmentOrange | 0 |
HueAdjustmentPurple | 0 |
HueAdjustmentRed | 0 |
HueAdjustmentYellow | 0 |
ICCProfileName | Adobe RGB (1998) |
ImageHeight | 972 |
ImageSize | 1366x972 |
ImageWidth | 1366 |
IncrementalTemperature | +41 |
IncrementalTint | +9 |
ISO | 100 |
IsPano360 | No |
Lens | HC 50-110 |
LensManualDistortionAmount | 0 |
LensModel | HC 50-110 |
LensProfileEnable | 0 |
LensProfileSetup | LensDefaults |
LightValue | 9.3 |
LuminanceAdjustmentAqua | 0 |
LuminanceAdjustmentBlue | 0 |
LuminanceAdjustmentGreen | 0 |
LuminanceAdjustmentMagenta | 0 |
LuminanceAdjustmentOrange | 0 |
LuminanceAdjustmentPurple | 0 |
LuminanceAdjustmentRed | 0 |
LuminanceAdjustmentYellow | 0 |
LuminanceSmoothing | 0 |
Luminosity | 10.0 |
Make | Hasselblad |
Megapixels | 1.3 |
MeteringMode | Center-weighted average |
Method | Details Enhancer |
Microcontrast | 10.0 |
Microsmoothing | 0.7 |
Model | Hasselblad H4D |
ModifyDate (1) | 2016:06:13 03:46:09-04:00 |
ModifyDate | 2016:06:13 03:46:09 |
Orientation | Horizontal (normal) |
ParametricDarks | 0 |
ParametricHighlights | 0 |
ParametricHighlightSplit | 75 |
ParametricLights | 0 |
ParametricMidtoneSplit | 50 |
ParametricShadows | 0 |
ParametricShadowSplit | 25 |
PerspectiveAspect | 0 |
PerspectiveHorizontal | 0 |
PerspectiveRotate | 0.0 |
PerspectiveScale | 100 |
PerspectiveUpright | 0 |
PerspectiveVertical | 0 |
PhotographicSensitivity | 100 |
PostCropVignetteAmount | 0 |
ProcessVersion | 6.7 |
ProfileDescription | Adobe RGB (1998) |
Rating | 0 |
RawFileName | 20160526_Lofoten_8817_tonemapped.tif |
RedHue | 0 |
RedSaturation | 0 |
Rights | Hasselblad H4D |
Saturation | 0 |
SaturationAdjustmentAqua | 0 |
SaturationAdjustmentBlue | 0 |
SaturationAdjustmentGreen | 0 |
SaturationAdjustmentMagenta | 0 |
SaturationAdjustmentOrange | 0 |
SaturationAdjustmentPurple | 0 |
SaturationAdjustmentRed | 0 |
SaturationAdjustmentYellow | 0 |
SaturationHighlights | 10.0 |
SaturationShadows | 10.0 |
Shadows2012 | +30 |
ShadowsClipping | 0.0 |
ShadowsSmoothing | 0.0 |
ShadowTint | 0 |
SharpenDetail | 25 |
SharpenEdgeMasking | 0 |
SharpenRadius | +1.0 |
Sharpness | 0 |
ShutterSpeed | 1/10 |
ShutterSpeedValue | 1/10 |
Smoothing | -7.0 |
SmoothingMode | Slider |
Software | Adobe Photoshop CC 2015 (Macintosh) |
SplitToningBalance | 0 |
SplitToningHighlightHue | 0 |
SplitToningHighlightSaturation | 0 |
SplitToningShadowHue | 0 |
SplitToningShadowSaturation | 0 |
Strength | 31.7 |
SubjectDistance | 4294967295 m |
ToneCurve | 0, 0, 255, 255 |
ToneCurveBlue | 0, 0, 255, 255 |
ToneCurveGreen | 0, 0, 255, 255 |
ToneCurveName | Linear |
ToneCurveName2012 | Linear |
ToneCurvePV2012 | 0, 0, 255, 255 |
ToneCurvePV2012Blue | 0, 0, 255, 255 |
ToneCurvePV2012Green | 0, 0, 255, 255 |
ToneCurvePV2012Red | 0, 0, 255, 255 |
ToneCurveRed | 0, 0, 255, 255 |
ToneMapStrength | 0 |
URL_List | |
Version (1) | 5.1 |
Version | 9.5.1 |
Vibrance | 0 |
VignetteAmount | 0 |
WhiteBalance | Custom |
WhiteClip | 1.969648 |
Whites2012 | 0 |