Felt | Verdi |
AlreadyApplied | True |
Aperture | 5.6 |
ApertureValue | 5.6 |
ApproximateFocusDistance | 72.7 |
Artist | Sven Erik Fredriksen |
AutoLateralCA | 1 |
AutoWhiteVersion | 134348800 |
BitsPerSample | 8 |
Blacks2012 | 0 |
BlueHue | 0 |
BlueSaturation | 0 |
By-line | Sven Erik Fredriksen |
CameraProfile | Adobe Standard |
CircleOfConfusion | 0.006 mm |
Clarity2012 | +15 |
ColorComponents | 3 |
ColorNoiseReduction | 25 |
ColorNoiseReductionDetail | 50 |
ColorNoiseReductionSmoothness | 50 |
ColorTemperature | 5500 |
ColorTransform | YCbCr |
Contrast2012 | 0 |
ConvertToGrayscale | False |
Copyright | (c) Sven Erik Fredriksen |
CopyrightFlag | True |
CopyrightNotice | (c) Sven Erik Fredriksen |
CreateDate (1) | 2016:04:28 21:21:01.80 |
CreateDate | 2016:04:28 21:21:01 |
Creator | Sven Erik Fredriksen |
CreatorAddress | Omvn 26 |
CreatorCity | Stokmarknes |
CreatorCountry | Norway |
CreatorPostalCode | 8450 |
CreatorTool | Adobe Photoshop Lightroom 6.4 (Macintosh) |
CreatorWorkEmail | sven.fredriksen58@gmail.com |
CreatorWorkTelephone | 004790557417 |
CropAngle | 0 |
CropBottom | 0.985772 |
CropConstrainToWarp | 0 |
CropLeft | 0.214761 |
CropRight | 0.863912 |
CropTop | 0.336621 |
CustomRendered | Normal |
DateCreated (1) | 2016:04:28 |
DateCreated | 2016:04:28 21:21:01.80 |
DateTimeOriginal | 2016:04:28 21:21:01 |
DefringeGreenAmount | 0 |
DefringeGreenHueHi | 60 |
DefringeGreenHueLo | 40 |
DefringePurpleAmount | 0 |
DefringePurpleHueHi | 70 |
DefringePurpleHueLo | 30 |
Dehaze | 0 |
DOF | 2.06 m (71.68 - 73.75 m) |
Exposure2012 | +0.30 |
ExposureCompensation | 0 |
ExposureMode | Auto |
ExposureProgram | Aperture-priority AE |
ExposureTime | 1/1500 |
Firmware | 1.1.3 |
Flash | Off, Did not fire |
FlashCompensation | 0 |
FNumber | 5.6 |
FocalLength | 400.0 mm |
FocalLength35efl | 400.0 mm (35 mm equivalent: 2145.9 mm) |
Format | image/jpeg |
FOV | 1.0 deg |
GrainAmount | 0 |
GreenHue | 0 |
GreenSaturation | 0 |
HasCrop | True |
HasSettings | True |
Highlights2012 | -13 |
HueAdjustmentAqua | 0 |
HueAdjustmentBlue | 0 |
HueAdjustmentGreen | 0 |
HueAdjustmentMagenta | 0 |
HueAdjustmentOrange | 0 |
HueAdjustmentPurple | 0 |
HueAdjustmentRed | 0 |
HueAdjustmentYellow | 0 |
HyperfocalDistance | 5101.38 m |
ImageHeight | 680 |
ImageNumber | 0 |
ImageSize | 1020x680 |
ImageWidth | 1020 |
ISO | 800 |
Keywords | Hegre, Northern Norway, Stokmarknes, småbåthavna |
Lens | EF100-400mm f/4.5-5.6L IS II USM |
LensID (1) | 747 |
LensID | Canon EF 100-400mm f/4.5-5.6L IS II USM |
LensInfo | 100-400mm f/? |
LensManualDistortionAmount | 0 |
LensModel | EF100-400mm f/4.5-5.6L IS II USM |
LensProfileChromaticAberrationScale | 100 |
LensProfileDistortionScale | 100 |
LensProfileEnable | 1 |
LensProfileFilename | Canon EOS-1Ds Mark III (Canon EF 100-400mm f4.5-5.6L IS II USM) - RAW.lcp |
LensProfileName | Adobe (Canon EF 100-400mm f/4.5-5.6L IS II USM) |
LensProfileSetup | LensDefaults |
LensProfileVignettingScale | 100 |
LensSerialNumber | 2810002481 |
LightValue | 12.5 |
LuminanceAdjustmentAqua | 0 |
LuminanceAdjustmentBlue | 0 |
LuminanceAdjustmentGreen | 0 |
LuminanceAdjustmentMagenta | 0 |
LuminanceAdjustmentOrange | 0 |
LuminanceAdjustmentPurple | 0 |
LuminanceAdjustmentRed | 0 |
LuminanceAdjustmentYellow | 0 |
LuminanceNoiseReductionContrast | 0 |
LuminanceNoiseReductionDetail | 50 |
LuminanceSmoothing | 50 |
Make | Canon |
Marked | True |
MaxApertureValue | 5.7 |
Megapixels | 0.694 |
MeteringMode | Multi-segment |
Model | Canon EOS 6D |
ModifyDate (1) | 2016:04:29 23:55:17+02:00 |
ModifyDate | 2016:04:29 23:55:17 |
ParametricDarks | 0 |
ParametricHighlights | 0 |
ParametricHighlightSplit | 75 |
ParametricLights | 0 |
ParametricMidtoneSplit | 50 |
ParametricShadows | 0 |
ParametricShadowSplit | 25 |
PerspectiveAspect | 0 |
PerspectiveHorizontal | 0 |
PerspectiveRotate | 0.0 |
PerspectiveScale | 100 |
PerspectiveUpright | 0 |
PerspectiveVertical | 0 |
PostCropVignetteAmount | 0 |
ProcessVersion | 6.7 |
ProfileDescription | sRGB IEC61966-2.1 |
Rating | 5 |
RecommendedExposureIndex | 800 |
RedHue | 0 |
RedSaturation | 0 |
Rights | (c) Sven Erik Fredriksen |
Saturation | 0 |
SaturationAdjustmentAqua | 0 |
SaturationAdjustmentBlue | 0 |
SaturationAdjustmentGreen | 0 |
SaturationAdjustmentMagenta | 0 |
SaturationAdjustmentOrange | 0 |
SaturationAdjustmentPurple | 0 |
SaturationAdjustmentRed | 0 |
SaturationAdjustmentYellow | 0 |
ScaleFactor35efl | 5.4 |
SceneCaptureType | Standard |
SensitivityType | Recommended Exposure Index |
SerialNumber | 053024015013 |
Shadows2012 | +27 |
ShadowTint | 0 |
SharpenDetail | 25 |
SharpenEdgeMasking | 51 |
SharpenRadius | +1.5 |
Sharpness | 100 |
ShutterSpeed | 1/1500 |
ShutterSpeedValue | 1/1500 |
Software | Adobe Photoshop Lightroom 6.4 (Macintosh) |
SplitToningBalance | 0 |
SplitToningHighlightHue | 0 |
SplitToningHighlightSaturation | 0 |
SplitToningShadowHue | 0 |
SplitToningShadowSaturation | 0 |
Subject | Hegre, Northern Norway, Stokmarknes, småbåthavna |
Tint | +10 |
ToneCurve | 0, 0, 255, 255 |
ToneCurveBlue | 0, 0, 255, 255 |
ToneCurveGreen | 0, 0, 255, 255 |
ToneCurveName | Linear |
ToneCurveName2012 | Custom |
ToneCurvePV2012 | 0, 0, 88, 98, 162, 192, 255, 255 |
ToneCurvePV2012Blue | 0, 0, 255, 255 |
ToneCurvePV2012Green | 0, 0, 255, 255 |
ToneCurvePV2012Red | 0, 0, 255, 255 |
ToneCurveRed | 0, 0, 255, 255 |
ToneMapStrength | 0 |
UsageTerms | No use of photos without permission from photographer |
Version | 9.4 |
Vibrance | 0 |
VignetteAmount | 0 |
WhiteBalance (1) | Daylight |
WhiteBalance | Auto |
Whites2012 | 0 |