Felt | Verdi |
AlreadyApplied | True |
Aperture | 14.0 |
ApertureValue | 14.0 |
ApproximateFocusDistance | 4294967295 |
AutoLateralCA | 0 |
AutoWhiteVersion | 134348800 |
BitsPerSample | 8 |
Blacks2012 | -10 |
BlueHue | 0 |
BlueSaturation | 0 |
CameraProfile | Adobe Standard |
CFAPattern | [Red,Green][Green,Blue] |
CircleOfConfusion | 0.030 mm |
Clarity2012 | +5 |
ColorComponents | 3 |
ColorNoiseReduction | 25 |
ColorNoiseReductionDetail | 50 |
ColorNoiseReductionSmoothness | 50 |
ColorTemperature | 9433 |
ColorTransform | YCbCr |
Contrast | Normal |
Contrast2012 | +31 |
ConvertToGrayscale | False |
CreateDate (1) | 2016:02:17 08:04:49.11 |
CreateDate | 2016:02:17 08:04:49 |
CreatorTool | Adobe Photoshop Lightroom 6.4 (Windows) |
CropAngle | -0.612797 |
CropBottom | 0.93139 |
CropConstrainToWarp | 0 |
CropLeft | 0.037443 |
CropRight | 0.937849 |
CropTop | 0.125462 |
CustomRendered | Normal |
DateCreated (1) | 2016:02:17 |
DateCreated | 2016:02:17 08:04:49.11 |
DateTimeOriginal | 2016:02:17 08:04:49 |
DefringeGreenAmount | 0 |
DefringeGreenHueHi | 60 |
DefringeGreenHueLo | 40 |
DefringePurpleAmount | 0 |
DefringePurpleHueHi | 70 |
DefringePurpleHueLo | 30 |
Dehaze | 0 |
DigitalZoomRatio | 1 |
DOF | inf (0.47 m - inf) |
Exposure2012 | 0.00 |
ExposureCompensation | 0 |
ExposureMode | Auto |
ExposureProgram | Aperture-priority AE |
ExposureTime | 0.5 |
Flash | Off, Did not fire |
FNumber | 14.0 |
FocalLength | 14.0 mm |
FocalLength35efl | 14.0 mm (35 mm equivalent: 14.0 mm) |
FocalLengthIn35mmFormat | 14 mm |
Format | image/jpeg |
FOV | 104.3 deg |
GainControl | None |
GradientBasedCorrActive | true |
GradientBasedCorrAmount | 1.000000 |
GradientBasedCorrBrightness | 0.000000 |
GradientBasedCorrClarity2012 (1) | 0.103450 |
GradientBasedCorrClarity2012 | 0.195400 |
GradientBasedCorrContrast2012 (1) | 0.356320 |
GradientBasedCorrContrast2012 | 0.333330 |
GradientBasedCorrDefringe | 0.000000 |
GradientBasedCorrExposure2012 (1) | -0.011500 |
GradientBasedCorrExposure2012 | 0.172500 |
GradientBasedCorrHighlights2012 (1) | -0.908050 |
GradientBasedCorrHighlights2012 | -0.540230 |
GradientBasedCorrHue | 3.000000 |
GradientBasedCorrLocalBlacks2012 (1) | 0.011490 |
GradientBasedCorrLocalBlacks2012 | -0.333330 |
GradientBasedCorrLocalDehaze (1) | 0.379310 |
GradientBasedCorrLocalDehaze | 0.471260 |
GradientBasedCorrLocalWhites2012 (1) | -0.172410 |
GradientBasedCorrLocalWhites2012 | -0.218390 |
GradientBasedCorrLuminanceNoise | 0.000000 |
GradientBasedCorrMaskFullX (1) | 0.526749 |
GradientBasedCorrMaskFullX | 0.595496 |
GradientBasedCorrMaskFullY (1) | 0.381524 |
GradientBasedCorrMaskFullY | 0.399755 |
GradientBasedCorrMaskValue | 1.000000 |
GradientBasedCorrMaskWhat | Mask/Gradient |
GradientBasedCorrMaskZeroX (1) | 0.526959 |
GradientBasedCorrMaskZeroX | 0.595141 |
GradientBasedCorrMaskZeroY (1) | 0.407280 |
GradientBasedCorrMaskZeroY | 0.368777 |
GradientBasedCorrMoire | 0.000000 |
GradientBasedCorrSaturation (3) | -0.034480 |
GradientBasedCorrSaturation | 0.010000 |
GradientBasedCorrShadows2012 (1) | -0.333330 |
GradientBasedCorrShadows2012 | 0.701150 |
GradientBasedCorrSharpness | 0.000000 |
GradientBasedCorrTemperature | 0.264370 |
GradientBasedCorrTint (1) | 0.103450 |
GradientBasedCorrTint | 0.126440 |
GradientBasedCorrWhat | Correction |
GrainAmount | 0 |
GreenHue | 0 |
GreenSaturation | -100 |
HasCrop | True |
HasSettings | True |
Highlights2012 | -17 |
HueAdjustmentAqua | 0 |
HueAdjustmentBlue | 0 |
HueAdjustmentGreen | 0 |
HueAdjustmentMagenta | 0 |
HueAdjustmentOrange | -27 |
HueAdjustmentPurple | 0 |
HueAdjustmentRed | 0 |
HueAdjustmentYellow | -24 |
HyperfocalDistance | 0.47 m |
ImageHeight | 3294 |
ImageNumber | 1211 |
ImageSize | 5381x3294 |
ImageWidth | 5381 |
ISO | 100 |
Lens | 14.0 mm f/2.8 |
LensID (1) | 74 |
LensID | Samyang AE 14mm f/2.8 ED AS IF UMC |
LensInfo | 14mm f/2.8-1.4 |
LensManualDistortionAmount | 0 |
LensModel | 14.0 mm f/2.8 |
LensProfileChromaticAberrationScale | 100 |
LensProfileDistortionScale | 100 |
LensProfileEnable | 1 |
LensProfileFilename | NIKON D3 (Nikon AF NIKKOR 14mm f2.8D ED) - RAW.lcp |
LensProfileName | Adobe (Nikon AF NIKKOR 14mm f/2.8D ED) |
LensProfileSetup | Custom |
LensProfileVignettingScale | 100 |
LightSource | Unknown |
LightValue | 8.6 |
LuminanceAdjustmentAqua | 0 |
LuminanceAdjustmentBlue | 0 |
LuminanceAdjustmentGreen | 0 |
LuminanceAdjustmentMagenta | 0 |
LuminanceAdjustmentOrange | -20 |
LuminanceAdjustmentPurple | 0 |
LuminanceAdjustmentRed | 0 |
LuminanceAdjustmentYellow | -33 |
LuminanceSmoothing | 0 |
Make | NIKON CORPORATION |
MaxApertureValue | 2.8 |
Megapixels | 17.7 |
MeteringMode | Multi-segment |
Model | NIKON D750 |
ModifyDate (1) | 2016:02:18 14:08:59+01:00 |
ModifyDate | 2016:02:18 14:08:59 |
ParametricDarks | 0 |
ParametricHighlights | 0 |
ParametricHighlightSplit | 75 |
ParametricLights | 0 |
ParametricMidtoneSplit | 50 |
ParametricShadows | 0 |
ParametricShadowSplit | 25 |
PerspectiveAspect | 0 |
PerspectiveHorizontal | 0 |
PerspectiveRotate | 0.0 |
PerspectiveScale | 100 |
PerspectiveUpright | 0 |
PerspectiveVertical | 0 |
PostCropVignetteAmount | 0 |
ProcessVersion | 6.7 |
ProfileDescription | sRGB IEC61966-2.1 |
RedHue | 0 |
RedSaturation | 0 |
Saturation (1) | +2 |
Saturation | Normal |
SaturationAdjustmentAqua | -100 |
SaturationAdjustmentBlue | -71 |
SaturationAdjustmentGreen | -100 |
SaturationAdjustmentMagenta | 0 |
SaturationAdjustmentOrange | +18 |
SaturationAdjustmentPurple | 0 |
SaturationAdjustmentRed | 0 |
SaturationAdjustmentYellow | +49 |
ScaleFactor35efl | 1.0 |
SceneCaptureType | Standard |
SceneType | Directly photographed |
SensingMethod | One-chip color area |
SensitivityType | Recommended Exposure Index |
SerialNumber | 6084305 |
Shadows2012 | 0 |
ShadowTint | 0 |
SharpenDetail | 25 |
SharpenEdgeMasking | 0 |
SharpenRadius | +1.0 |
Sharpness (1) | 84 |
Sharpness | Normal |
ShutterSpeed | 0.5 |
ShutterSpeedValue | 0.5 |
Software | Adobe Photoshop Lightroom 6.4 (Windows) |
SplitToningBalance | 0 |
SplitToningHighlightHue | 0 |
SplitToningHighlightSaturation | 0 |
SplitToningShadowHue | 0 |
SplitToningShadowSaturation | 0 |
SubjectDistanceRange | Unknown |
Tint | +2 |
ToneCurve | 0, 0, 255, 255 |
ToneCurveBlue | 0, 0, 255, 255 |
ToneCurveGreen | 0, 0, 255, 255 |
ToneCurveName | Linear |
ToneCurveName2012 | Linear |
ToneCurvePV2012 | 0, 0, 255, 255 |
ToneCurvePV2012Blue | 0, 0, 255, 255 |
ToneCurvePV2012Green | 0, 0, 255, 255 |
ToneCurvePV2012Red | 0, 0, 255, 255 |
ToneCurveRed | 0, 0, 255, 255 |
ToneMapStrength | 0 |
Version | 9.4 |
Vibrance | +43 |
VignetteAmount | 0 |
WhiteBalance (1) | Custom |
WhiteBalance | Auto |
Whites2012 | +45 |