Felt | Verdi |
AlreadyApplied | True |
Aperture | 6.3 |
ApertureValue | 6.3 |
ApproximateFocusDistance | 0.63 |
Artist | Karin_Skedsmo@ |
AutoLateralCA | 0 |
AutoWhiteVersion | 134348800 |
BitsPerSample | 8 |
Blacks2012 | -95 |
BlueHue | 0 |
BlueSaturation | 0 |
By-line | Karin_Skedsmo@ |
CameraProfile | Embedded |
Caption-Abstract | OLYMPUS DIGITAL CAMERA |
CircleOfConfusion | 0.015 mm |
Clarity2012 | +32 |
ColorComponents | 3 |
ColorMode | RGB |
ColorNoiseReduction | 0 |
ColorSpace | sRGB |
ColorTransform | YCbCr |
Contrast | Normal |
Contrast2012 | 0 |
ConvertToGrayscale | True |
Copyright | Karin_Skedsmo. |
CopyrightNotice | Karin_Skedsmo. |
CreateDate | 2016:02:13 09:34:44 |
Creator | Karin_Skedsmo@ |
CreatorTool | Adobe Photoshop Lightroom 5.7 (Macintosh) |
CropAngle | 2.29034 |
CropBottom | 1 |
CropConstrainToWarp | 0 |
CropLeft | 0.053965 |
CropRight | 0.89762 |
CropTop | 0 |
CustomRendered | Normal |
DateCreated | 2016:02:13 |
DateTimeDigitized | 2016:02:13 09:34:44+01:00 |
DateTimeOriginal (1) | 2016:02:13 09:34:44+01:00 |
DateTimeOriginal | 2016:02:13 09:34:44 |
Description | OLYMPUS DIGITAL CAMERA |
DigitalZoomRatio | 1 |
DOF | 0.07 m (0.59 - 0.67 m) |
ExifImageHeight | 3988 |
ExifImageWidth | 2435 |
Exposure2012 | +1.50 |
ExposureCompensation | -0.7 |
ExposureMode | Manual |
ExposureProgram | Aperture-priority AE |
ExposureTime | 1/8 |
Flash | Auto, Did not fire |
FlashCompensation | 0 |
FlashFired | False |
FlashFunction | False |
FlashMode | Auto |
FlashRedEyeMode | False |
FlashReturn | No return detection |
FNumber | 6.3 |
FocalLength | 31.0 mm |
FocalLength35efl | 31.0 mm (35 mm equivalent: 62.0 mm) |
FocalLengthIn35mmFormat | 62 mm |
Format | image/jpeg |
FOV | 32.4 deg |
GainControl | High gain up |
GrainAmount | 0 |
GrayMixerAqua | -21 |
GrayMixerBlue | +2 |
GrayMixerGreen | -21 |
GrayMixerMagenta | +8 |
GrayMixerOrange | -8 |
GrayMixerPurple | +12 |
GrayMixerRed | +1 |
GrayMixerYellow | -13 |
GreenHue | 0 |
GreenSaturation | 0 |
HasCrop | True |
HasSettings | True |
Highlights2012 | -53 |
HyperfocalDistance | 10.15 m |
ICCProfileName | sRGB IEC61966-2.1 |
ImageDescription | OLYMPUS DIGITAL CAMERA |
ImageHeight | 3988 |
ImageSize | 2435x3988 |
ImageWidth | 2435 |
IncrementalTemperature | -55 |
IncrementalTint | 0 |
ISO | 1250 |
Lens | OLYMPUS M.12-50mm F3.5-6.3 |
LensInfo | 12-50mm f/3.5-6.3 |
LensManualDistortionAmount | 0 |
LensModel | OLYMPUS M.12-50mm F3.5-6.3 |
LensProfileEnable | 0 |
LensProfileSetup | LensDefaults |
LensSerialNumber | ABP257558 |
LightSource | Unknown |
LightValue | 4.7 |
LuminanceSmoothing | 0 |
Make | OLYMPUS IMAGING CORP. |
MaxApertureValue | 3.5 |
Megapixels | 9.7 |
MeteringMode | Center-weighted average |
Model | E-M1 |
ModifyDate (1) | 2016:02:13 09:50:34+01:00 |
ModifyDate | 2016:02:13 09:50:34 |
Orientation | Horizontal (normal) |
ParametricDarks | 0 |
ParametricHighlights | 0 |
ParametricHighlightSplit | 75 |
ParametricLights | 0 |
ParametricMidtoneSplit | 50 |
ParametricShadows | 0 |
ParametricShadowSplit | 25 |
PerspectiveAspect | 0 |
PerspectiveHorizontal | 0 |
PerspectiveRotate | 0.0 |
PerspectiveScale | 100 |
PerspectiveUpright | 0 |
PerspectiveVertical | 0 |
PostCropVignetteAmount | 0 |
ProcessVersion | 6.7 |
ProfileDescription | sRGB IEC61966-2.1 |
RedHue | 0 |
RedSaturation | 0 |
Rights | Karin_Skedsmo. |
Saturation | Normal |
ScaleFactor35efl | 2.0 |
SceneCaptureType | Standard |
SensitivityType | Standard Output Sensitivity |
SerialNumber | BFJ201131 |
Shadows2012 | -51 |
ShadowTint | 0 |
SharpenDetail | 25 |
SharpenEdgeMasking | 0 |
SharpenRadius | +1.0 |
Sharpness (1) | 0 |
Sharpness | Normal |
ShutterSpeed | 1/8 |
ShutterSpeedValue | 1/8 |
Software | Adobe Photoshop Elements 9.0 Macintosh |
SplitToningBalance | 0 |
SplitToningHighlightHue | 0 |
SplitToningHighlightSaturation | 0 |
SplitToningShadowHue | 0 |
SplitToningShadowSaturation | 0 |
ToneCurve | 0, 0, 255, 255 |
ToneCurveBlue | 0, 0, 255, 255 |
ToneCurveGreen | 0, 0, 255, 255 |
ToneCurveName | Linear |
ToneCurveName2012 | Linear |
ToneCurvePV2012 | 0, 0, 255, 255 |
ToneCurvePV2012Blue | 0, 0, 255, 255 |
ToneCurvePV2012Green | 0, 0, 255, 255 |
ToneCurvePV2012Red | 0, 0, 255, 255 |
ToneCurveRed | 0, 0, 255, 255 |
URL_List | |
Version | 8.7 |
VignetteAmount | 0 |
WhiteBalance (1) | Custom |
WhiteBalance | Auto |
Whites2012 | +39 |