Felt | Verdi |
AlreadyApplied | True |
AutoLateralCA | 0 |
AutoWhiteVersion | 134348800 |
BitsPerSample | 8 |
Blacks2012 | +2 |
BlueHue | 0 |
BlueSaturation | 0 |
BrightnessValue | -4.35390625 |
CameraProfile | Adobe Standard |
CircGradBasedCorrActive | true |
CircGradBasedCorrAmount | 1.000000 |
CircGradBasedCorrBrightness | 0.000000 |
CircGradBasedCorrClarity2012 | 0.000000 |
CircGradBasedCorrContrast2012 | 0.000000 |
CircGradBasedCorrDefringe | 0.000000 |
CircGradBasedCorrExposure2012 (1) | 0.250000 |
CircGradBasedCorrExposure2012 (2) | -0.402000 |
CircGradBasedCorrExposure2012 (3) | 0.075000 |
CircGradBasedCorrExposure2012 (5) | 0.150000 |
CircGradBasedCorrExposure2012 (6) | 0.000000 |
CircGradBasedCorrExposure2012 | 0.080000 |
CircGradBasedCorrHighlights2012 | 0.000000 |
CircGradBasedCorrHue | 0.000000 |
CircGradBasedCorrLocalBlacks2012 | 0.000000 |
CircGradBasedCorrLocalDehaze | 0.000000 |
CircGradBasedCorrLocalWhites2012 | 0.000000 |
CircGradBasedCorrLuminanceNoise | 0.000000 |
CircGradBasedCorrMaskAngle (1) | 23.160000 |
CircGradBasedCorrMaskAngle (4) | -19.627500 |
CircGradBasedCorrMaskAngle (5) | -15.938400 |
CircGradBasedCorrMaskAngle | 0.000000 |
CircGradBasedCorrMaskBottom (1) | 1.059800 |
CircGradBasedCorrMaskBottom (2) | 0.694666 |
CircGradBasedCorrMaskBottom (3) | 0.641461 |
CircGradBasedCorrMaskBottom (4) | 0.512623 |
CircGradBasedCorrMaskBottom (5) | 0.553865 |
CircGradBasedCorrMaskBottom (6) | 0.559499 |
CircGradBasedCorrMaskBottom | 0.336645 |
CircGradBasedCorrMaskFeather | +25 |
CircGradBasedCorrMaskFlipped | true |
CircGradBasedCorrMaskLeft (1) | 0.639985 |
CircGradBasedCorrMaskLeft (2) | 0.287717 |
CircGradBasedCorrMaskLeft (3) | 0.686207 |
CircGradBasedCorrMaskLeft (4) | 0.445762 |
CircGradBasedCorrMaskLeft (5) | 0.364183 |
CircGradBasedCorrMaskLeft (6) | 0.261666 |
CircGradBasedCorrMaskLeft | 0.677888 |
CircGradBasedCorrMaskMidpoint | +50 |
CircGradBasedCorrMaskRight (1) | 0.839548 |
CircGradBasedCorrMaskRight (2) | 0.733011 |
CircGradBasedCorrMaskRight (3) | 0.773461 |
CircGradBasedCorrMaskRight (4) | 0.538095 |
CircGradBasedCorrMaskRight (5) | 0.415745 |
CircGradBasedCorrMaskRight (6) | 0.357381 |
CircGradBasedCorrMaskRight | 0.928397 |
CircGradBasedCorrMaskRoundness | 0 |
CircGradBasedCorrMaskTop (1) | 0.642948 |
CircGradBasedCorrMaskTop (2) | 0.603030 |
CircGradBasedCorrMaskTop (3) | 0.379819 |
CircGradBasedCorrMaskTop (4) | 0.482603 |
CircGradBasedCorrMaskTop (5) | 0.460877 |
CircGradBasedCorrMaskTop (6) | 0.523622 |
CircGradBasedCorrMaskTop | -0.045595 |
CircGradBasedCorrMaskValue | 1.000000 |
CircGradBasedCorrMaskVersion | +2 |
CircGradBasedCorrMaskWhat | Mask/CircularGradient |
CircGradBasedCorrMoire | 0.000000 |
CircGradBasedCorrSaturation (11) | 0.226000 |
CircGradBasedCorrSaturation | 0.000000 |
CircGradBasedCorrShadows2012 | 0.000000 |
CircGradBasedCorrSharpness | 0.000000 |
CircGradBasedCorrTemperature | 0.000000 |
CircGradBasedCorrTint | 0.000000 |
CircGradBasedCorrWhat | Correction |
Clarity2012 | +40 |
ColorComponents | 3 |
ColorNoiseReduction | 25 |
ColorNoiseReductionDetail | 50 |
ColorNoiseReductionSmoothness | 50 |
ColorTemperature | 3821 |
ColorTransform | YCbCr |
Contrast | Normal |
Contrast2012 | +65 |
ConvertToGrayscale | True |
CreateDate | 2016:02:07 15:12:10 |
CreatorTool | Adobe Photoshop Lightroom 6.4 (Windows) |
CropAngle | 0 |
CropBottom | 0.707031 |
CropConstrainToWarp | 0 |
CropLeft | 0.026042 |
CropRight | 0.877604 |
CropTop | 0.070313 |
CustomRendered | Normal |
DateCreated (1) | 2016:02:07 |
DateCreated | 2016:02:07 15:12:10 |
DateTimeOriginal | 2016:02:07 15:12:10 |
Dehaze | 0 |
DigitalZoomRatio | 1 |
Exposure2012 | +0.46 |
ExposureCompensation | +0.7 |
ExposureMode | Auto |
ExposureProgram | Aperture-priority AE |
ExposureTime | 1 |
Flash | Off, Did not fire |
Format | image/jpeg |
GradientBasedCorrActive | true |
GradientBasedCorrAmount | 1.000000 |
GradientBasedCorrBrightness | 0.000000 |
GradientBasedCorrClarity2012 | 0.000000 |
GradientBasedCorrContrast2012 (1) | 0.333330 |
GradientBasedCorrContrast2012 | 0.000000 |
GradientBasedCorrDefringe | 0.000000 |
GradientBasedCorrExposure2012 (1) | -0.402250 |
GradientBasedCorrExposure2012 | -0.149500 |
GradientBasedCorrHighlights2012 | 0.000000 |
GradientBasedCorrHue | 0.000000 |
GradientBasedCorrLocalBlacks2012 | 0.000000 |
GradientBasedCorrLocalDehaze | 0.000000 |
GradientBasedCorrLocalWhites2012 | 0.000000 |
GradientBasedCorrLuminanceNoise | 0.000000 |
GradientBasedCorrMaskFullX (1) | 0.413179 |
GradientBasedCorrMaskFullX | 0.379851 |
GradientBasedCorrMaskFullY (1) | 0.771786 |
GradientBasedCorrMaskFullY | 0.077712 |
GradientBasedCorrMaskValue | 1.000000 |
GradientBasedCorrMaskWhat | Mask/Gradient |
GradientBasedCorrMaskZeroX (1) | 0.425584 |
GradientBasedCorrMaskZeroX | 0.380077 |
GradientBasedCorrMaskZeroY (1) | 0.618005 |
GradientBasedCorrMaskZeroY | 0.261025 |
GradientBasedCorrMoire | 0.000000 |
GradientBasedCorrSaturation | 0.000000 |
GradientBasedCorrShadows2012 | 0.000000 |
GradientBasedCorrSharpness | 0.000000 |
GradientBasedCorrTemperature | 0.000000 |
GradientBasedCorrTint | 0.000000 |
GradientBasedCorrWhat | Correction |
GrainAmount | 0 |
GrayMixerAqua | -16 |
GrayMixerBlue | +16 |
GrayMixerGreen | -28 |
GrayMixerMagenta | +5 |
GrayMixerOrange | -21 |
GrayMixerPurple | +20 |
GrayMixerRed | -11 |
GrayMixerYellow | -25 |
GreenHue | 0 |
GreenSaturation | 0 |
HasCrop | True |
HasSettings | True |
Highlights2012 | -100 |
ImageHeight | 957 |
ImageSize | 1920x957 |
ImageWidth | 1920 |
ISO | 64 |
Lens | ---- |
LensManualDistortionAmount | 0 |
LensModel | ---- |
LensProfileChromaticAberrationScale | 100 |
LensProfileDistortionScale | 100 |
LensProfileEnable | 1 |
LensProfileFilename | SONY (Sony DT 16-80mm F3.5-4.5 ZA) - RAW.lcp |
LensProfileName | Adobe (Sony DT 16-80mm F3.5-4.5 ZA) |
LensProfileSetup | Custom |
LensProfileVignettingScale | 100 |
LightSource | Unknown |
LuminanceNoiseReductionContrast | 0 |
LuminanceNoiseReductionDetail | 50 |
LuminanceSmoothing | 17 |
Make | SONY |
MaxApertureValue | 1.0 |
Megapixels | 1.8 |
MeteringMode | Multi-segment |
Model | SLT-A99V |
ModifyDate (1) | 2016:02:08 20:21:20+01:00 |
ModifyDate | 2016:02:08 20:21:20 |
ParametricDarks | +18 |
ParametricHighlights | -32 |
ParametricHighlightSplit | 75 |
ParametricLights | -77 |
ParametricMidtoneSplit | 50 |
ParametricShadows | 0 |
ParametricShadowSplit | 25 |
PerspectiveAspect | 0 |
PerspectiveHorizontal | 0 |
PerspectiveRotate | 0.0 |
PerspectiveScale | 100 |
PerspectiveUpright | 0 |
PerspectiveVertical | 0 |
PostCropVignetteAmount | 0 |
ProcessVersion | 6.7 |
ProfileDescription | sRGB IEC61966-2.1 |
RecommendedExposureIndex | 64 |
RedHue | 0 |
RedSaturation | 0 |
Saturation | Normal |
SceneCaptureType | Standard |
SceneType | Directly photographed |
SensitivityType | Recommended Exposure Index |
Shadows2012 | +17 |
ShadowTint | 0 |
SharpenDetail | 25 |
SharpenEdgeMasking | 100 |
SharpenRadius | +2.4 |
Sharpness (1) | 45 |
Sharpness | Hard |
ShutterSpeed | 1 |
ShutterSpeedValue | 1 |
Software | Adobe Photoshop Lightroom 6.4 (Windows) |
SplitToningBalance | 0 |
SplitToningHighlightHue | 0 |
SplitToningHighlightSaturation | 0 |
SplitToningShadowHue | 0 |
SplitToningShadowSaturation | 0 |
Tint | +9 |
ToneCurve | 0, 0, 255, 255 |
ToneCurveBlue | 0, 0, 255, 255 |
ToneCurveGreen | 0, 0, 255, 255 |
ToneCurveName | Linear |
ToneCurveName2012 | Linear |
ToneCurvePV2012 | 0, 0, 255, 255 |
ToneCurvePV2012Blue | 0, 0, 255, 255 |
ToneCurvePV2012Green | 0, 0, 255, 255 |
ToneCurvePV2012Red | 0, 0, 255, 255 |
ToneCurveRed | 0, 0, 255, 255 |
ToneMapStrength | 0 |
Version | 9.4 |
VignetteAmount | 0 |
WhiteBalance (1) | Custom |
WhiteBalance | Auto |
Whites2012 | -21 |