Felt | Verdi |
AlreadyApplied | True |
Aperture | 2.8 |
ApertureValue | 2.8 |
ApproximateFocusDistance | 4294967295 |
AutoLateralCA | 0 |
AutoWhiteVersion | 134348800 |
BitsPerSample | 8 |
Blacks2012 | 0 |
BlueHue | 0 |
BlueSaturation | 0 |
CameraProfile | Adobe Standard |
CFAPattern | [Red,Green][Green,Blue] |
CircleOfConfusion | 0.030 mm |
Clarity2012 | +43 |
ColorComponents | 3 |
ColorNoiseReduction | 25 |
ColorNoiseReductionDetail | 50 |
ColorNoiseReductionSmoothness | 50 |
ColorTemperature | 3310 |
ColorTransform | YCbCr |
Contrast | Normal |
Contrast2012 | +86 |
ConvertToGrayscale | False |
CreateDate (1) | 2016:01:31 21:06:10.03 |
CreateDate | 2016:01:31 21:06:10 |
CreatorTool | Adobe Photoshop Lightroom 6.3 (Windows) |
CropAngle | 0 |
CropBottom | 0.739247 |
CropConstrainToWarp | 0 |
CropLeft | 0 |
CropRight | 0.519283 |
CropTop | 0.293011 |
CustomRendered | Custom |
DateCreated (1) | 2016:01:31 |
DateCreated | 2016:01:31 21:06:10.03 |
DateTimeOriginal | 2016:01:31 21:06:10 |
DefringeGreenAmount | 0 |
DefringeGreenHueHi | 60 |
DefringeGreenHueLo | 40 |
DefringePurpleAmount | 0 |
DefringePurpleHueHi | 70 |
DefringePurpleHueLo | 30 |
Dehaze | +5 |
DigitalZoomRatio | 1 |
DOF | inf (2.33 m - inf) |
Exposure2012 | 0.00 |
ExposureCompensation | 0 |
ExposureMode | Manual |
ExposureProgram | Manual |
ExposureTime | 15 |
Flash | Off, Did not fire |
FNumber | 2.8 |
FocalLength | 14.0 mm |
FocalLength35efl | 14.0 mm (35 mm equivalent: 14.0 mm) |
FocalLengthIn35mmFormat | 14 mm |
Format | image/jpeg |
FOV | 104.3 deg |
GainControl | High gain up |
GradientBasedCorrActive | true |
GradientBasedCorrAmount | 1.000000 |
GradientBasedCorrBrightness | 0.000000 |
GradientBasedCorrClarity2012 | 0.000000 |
GradientBasedCorrContrast2012 (2) | 0.540230 |
GradientBasedCorrContrast2012 | 0.310340 |
GradientBasedCorrDefringe | 0.000000 |
GradientBasedCorrExposure2012 (1) | -0.241500 |
GradientBasedCorrExposure2012 (2) | -0.023750 |
GradientBasedCorrExposure2012 | -0.655250 |
GradientBasedCorrHighlights2012 (2) | -0.586210 |
GradientBasedCorrHighlights2012 | 0.000000 |
GradientBasedCorrHue | 0.000000 |
GradientBasedCorrLocalBlacks2012 (1) | -0.402300 |
GradientBasedCorrLocalBlacks2012 (2) | 0.000000 |
GradientBasedCorrLocalBlacks2012 | -0.264370 |
GradientBasedCorrLocalDehaze (1) | 0.310340 |
GradientBasedCorrLocalDehaze (2) | 0.000000 |
GradientBasedCorrLocalDehaze | 0.241380 |
GradientBasedCorrLocalWhites2012 (1) | -0.586210 |
GradientBasedCorrLocalWhites2012 | 0.000000 |
GradientBasedCorrLuminanceNoise | 0.000000 |
GradientBasedCorrMaskFullX (1) | 0.581687 |
GradientBasedCorrMaskFullX (2) | 0.483661 |
GradientBasedCorrMaskFullX | 0.293873 |
GradientBasedCorrMaskFullY (1) | 0.525010 |
GradientBasedCorrMaskFullY (2) | 0.747435 |
GradientBasedCorrMaskFullY | 0.648680 |
GradientBasedCorrMaskValue | 1.000000 |
GradientBasedCorrMaskWhat | Mask/Gradient |
GradientBasedCorrMaskZeroX (1) | 0.574563 |
GradientBasedCorrMaskZeroX (2) | 0.490646 |
GradientBasedCorrMaskZeroX | 0.296676 |
GradientBasedCorrMaskZeroY (1) | 0.838995 |
GradientBasedCorrMaskZeroY (2) | 0.547910 |
GradientBasedCorrMaskZeroY | 0.631287 |
GradientBasedCorrMoire | 0.000000 |
GradientBasedCorrSaturation (3) | -0.034480 |
GradientBasedCorrSaturation (5) | 0.571430 |
GradientBasedCorrSaturation | 0.000000 |
GradientBasedCorrShadows2012 (1) | -0.402300 |
GradientBasedCorrShadows2012 (2) | 0.057470 |
GradientBasedCorrShadows2012 | 0.000000 |
GradientBasedCorrSharpness | 0.000000 |
GradientBasedCorrTemperature (1) | -0.149430 |
GradientBasedCorrTemperature (2) | -0.333330 |
GradientBasedCorrTemperature | 0.000000 |
GradientBasedCorrTint (1) | 0.080460 |
GradientBasedCorrTint (2) | 0.126440 |
GradientBasedCorrTint | 0.000000 |
GradientBasedCorrWhat | Correction |
GrainAmount | 0 |
GreenHue | 0 |
GreenSaturation | 0 |
HasCrop | True |
HasSettings | True |
Highlights2012 | -69 |
HueAdjustmentAqua | 0 |
HueAdjustmentBlue | 0 |
HueAdjustmentGreen | +16 |
HueAdjustmentMagenta | 0 |
HueAdjustmentOrange | 0 |
HueAdjustmentPurple | 0 |
HueAdjustmentRed | 0 |
HueAdjustmentYellow | 0 |
HyperfocalDistance | 2.33 m |
ImageHeight | 1792 |
ImageNumber | 767 |
ImageSize | 3124x1792 |
ImageWidth | 3124 |
ISO | 6400 |
Lens | 14.0 mm f/2.8 |
LensID (1) | 74 |
LensID | Samyang AE 14mm f/2.8 ED AS IF UMC |
LensInfo | 14mm f/2.8-1.4 |
LensManualDistortionAmount | 0 |
LensModel | 14.0 mm f/2.8 |
LensProfileChromaticAberrationScale | 100 |
LensProfileDistortionScale | 100 |
LensProfileEnable | 0 |
LensProfileFilename | NIKON D3 (Nikon AF NIKKOR 14mm f2.8D ED) - RAW.lcp |
LensProfileName | Adobe (Nikon AF NIKKOR 14mm f/2.8D ED) |
LensProfileSetup | Custom |
LensProfileVignettingScale | 100 |
LightSource | Unknown |
LightValue | -6.9 |
LuminanceAdjustmentAqua | 0 |
LuminanceAdjustmentBlue | 0 |
LuminanceAdjustmentGreen | -9 |
LuminanceAdjustmentMagenta | 0 |
LuminanceAdjustmentOrange | 0 |
LuminanceAdjustmentPurple | 0 |
LuminanceAdjustmentRed | 0 |
LuminanceAdjustmentYellow | 0 |
LuminanceNoiseReductionContrast | 0 |
LuminanceNoiseReductionDetail | 50 |
LuminanceSmoothing | 55 |
Make | NIKON CORPORATION |
MaxApertureValue | 2.8 |
Megapixels | 5.6 |
MeteringMode | Multi-segment |
Model | NIKON D750 |
ModifyDate (1) | 2016:02:01 14:28:34+01:00 |
ModifyDate | 2016:02:01 14:28:34 |
ParametricDarks | 0 |
ParametricHighlights | 0 |
ParametricHighlightSplit | 75 |
ParametricLights | 0 |
ParametricMidtoneSplit | 50 |
ParametricShadows | 0 |
ParametricShadowSplit | 25 |
PerspectiveAspect | 0 |
PerspectiveHorizontal | 0 |
PerspectiveRotate | 0.0 |
PerspectiveScale | 100 |
PerspectiveUpright | 0 |
PerspectiveVertical | 0 |
PostCropVignetteAmount | 0 |
ProcessVersion | 6.7 |
ProfileDescription | sRGB IEC61966-2.1 |
RedHue | 0 |
RedSaturation | 0 |
Saturation (1) | 0 |
Saturation | Normal |
SaturationAdjustmentAqua | 0 |
SaturationAdjustmentBlue | 0 |
SaturationAdjustmentGreen | -62 |
SaturationAdjustmentMagenta | 0 |
SaturationAdjustmentOrange | 0 |
SaturationAdjustmentPurple | 0 |
SaturationAdjustmentRed | 0 |
SaturationAdjustmentYellow | 0 |
ScaleFactor35efl | 1.0 |
SceneCaptureType | Standard |
SceneType | Directly photographed |
SensingMethod | One-chip color area |
SensitivityType | Recommended Exposure Index |
SerialNumber | 6084305 |
Shadows2012 | 0 |
ShadowTint | 0 |
SharpenDetail | 25 |
SharpenEdgeMasking | 0 |
SharpenRadius | +1.0 |
Sharpness (1) | 71 |
Sharpness | Normal |
ShutterSpeed | 15 |
ShutterSpeedValue | 15 |
Software | Adobe Photoshop Lightroom 6.3 (Windows) |
SplitToningBalance | 0 |
SplitToningHighlightHue | 0 |
SplitToningHighlightSaturation | 0 |
SplitToningShadowHue | 0 |
SplitToningShadowSaturation | 0 |
SubjectDistanceRange | Unknown |
Tint | +4 |
ToneCurve | 0, 0, 255, 255 |
ToneCurveBlue | 0, 0, 255, 255 |
ToneCurveGreen | 0, 0, 255, 255 |
ToneCurveName | Linear |
ToneCurveName2012 | Linear |
ToneCurvePV2012 | 0, 0, 255, 255 |
ToneCurvePV2012Blue | 0, 0, 255, 255 |
ToneCurvePV2012Green | 0, 0, 255, 255 |
ToneCurvePV2012Red | 0, 0, 255, 255 |
ToneCurveRed | 0, 0, 255, 255 |
ToneMapStrength | 0 |
Version | 9.3 |
Vibrance | +2 |
VignetteAmount | 0 |
WhiteBalance (1) | Custom |
WhiteBalance | Auto |
Whites2012 | -69 |