Felt | Verdi |
AlreadyApplied | True |
Aperture | 6.3 |
ApertureValue | 6.3 |
AutoLateralCA | 0 |
AutoWhiteVersion | 134348800 |
BitsPerSample | 8 |
Blacks2012 | +33 |
BlueHue | 0 |
BlueSaturation | 0 |
BrightnessValue | 8.42734375 |
CameraProfile | Adobe Standard |
CircleOfConfusion | 0.020 mm |
Clarity2012 | +29 |
ColorComponents | 3 |
ColorNoiseReduction | 25 |
ColorNoiseReductionDetail | 17 |
ColorNoiseReductionSmoothness | 50 |
ColorSpace | sRGB |
ColorTemperature | 5250 |
ColorTransform | YCbCr |
Contrast | Normal |
Contrast2012 | +55 |
ConvertToGrayscale | False |
CreateDate | 2015:07:28 12:04:29 |
CreatorTool | Adobe Photoshop Lightroom 5.7 (Windows) |
CropAngle | 2.5 |
CropBottom | 0.42587 |
CropConstrainToWarp | 0 |
CropLeft | 0.257102 |
CropRight | 0.517736 |
CropTop | 0.011916 |
CustomRendered | Normal |
DateCreated (1) | 2015:07:28 |
DateCreated | 2015:07:28 12:04:29 |
DateTimeOriginal | 2015:07:28 12:04:29 |
DefringeGreenAmount | 0 |
DefringeGreenHueHi | 60 |
DefringeGreenHueLo | 40 |
DefringePurpleAmount | 0 |
DefringePurpleHueHi | 70 |
DefringePurpleHueLo | 30 |
DigitalZoomRatio | 1 |
Exposure2012 | -1.43 |
ExposureCompensation | +0.7 |
ExposureMode | Auto |
ExposureProgram | Program AE |
ExposureTime | 1/1000 |
Flash | Off, Did not fire |
FNumber | 6.3 |
FocalLength | 360.0 mm |
FocalLength35efl | 360.0 mm (35 mm equivalent: 540.0 mm) |
FocalLengthIn35mmFormat | 540 mm |
Format | image/jpeg |
FOV | 3.8 deg |
GrainAmount | 0 |
GreenHue | 0 |
GreenSaturation | 0 |
HasCrop | True |
HasSettings | True |
Highlights2012 | +31 |
HueAdjustmentAqua | 0 |
HueAdjustmentBlue | +22 |
HueAdjustmentGreen | 0 |
HueAdjustmentMagenta | 0 |
HueAdjustmentOrange | 0 |
HueAdjustmentPurple | 0 |
HueAdjustmentRed | -29 |
HueAdjustmentYellow | 0 |
HyperfocalDistance | 1026.99 m |
ImageHeight | 1080 |
ImageSize | 1113x1080 |
ImageWidth | 1113 |
ISO | 640 |
Lens | 70-400mm F4-5.6 G SSM II |
LensDistortInfo | 1065953902/1073741824 7024913/1073741824 1152201/1073741824 -419590/1073741824 |
LensID (1) | 69 |
LensID | Sony 70-400mm F4-5.6 G SSM II (SAL70400G2) |
LensInfo | 70-400mm f/4-5.6 |
LensManualDistortionAmount | 0 |
LensModel | 70-400mm F4-5.6 G SSM II |
LensProfileEnable | 0 |
LensProfileSetup | LensDefaults |
LightSource | Unknown |
LightValue | 12.6 |
LuminanceAdjustmentAqua | 0 |
LuminanceAdjustmentBlue | 0 |
LuminanceAdjustmentGreen | 0 |
LuminanceAdjustmentMagenta | 0 |
LuminanceAdjustmentOrange | 0 |
LuminanceAdjustmentPurple | 0 |
LuminanceAdjustmentRed | 0 |
LuminanceAdjustmentYellow | 0 |
LuminanceNoiseReductionContrast | 26 |
LuminanceNoiseReductionDetail | 0 |
LuminanceSmoothing | 68 |
Make | SONY |
MaxApertureValue | 5.6 |
Megapixels | 1.2 |
MeteringMode | Multi-segment |
Model | ILCA-77M2 |
ModifyDate (1) | 2015:07:29 16:37:16+02:00 |
ModifyDate | 2015:07:29 16:37:16 |
ParametricDarks | -11 |
ParametricHighlights | -18 |
ParametricHighlightSplit | 75 |
ParametricLights | +26 |
ParametricMidtoneSplit | 50 |
ParametricShadows | +51 |
ParametricShadowSplit | 25 |
PerspectiveAspect | 0 |
PerspectiveHorizontal | 0 |
PerspectiveRotate | 0.0 |
PerspectiveScale | 100 |
PerspectiveUpright | 0 |
PerspectiveVertical | 0 |
PostCropVignetteAmount | 0 |
ProcessVersion | 6.7 |
ProfileDescription | sRGB IEC61966-2.1 |
RecommendedExposureIndex | 640 |
RedHue | 0 |
RedSaturation | 0 |
Saturation (1) | +10 |
Saturation | Normal |
SaturationAdjustmentAqua | 0 |
SaturationAdjustmentBlue | 0 |
SaturationAdjustmentGreen | 0 |
SaturationAdjustmentMagenta | 0 |
SaturationAdjustmentOrange | 0 |
SaturationAdjustmentPurple | 0 |
SaturationAdjustmentRed | 0 |
SaturationAdjustmentYellow | 0 |
ScaleFactor35efl | 1.5 |
SceneCaptureType | Standard |
SceneType | Directly photographed |
SensitivityType | Recommended Exposure Index |
Shadows2012 | +31 |
ShadowTint | 0 |
SharpenDetail | 26 |
SharpenEdgeMasking | 100 |
SharpenRadius | +3.0 |
Sharpness (1) | 114 |
Sharpness | Normal |
ShutterSpeed | 1/1000 |
ShutterSpeedValue | 1/1000 |
Software | Adobe Photoshop Lightroom 5.7 (Windows) |
SplitToningBalance | 0 |
SplitToningHighlightHue | 0 |
SplitToningHighlightSaturation | 0 |
SplitToningShadowHue | 0 |
SplitToningShadowSaturation | 0 |
Tint | +7 |
ToneCurve | 0, 0, 255, 255 |
ToneCurveBlue | 0, 0, 255, 255 |
ToneCurveGreen | 0, 0, 255, 255 |
ToneCurveName | Linear |
ToneCurveName2012 | Linear |
ToneCurvePV2012 | 0, 0, 255, 255 |
ToneCurvePV2012Blue | 0, 0, 255, 255 |
ToneCurvePV2012Green | 0, 0, 255, 255 |
ToneCurvePV2012Red | 0, 0, 255, 255 |
ToneCurveRed | 0, 0, 255, 255 |
Version | 8.7 |
Vibrance | 0 |
VignetteAmount | 0 |
WhiteBalance (1) | As Shot |
WhiteBalance | Auto |
Whites2012 | -45 |