Felt | Verdi |
AlreadyApplied | True |
Aperture | 8.0 |
ApertureValue | 8.0 |
ApproximateFocusDistance | 2 |
AutoLateralCA | 0 |
AutoWhiteVersion | 134348800 |
BitsPerSample | 8 |
Blacks2012 | +29 |
BlueHue | 0 |
BlueSaturation | 0 |
CameraProfile | Adobe Standard |
CFAPattern | [Red,Green][Green,Blue] |
CircleOfConfusion | 0.030 mm |
Clarity2012 | +100 |
ColorComponents | 3 |
ColorNoiseReduction | 25 |
ColorNoiseReductionDetail | 64 |
ColorNoiseReductionSmoothness | 50 |
ColorTemperature | 6048 |
ColorTransform | YCbCr |
Contrast | Normal |
Contrast2012 | +62 |
ConvertToGrayscale | False |
CreateDate (1) | 2015:07:02 20:48:35.38 |
CreateDate | 2015:07:02 20:48:35 |
CreatorTool | Adobe Photoshop Lightroom 5.7.1 (Windows) |
CropAngle | 1.04457 |
CropBottom | 0.967795 |
CropConstrainToWarp | 0 |
CropLeft | 0.018327 |
CropRight | 0.981168 |
CropTop | 0.073194 |
CustomRendered | Normal |
DateCreated (1) | 2015:07:02 |
DateCreated | 2015:07:02 20:48:35.38 |
DateTimeOriginal | 2015:07:02 20:48:35 |
DefringeGreenAmount | 0 |
DefringeGreenHueHi | 60 |
DefringeGreenHueLo | 40 |
DefringePurpleAmount | 0 |
DefringePurpleHueHi | 70 |
DefringePurpleHueLo | 30 |
DigitalZoomRatio | 1 |
DOF | 2.91 m (1.31 - 4.22 m) |
Exposure2012 | 0.00 |
ExposureCompensation | 0 |
ExposureMode | Auto |
ExposureProgram | Aperture-priority AE |
ExposureTime | 1/15 |
Flash | Off, Did not fire |
FNumber | 8.0 |
FocalLength | 30.0 mm |
FocalLength35efl | 30.0 mm (35 mm equivalent: 30.0 mm) |
FocalLengthIn35mmFormat | 30 mm |
Format | image/jpeg |
FOV | 61.9 deg |
GainControl | None |
GrainAmount | 0 |
GreenHue | 0 |
GreenSaturation | 0 |
HasCrop | True |
HasSettings | True |
Highlights2012 | +12 |
HueAdjustmentAqua | -82 |
HueAdjustmentBlue | -16 |
HueAdjustmentGreen | +7 |
HueAdjustmentMagenta | 0 |
HueAdjustmentOrange | +38 |
HueAdjustmentPurple | 0 |
HueAdjustmentRed | 0 |
HueAdjustmentYellow | +31 |
HyperfocalDistance | 3.74 m |
ImageHeight | 3487 |
ImageNumber | 4359 |
ImageSize | 5857x3487 |
ImageWidth | 5857 |
ISO | 100 |
Lens | 16.0-35.0 mm f/4.0 |
LensID (1) | 163 |
LensID | AF-S Nikkor 16-35mm f/4G ED VR |
LensInfo | 16-35mm f/4 |
LensManualDistortionAmount | 0 |
LensModel | 16.0-35.0 mm f/4.0 |
LensProfileChromaticAberrationScale | 100 |
LensProfileDistortionScale | 100 |
LensProfileEnable | 1 |
LensProfileFilename | NIKON D3X (Nikon AF-S NIKKOR 16-35mm f4G ED VR) - RAW.lcp |
LensProfileName | Adobe (Nikon AF-S NIKKOR 16-35mm f/4G ED VR) |
LensProfileSetup | LensDefaults |
LensProfileVignettingScale | 100 |
LightSource | Unknown |
LightValue | 9.9 |
LuminanceAdjustmentAqua | +58 |
LuminanceAdjustmentBlue | -18 |
LuminanceAdjustmentGreen | +80 |
LuminanceAdjustmentMagenta | 0 |
LuminanceAdjustmentOrange | -16 |
LuminanceAdjustmentPurple | 0 |
LuminanceAdjustmentRed | 0 |
LuminanceAdjustmentYellow | -42 |
LuminanceNoiseReductionContrast | 0 |
LuminanceNoiseReductionDetail | 50 |
LuminanceSmoothing | 15 |
Make | NIKON CORPORATION |
MaxApertureValue | 4.0 |
Megapixels | 20.4 |
MeteringMode | Multi-segment |
Model | NIKON D750 |
ModifyDate (1) | 2015:07:29 01:34:35+02:00 |
ModifyDate | 2015:07:29 01:34:35 |
ParametricDarks | -20 |
ParametricHighlights | +100 |
ParametricHighlightSplit | 75 |
ParametricLights | -100 |
ParametricMidtoneSplit | 50 |
ParametricShadows | -1 |
ParametricShadowSplit | 25 |
PerspectiveAspect | 0 |
PerspectiveHorizontal | 0 |
PerspectiveRotate | 0.0 |
PerspectiveScale | 100 |
PerspectiveUpright | 0 |
PerspectiveVertical | 0 |
PostCropVignetteAmount | 0 |
ProcessVersion | 6.7 |
ProfileDescription | sRGB IEC61966-2.1 |
RedHue | 0 |
RedSaturation | 0 |
Saturation (1) | -45 |
Saturation | Normal |
SaturationAdjustmentAqua | -56 |
SaturationAdjustmentBlue | +76 |
SaturationAdjustmentGreen | +9 |
SaturationAdjustmentMagenta | 0 |
SaturationAdjustmentOrange | +42 |
SaturationAdjustmentPurple | 0 |
SaturationAdjustmentRed | 0 |
SaturationAdjustmentYellow | -2 |
ScaleFactor35efl | 1.0 |
SceneCaptureType | Standard |
SceneType | Directly photographed |
SensingMethod | One-chip color area |
SensitivityType | Recommended Exposure Index |
SerialNumber | 6042489 |
Shadows2012 | +100 |
ShadowTint | 0 |
SharpenDetail | 76 |
SharpenEdgeMasking | 75 |
SharpenRadius | +0.6 |
Sharpness (1) | 91 |
Sharpness | Normal |
ShutterSpeed | 1/15 |
ShutterSpeedValue | 1/15 |
Software | Adobe Photoshop Lightroom 5.7.1 (Windows) |
SplitToningBalance | 0 |
SplitToningHighlightHue | 0 |
SplitToningHighlightSaturation | 0 |
SplitToningShadowHue | 0 |
SplitToningShadowSaturation | 0 |
SubjectDistanceRange | Unknown |
Tint | +18 |
ToneCurve | 0, 0, 255, 255 |
ToneCurveBlue | 0, 0, 255, 255 |
ToneCurveGreen | 0, 0, 255, 255 |
ToneCurveName | Linear |
ToneCurveName2012 | Linear |
ToneCurvePV2012 | 0, 0, 255, 255 |
ToneCurvePV2012Blue | 0, 0, 255, 255 |
ToneCurvePV2012Green | 0, 0, 255, 255 |
ToneCurvePV2012Red | 0, 0, 255, 255 |
ToneCurveRed | 0, 0, 255, 255 |
Version | 8.7.1 |
Vibrance | +45 |
VignetteAmount | 0 |
WhiteBalance (1) | Custom |
WhiteBalance | Auto |
Whites2012 | -52 |