Felt | Verdi |
AlreadyApplied | True |
Aperture | 5.6 |
ApertureValue | 5.6 |
AutoLateralCA | 0 |
AutoWhiteVersion | 134348800 |
BitsPerSample | 8 |
Blacks2012 | 0 |
BlueHue | 0 |
BlueSaturation | 0 |
BrightnessValue | 10.94296875 |
CameraProfile | Adobe Standard |
CircleOfConfusion | 0.020 mm |
Clarity2012 | +21 |
ColorComponents | 3 |
ColorNoiseReduction | 25 |
ColorNoiseReductionDetail | 50 |
ColorNoiseReductionSmoothness | 50 |
ColorSpace | sRGB |
ColorTemperature | 5810 |
ColorTransform | YCbCr |
Contrast | Normal |
Contrast2012 | +7 |
ConvertToGrayscale | True |
CreateDate | 2015:07:24 12:05:53 |
CreatorTool | Adobe Photoshop Lightroom 5.7 (Windows) |
CropAngle | 0.1 |
CropBottom | 0.460432 |
CropConstrainToWarp | 0 |
CropLeft | 0.419048 |
CropRight | 0.6075 |
CropTop | 0.167902 |
CustomRendered | Normal |
DateCreated (1) | 2015:07:24 |
DateCreated | 2015:07:24 12:05:53 |
DateTimeOriginal | 2015:07:24 12:05:53 |
DigitalZoomRatio | 1 |
Exposure2012 | -0.70 |
ExposureCompensation | +0.7 |
ExposureMode | Auto |
ExposureProgram | Program AE |
ExposureTime | 1/1000 |
Flash | Off, Did not fire |
FNumber | 5.6 |
FocalLength | 230.0 mm |
FocalLength35efl | 230.0 mm (35 mm equivalent: 345.0 mm) |
FocalLengthIn35mmFormat | 345 mm |
Format | image/jpeg |
FOV | 6.0 deg |
GrainAmount | 0 |
GrayMixerAqua | -19 |
GrayMixerBlue | +7 |
GrayMixerGreen | -26 |
GrayMixerMagenta | +3 |
GrayMixerOrange | -18 |
GrayMixerPurple | +14 |
GrayMixerRed | -9 |
GrayMixerYellow | -22 |
GreenHue | 0 |
GreenSaturation | 0 |
HasCrop | True |
HasSettings | True |
Highlights2012 | -21 |
HyperfocalDistance | 471.59 m |
ImageHeight | 1080 |
ImageSize | 1047x1080 |
ImageWidth | 1047 |
ISO | 125 |
Lens | 70-400mm F4-5.6 G SSM II |
LensDistortInfo | 1065423052/1073741824 8082475/1073741824 270895/1073741824 -70138/1073741824 |
LensID (1) | 69 |
LensID | Sony 70-400mm F4-5.6 G SSM II (SAL70400G2) |
LensInfo | 70-400mm f/4-5.6 |
LensManualDistortionAmount | 0 |
LensModel | 70-400mm F4-5.6 G SSM II |
LensProfileEnable | 0 |
LensProfileSetup | LensDefaults |
LightSource | Unknown |
LightValue | 14.6 |
LuminanceNoiseReductionContrast | 0 |
LuminanceNoiseReductionDetail | 50 |
LuminanceSmoothing | 63 |
Make | SONY |
MaxApertureValue | 5.6 |
Megapixels | 1.1 |
MeteringMode | Multi-segment |
Model | ILCA-77M2 |
ModifyDate (1) | 2015:07:25 00:31:51+02:00 |
ModifyDate | 2015:07:25 00:31:51 |
ParametricDarks | +61 |
ParametricHighlights | +38 |
ParametricHighlightSplit | 75 |
ParametricLights | -7 |
ParametricMidtoneSplit | 50 |
ParametricShadows | +38 |
ParametricShadowSplit | 25 |
PerspectiveAspect | 0 |
PerspectiveHorizontal | 0 |
PerspectiveRotate | 0.0 |
PerspectiveScale | 100 |
PerspectiveUpright | 0 |
PerspectiveVertical | 0 |
PostCropVignetteAmount | 0 |
ProcessVersion | 6.7 |
ProfileDescription | sRGB IEC61966-2.1 |
RecommendedExposureIndex | 125 |
RedHue | 0 |
RedSaturation | 0 |
Saturation | Normal |
ScaleFactor35efl | 1.5 |
SceneCaptureType | Standard |
SceneType | Directly photographed |
SensitivityType | Recommended Exposure Index |
Shadows2012 | -2 |
ShadowTint | 0 |
SharpenDetail | 13 |
SharpenEdgeMasking | 74 |
SharpenRadius | +3.0 |
Sharpness (1) | 87 |
Sharpness | Normal |
ShutterSpeed | 1/1000 |
ShutterSpeedValue | 1/1000 |
Software | Adobe Photoshop Lightroom 5.7 (Windows) |
SplitToningBalance | 0 |
SplitToningHighlightHue | 0 |
SplitToningHighlightSaturation | 0 |
SplitToningShadowHue | 0 |
SplitToningShadowSaturation | 0 |
Tint | +7 |
ToneCurve | 0, 0, 255, 255 |
ToneCurveBlue | 0, 0, 255, 255 |
ToneCurveGreen | 0, 0, 255, 255 |
ToneCurveName | Linear |
ToneCurveName2012 | Linear |
ToneCurvePV2012 | 0, 0, 255, 255 |
ToneCurvePV2012Blue | 0, 0, 255, 255 |
ToneCurvePV2012Green | 0, 0, 255, 255 |
ToneCurvePV2012Red | 0, 0, 255, 255 |
ToneCurveRed | 0, 0, 255, 255 |
Version | 8.7 |
VignetteAmount | 0 |
WhiteBalance (1) | Custom |
WhiteBalance | Auto |
Whites2012 | 0 |