Felt | Verdi |
AlreadyApplied | True |
Aperture | 9.0 |
ApertureValue | 9.0 |
ApproximateFocusDistance | 2 |
AutoLateralCA | 1 |
AutoWhiteVersion | 134348800 |
BitsPerSample | 8 |
Blacks2012 | -68 |
BlueHue | 0 |
BlueSaturation | 0 |
CameraProfile | Adobe Standard |
CFAPattern | [Red,Green][Green,Blue] |
CircleOfConfusion | 0.030 mm |
Clarity2012 | +22 |
ColorComponents | 3 |
ColorNoiseReduction | 25 |
ColorNoiseReductionDetail | 50 |
ColorNoiseReductionSmoothness | 50 |
ColorTemperature | 7400 |
ColorTransform | YCbCr |
Contrast | Normal |
Contrast2012 | 0 |
ConvertToGrayscale | False |
CreateDate (1) | 2014:06:29 22:07:06.90 |
CreateDate | 2014:06:29 22:07:06 |
CreatorTool | Adobe Photoshop Lightroom 5.7 (Macintosh) |
CropAngle | -0.428358 |
CropBottom | 0.988847 |
CropConstrainToWarp | 0 |
CropLeft | 0 |
CropRight | 1 |
CropTop | 0.168114 |
CustomRendered | Normal |
DateCreated (1) | 2014:06:29 |
DateCreated | 2014:06:29 22:07:06.90 |
DateTimeOriginal | 2014:06:29 22:07:06 |
DefringeGreenAmount | 0 |
DefringeGreenHueHi | 60 |
DefringeGreenHueLo | 40 |
DefringePurpleAmount | 0 |
DefringePurpleHueHi | 70 |
DefringePurpleHueLo | 30 |
DigitalZoomRatio | 1 |
DOF | inf (0.59 m - inf) |
Exposure2012 | 0.00 |
ExposureCompensation | 0 |
ExposureMode | Manual |
ExposureProgram | Manual |
ExposureTime | 0.8 |
Flash | Off, Did not fire |
FNumber | 9.0 |
FocalLength | 15.0 mm |
FocalLength35efl | 15.0 mm (35 mm equivalent: 15.0 mm) |
FocalLengthIn35mmFormat | 15 mm |
Format | image/jpeg |
FOV | 100.4 deg |
GainControl | None |
GradientBasedCorrActive | true |
GradientBasedCorrAmount | 1.000000 |
GradientBasedCorrBrightness | 0.000000 |
GradientBasedCorrClarity2012 (1) | 0.882353 |
GradientBasedCorrClarity2012 (2) | 0.502206 |
GradientBasedCorrClarity2012 (3) | 0.192004 |
GradientBasedCorrClarity2012 | 0.000000 |
GradientBasedCorrContrast2012 (1) | 0.419485 |
GradientBasedCorrContrast2012 (3) | 0.125827 |
GradientBasedCorrContrast2012 | 0.000000 |
GradientBasedCorrDefringe | 0.000000 |
GradientBasedCorrExposure2012 (2) | 0.100184 |
GradientBasedCorrExposure2012 (3) | -0.054688 |
GradientBasedCorrExposure2012 | 0.000000 |
GradientBasedCorrHighlights2012 (1) | -1.000000 |
GradientBasedCorrHighlights2012 (2) | 1.000000 |
GradientBasedCorrHighlights2012 (3) | -0.900919 |
GradientBasedCorrHighlights2012 | 0.000000 |
GradientBasedCorrHue (1) | 7.550780 |
GradientBasedCorrHue | 240.000000 |
GradientBasedCorrLuminanceNoise | 0.000000 |
GradientBasedCorrMaskFullX (1) | 0.482199 |
GradientBasedCorrMaskFullX (2) | 0.425540 |
GradientBasedCorrMaskFullX (3) | 0.510134 |
GradientBasedCorrMaskFullX | 0.469906 |
GradientBasedCorrMaskFullY (1) | 0.003790 |
GradientBasedCorrMaskFullY (2) | 0.844358 |
GradientBasedCorrMaskFullY (3) | 0.157956 |
GradientBasedCorrMaskFullY | 0.796994 |
GradientBasedCorrMaskValue | 1.000000 |
GradientBasedCorrMaskWhat | Mask/Gradient |
GradientBasedCorrMaskZeroX (1) | 0.484695 |
GradientBasedCorrMaskZeroX (2) | 0.422826 |
GradientBasedCorrMaskZeroX (3) | 0.512070 |
GradientBasedCorrMaskZeroX | 0.460117 |
GradientBasedCorrMaskZeroY (1) | 0.709581 |
GradientBasedCorrMaskZeroY (2) | -0.097458 |
GradientBasedCorrMaskZeroY (3) | 0.550079 |
GradientBasedCorrMaskZeroY | -0.039787 |
GradientBasedCorrMoire | 0.000000 |
GradientBasedCorrSaturation (2) | 0.150469 |
GradientBasedCorrSaturation (5) | 0.131893 |
GradientBasedCorrSaturation | 0.000000 |
GradientBasedCorrShadows2012 (1) | 0.840993 |
GradientBasedCorrShadows2012 (2) | 0.981710 |
GradientBasedCorrShadows2012 (3) | 0.097886 |
GradientBasedCorrShadows2012 | 0.000000 |
GradientBasedCorrSharpness (3) | 0.000000 |
GradientBasedCorrSharpness | 0.380147 |
GradientBasedCorrTemperature | 0.000000 |
GradientBasedCorrTint | 0.000000 |
GradientBasedCorrWhat | Correction |
GrainAmount | 0 |
GreenHue | 0 |
GreenSaturation | 0 |
HasCrop | True |
HasSettings | True |
Highlights2012 | -100 |
HueAdjustmentAqua | 0 |
HueAdjustmentBlue | +12 |
HueAdjustmentGreen | 0 |
HueAdjustmentMagenta | 0 |
HueAdjustmentOrange | -13 |
HueAdjustmentPurple | -15 |
HueAdjustmentRed | -16 |
HueAdjustmentYellow | -8 |
HyperfocalDistance | 0.83 m |
ImageHeight | 3341 |
ImageNumber | 12596 |
ImageSize | 5991x3341 |
ImageWidth | 5991 |
ISO | 250 |
Lens | 14.0-24.0 mm f/2.8 |
LensID (1) | 146 |
LensID | AF-S Zoom-Nikkor 14-24mm f/2.8G ED |
LensInfo | 14-24mm f/2.8 |
LensManualDistortionAmount | 0 |
LensModel | 14.0-24.0 mm f/2.8 |
LensProfileChromaticAberrationScale | 100 |
LensProfileDistortionScale | 100 |
LensProfileEnable | 1 |
LensProfileFilename | NIKON D3X (Nikon FX 14-24mm f2.8 G ED) - RAW.lcp |
LensProfileName | Adobe (Nikon AF-S NIKKOR 14-24mm f/2.8G ED) |
LensProfileSetup | LensDefaults |
LensProfileVignettingScale | 100 |
LightSource | Shade |
LightValue | 5.3 |
LuminanceAdjustmentAqua | 0 |
LuminanceAdjustmentBlue | -12 |
LuminanceAdjustmentGreen | 0 |
LuminanceAdjustmentMagenta | 0 |
LuminanceAdjustmentOrange | -9 |
LuminanceAdjustmentPurple | -12 |
LuminanceAdjustmentRed | -11 |
LuminanceAdjustmentYellow | -11 |
LuminanceSmoothing | 0 |
Make | NIKON CORPORATION |
MaxApertureValue | 2.8 |
Megapixels | 20.0 |
MeteringMode | Center-weighted average |
Model | NIKON D600 |
ModifyDate (1) | 2015:03:06 20:08:44+01:00 |
ModifyDate | 2015:03:06 20:08:44 |
PaintCorrectionActive | true |
PaintCorrectionAmount | 1.000000 |
PaintCorrectionBrightness | 0.000000 |
PaintCorrectionClarity2012 | 0.000000 |
PaintCorrectionContrast2012 | 0.000000 |
PaintCorrectionDefringe | 0.000000 |
PaintCorrectionExposure2012 (1) | -0.075000 |
PaintCorrectionExposure2012 | 0.062500 |
PaintCorrectionHighlights2012 | 0.000000 |
PaintCorrectionHue | 240.000000 |
PaintCorrectionLuminanceNoise | 0.000000 |
PaintCorrectionMaskCenterWeight | 0.060917 |
PaintCorrectionMaskFlow | 1.000000 |
PaintCorrectionMaskRadius (1) | 0.047985 |
PaintCorrectionMaskRadius (10) | 0.047703 |
PaintCorrectionMaskRadius (11) | 0.047797 |
PaintCorrectionMaskRadius (12) | 0.047082 |
PaintCorrectionMaskRadius (13) | 0.029600 |
PaintCorrectionMaskRadius (14) | 0.028565 |
PaintCorrectionMaskRadius (15) | 0.029620 |
PaintCorrectionMaskRadius (16) | 0.029880 |
PaintCorrectionMaskRadius (17) | 0.035628 |
PaintCorrectionMaskRadius (18) | 0.034891 |
PaintCorrectionMaskRadius (19) | 0.035514 |
PaintCorrectionMaskRadius (2) | 0.047499 |
PaintCorrectionMaskRadius (20) | 0.036205 |
PaintCorrectionMaskRadius (21) | 0.035478 |
PaintCorrectionMaskRadius (22) | 0.035504 |
PaintCorrectionMaskRadius (23) | 0.035636 |
PaintCorrectionMaskRadius (24) | 0.035743 |
PaintCorrectionMaskRadius (25) | 0.035968 |
PaintCorrectionMaskRadius (3) | 0.047924 |
PaintCorrectionMaskRadius (4) | 0.047675 |
PaintCorrectionMaskRadius (5) | 0.048362 |
PaintCorrectionMaskRadius (6) | 0.048446 |
PaintCorrectionMaskRadius (7) | 0.048597 |
PaintCorrectionMaskRadius (8) | 0.047815 |
PaintCorrectionMaskRadius (9) | 0.047901 |
PaintCorrectionMaskRadius | 0.034992 |
PaintCorrectionMaskValue | 1.000000 |
PaintCorrectionMaskWhat | Mask/Paint |
PaintCorrectionMoire | 0.000000 |
PaintCorrectionSaturation | 0.000000 |
PaintCorrectionShadows2012 | 0.000000 |
PaintCorrectionSharpness | 0.000000 |
PaintCorrectionTemperature | 0.000000 |
PaintCorrectionTint | 0.000000 |
PaintCorrectionWhat | Correction |
ParametricDarks | 0 |
ParametricHighlights | +100 |
ParametricHighlightSplit | 75 |
ParametricLights | +52 |
ParametricMidtoneSplit | 50 |
ParametricShadows | 0 |
ParametricShadowSplit | 25 |
PerspectiveAspect | 0 |
PerspectiveHorizontal | 0 |
PerspectiveRotate | 0.0 |
PerspectiveScale | 100 |
PerspectiveUpright | 0 |
PerspectiveVertical | 0 |
PostCropVignetteAmount | -4 |
PostCropVignetteFeather | 50 |
PostCropVignetteHighlightContrast | 0 |
PostCropVignetteMidpoint | 50 |
PostCropVignetteRoundness | 0 |
PostCropVignetteStyle | 1 |
ProcessVersion | 6.7 |
ProfileDescription | Adobe RGB (1998) |
RedHue | 0 |
RedSaturation | 0 |
Saturation (1) | 0 |
Saturation | Normal |
SaturationAdjustmentAqua | 0 |
SaturationAdjustmentBlue | +11 |
SaturationAdjustmentGreen | 0 |
SaturationAdjustmentMagenta | 0 |
SaturationAdjustmentOrange | +12 |
SaturationAdjustmentPurple | +14 |
SaturationAdjustmentRed | +11 |
SaturationAdjustmentYellow | +10 |
ScaleFactor35efl | 1.0 |
SceneCaptureType | Landscape |
SceneType | Directly photographed |
SensingMethod | One-chip color area |
SensitivityType | Recommended Exposure Index |
SerialNumber | 6060343 |
Shadows2012 | +100 |
ShadowTint | 0 |
SharpenDetail | 25 |
SharpenEdgeMasking | 0 |
SharpenRadius | +1.0 |
Sharpness (1) | 25 |
Sharpness | Normal |
ShutterSpeed | 0.8 |
ShutterSpeedValue | 0.8 |
Software | Adobe Photoshop Lightroom 5.7 (Macintosh) |
SplitToningBalance | 0 |
SplitToningHighlightHue | 15 |
SplitToningHighlightSaturation | 12 |
SplitToningShadowHue | 20 |
SplitToningShadowSaturation | 5 |
SubjectDistanceRange | Unknown |
Tint | +9 |
ToneCurve | 0, 0, 255, 255 |
ToneCurveBlue | 0, 0, 255, 255 |
ToneCurveGreen | 0, 0, 255, 255 |
ToneCurveName | Linear |
ToneCurveName2012 | Linear |
ToneCurvePV2012 | 0, 0, 255, 255 |
ToneCurvePV2012Blue | 0, 0, 255, 255 |
ToneCurvePV2012Green | 0, 0, 255, 255 |
ToneCurvePV2012Red | 0, 0, 255, 255 |
ToneCurveRed | 0, 0, 255, 255 |
Version | 8.7 |
Vibrance | +14 |
VignetteAmount | 0 |
WhiteBalance (1) | As Shot |
WhiteBalance | Manual |
Whites2012 | 0 |