Felt | Verdi |
AlreadyApplied | True |
Aperture | 2.8 |
ApertureValue | 2.8 |
ApproximateFocusDistance | 0.84 |
AutoLateralCA | 0 |
AutoWhiteVersion | 134348800 |
BitsPerSample | 8 |
Blacks2012 | -26 |
BlueHue | 0 |
BlueSaturation | 0 |
CameraProfile | Adobe Standard |
CFAPattern | [Red,Green][Green,Blue] |
CircleOfConfusion | 0.030 mm |
Clarity2012 | +14 |
ColorComponents | 3 |
ColorNoiseReduction | 25 |
ColorNoiseReductionDetail | 50 |
ColorNoiseReductionSmoothness | 50 |
ColorTemperature | 3300 |
ColorTransform | YCbCr |
Contrast | Normal |
Contrast2012 | 0 |
ConvertToGrayscale | True |
CreateDate (1) | 2015:01:20 17:04:48.00 |
CreateDate | 2015:01:20 17:04:48 |
CreatorTool | Adobe Photoshop Lightroom 5.4 (Windows) |
CropAngle | 0 |
CropBottom | 0.974843 |
CropConstrainToWarp | 0 |
CropLeft | 0.144653 |
CropRight | 1 |
CropTop | 0.119496 |
CustomRendered | Custom |
DateCreated (1) | 2015:01:20 |
DateCreated | 2015:01:20 17:04:48.00 |
DateTimeOriginal | 2015:01:20 17:04:48 |
DigitalZoomRatio | 1 |
DOF | 0.04 m (0.82 - 0.86 m) |
Exposure2012 | 0.00 |
ExposureCompensation | 0 |
ExposureMode | Manual |
ExposureProgram | Manual |
ExposureTime | 1/50 |
Flash | Off, Did not fire |
FNumber | 2.8 |
FocalLength | 50.0 mm |
FocalLength35efl | 50.0 mm (35 mm equivalent: 50.0 mm) |
FocalLengthIn35mmFormat | 50 mm |
Format | image/jpeg |
FOV | 39.6 deg |
GainControl | High gain up |
GrainAmount | 0 |
GrayMixerAqua | +25 |
GrayMixerBlue | 0 |
GrayMixerGreen | -5 |
GrayMixerMagenta | -40 |
GrayMixerOrange | +38 |
GrayMixerPurple | -30 |
GrayMixerRed | +50 |
GrayMixerYellow | +36 |
GreenHue | 0 |
GreenSaturation | 0 |
HasCrop | True |
HasSettings | True |
Highlights2012 | -55 |
HyperfocalDistance | 29.72 m |
ImageHeight | 5146 |
ImageNumber | 26922 |
ImageSize | 3435x5146 |
ImageWidth | 3435 |
ISO | 1250 |
Lens | 50.0 mm f/1.4 |
LensID (1) | 222 |
LensID | Sigma 50mm F1.4 EX DG HSM |
LensInfo | 50mm f/1.4 |
LensManualDistortionAmount | 0 |
LensModel | 50.0 mm f/1.4 |
LensProfileEnable | 0 |
LensProfileSetup | LensDefaults |
LightSource | Unknown |
LightValue | 5.0 |
LuminanceSmoothing | 0 |
Make | NIKON CORPORATION |
MaxApertureValue | 1.4 |
Megapixels | 17.7 |
MeteringMode | Multi-segment |
Model | NIKON D600 |
ModifyDate (1) | 2015:01:20 21:15:07+01:00 |
ModifyDate | 2015:01:20 21:15:07 |
ParametricDarks | +18 |
ParametricHighlights | +50 |
ParametricHighlightSplit | 75 |
ParametricLights | +40 |
ParametricMidtoneSplit | 50 |
ParametricShadows | 0 |
ParametricShadowSplit | 25 |
PerspectiveAspect | 0 |
PerspectiveHorizontal | 0 |
PerspectiveRotate | 0.0 |
PerspectiveScale | 100 |
PerspectiveUpright | 1 |
PerspectiveVertical | 0 |
PostCropVignetteAmount | 0 |
ProcessVersion | 6.7 |
ProfileDescription | Adobe RGB (1998) |
RedHue | 0 |
RedSaturation | 0 |
Saturation | Normal |
ScaleFactor35efl | 1.0 |
SceneCaptureType | Standard |
SceneType | Directly photographed |
SensingMethod | One-chip color area |
SensitivityType | Recommended Exposure Index |
SerialNumber | 6063657 |
Shadows2012 | 0 |
ShadowTint | 0 |
SharpenDetail | 25 |
SharpenEdgeMasking | 0 |
SharpenRadius | +1.0 |
Sharpness (1) | 25 |
Sharpness | Normal |
ShutterSpeed | 1/50 |
ShutterSpeedValue | 1/50 |
Software | Adobe Photoshop Lightroom 5.4 (Windows) |
SplitToningBalance | 0 |
SplitToningHighlightHue | 0 |
SplitToningHighlightSaturation | 0 |
SplitToningShadowHue | 0 |
SplitToningShadowSaturation | 0 |
SubjectDistanceRange | Unknown |
Tint | -2 |
ToneCurve | 0, 0, 255, 255 |
ToneCurveBlue | 0, 0, 255, 255 |
ToneCurveGreen | 0, 0, 255, 255 |
ToneCurveName | Linear |
ToneCurveName2012 | Strong Contrast |
ToneCurvePV2012 | 0, 0, 32, 16, 64, 50, 128, 128, 192, 202, 255, 255 |
ToneCurvePV2012Blue | 0, 0, 255, 255 |
ToneCurvePV2012Green | 0, 0, 255, 255 |
ToneCurvePV2012Red | 0, 0, 255, 255 |
ToneCurveRed | 0, 0, 255, 255 |
Version | 8.4 |
VignetteAmount | 0 |
WhiteBalance (1) | As Shot |
WhiteBalance | Auto |
Whites2012 | 0 |