Felt | Verdi |
AlreadyApplied | True |
Aperture | 8.0 |
ApertureValue | 8.0 |
ApproximateFocusDistance | 4294967295 |
AutoLateralCA | 0 |
BitsPerSample (1) | 8 8 8 |
BitsPerSample | 8 |
Blacks2012 | +14 |
BlueHue | 0 |
BlueSaturation | 0 |
CameraProfile | Camera Vivid |
CFAPattern | [Red,Green][Green,Blue] |
CircleOfConfusion | 0.030 mm |
Clarity2012 | 0 |
ColorComponents | 3 |
ColorMode | RGB |
ColorNoiseReduction | 8 |
ColorNoiseReductionDetail | 17 |
ColorSpace | sRGB |
ColorTemperature | 6615 |
ColorTransform | YCbCr |
Contrast | Normal |
Contrast2012 | +1 |
ConvertToGrayscale | False |
CreateDate | 2014:08:17 18:25:46 |
CreatorTool | Adobe Photoshop CS6 (Windows) |
CropAngle | 2.23914 |
CropBottom | 1 |
CropConstrainToWarp | 0 |
CropHeight | 4644 |
CropLeft | 0.039998 |
CropRight | 0.960002 |
CropTop | 0 |
CropUnit | pixels |
CropWidth | 6958 |
CustomRendered | Normal |
DateCreated (1) | 2014:08:17 |
DateCreated | 2014:08:17 18:25:46 |
DateTimeOriginal | 2014:08:17 18:25:46 |
DefringeGreenAmount | 0 |
DefringeGreenHueHi | 60 |
DefringeGreenHueLo | 40 |
DefringePurpleAmount | 0 |
DefringePurpleHueHi | 70 |
DefringePurpleHueLo | 30 |
DigitalZoomRatio | 1 |
DOF | inf (30.06 m - inf) |
ExifImageHeight | 4644 |
ExifImageWidth | 6958 |
Exposure2012 | +0.55 |
ExposureCompensation | -2/3 |
ExposureMode | Manual |
ExposureProgram | Manual |
ExposureTime | 1/200 |
Flash | Off, Did not fire |
FNumber | 8.0 |
FocalLength | 85.0 mm |
FocalLength35efl | 85.0 mm (35 mm equivalent: 85.0 mm) |
FocalLengthIn35mmFormat | 85 mm |
Format | image/jpeg |
FOV | 23.9 deg |
GainControl | None |
GrainAmount | 0 |
GreenHue | 0 |
GreenSaturation | 0 |
HasCrop | True |
HasExtendedXMP | 02E77DA98E3232EF24F6B6A25E364531 |
HasSettings | True |
Highlights2012 | -100 |
HueAdjustmentAqua | 0 |
HueAdjustmentBlue | 0 |
HueAdjustmentGreen | -100 |
HueAdjustmentMagenta | 0 |
HueAdjustmentOrange | 0 |
HueAdjustmentPurple | 0 |
HueAdjustmentRed | +14 |
HueAdjustmentYellow | -3 |
HyperfocalDistance | 30.06 m |
ICCProfileName | sRGB IEC61966-2.1 |
ImageHeight | 4644 |
ImageNumber | 25030 |
ImageSize | 6958x4644 |
ImageWidth | 6958 |
ISO | 320 |
Lens | 24.0-85.0 mm f/3.5-4.5 |
LensID (1) | 180 |
LensID | AF-S Zoom-Nikkor 24-85mm f/3.5-4.5G IF-ED VR |
LensInfo | 24-85mm f/3.5-4.5 |
LensManualDistortionAmount | 0 |
LensModel | 24.0-85.0 mm f/3.5-4.5 |
LensProfileChromaticAberrationScale | 100 |
LensProfileDistortionScale | 0 |
LensProfileEnable | 1 |
LensProfileFilename | NIKON D700 (Nikon AF-S NIKKOR 24-85mm f3.5-4.5G ED VR) - RAW.lcp |
LensProfileName | Adobe (Nikon AF-S NIKKOR 24-85mm f/3.5-4.5G ED VR) |
LensProfileSetup | Custom |
LensProfileVignettingScale | 144 |
LightSource | Shade |
LightValue | 12.0 |
LuminanceAdjustmentAqua | 0 |
LuminanceAdjustmentBlue | 0 |
LuminanceAdjustmentGreen | +4 |
LuminanceAdjustmentMagenta | 0 |
LuminanceAdjustmentOrange | 0 |
LuminanceAdjustmentPurple | 0 |
LuminanceAdjustmentRed | 0 |
LuminanceAdjustmentYellow | +22 |
LuminanceNoiseReductionContrast | 0 |
LuminanceNoiseReductionDetail | 21 |
LuminanceSmoothing | 2 |
Make | NIKON CORPORATION |
MaxApertureValue | 4.4 |
Megapixels | 32.3 |
MeteringMode | Multi-segment |
Model | NIKON D800 |
ModifyDate (1) | 2014:08:21 11:49:03+02:00 |
ModifyDate | 2014:08:21 11:49:03 |
Orientation | Horizontal (normal) |
PaintCorrectionActive | true |
PaintCorrectionAmount | 1.000000 |
PaintCorrectionBrightness | 0.000000 |
PaintCorrectionClarity2012 (4) | 0.493210 |
PaintCorrectionClarity2012 | 1.000000 |
PaintCorrectionContrast2012 (1) | 0.384620 |
PaintCorrectionContrast2012 (2) | 0.230770 |
PaintCorrectionContrast2012 (3) | 0.701360 |
PaintCorrectionContrast2012 | 0.000000 |
PaintCorrectionDefringe | 0.000000 |
PaintCorrectionExposure2012 (1) | 0.167500 |
PaintCorrectionExposure2012 | 0.000000 |
PaintCorrectionHighlights2012 (1) | 0.574660 |
PaintCorrectionHighlights2012 | 0.000000 |
PaintCorrectionHue | 0.000000 |
PaintCorrectionLuminanceNoise | 0.000000 |
PaintCorrectionMaskCenterWeight (10) | 0.078147 |
PaintCorrectionMaskCenterWeight (2) | 0.267724 |
PaintCorrectionMaskCenterWeight (28) | 0.013195 |
PaintCorrectionMaskCenterWeight (37) | 0.060682 |
PaintCorrectionMaskCenterWeight (8) | 0.006677 |
PaintCorrectionMaskCenterWeight | 0.157551 |
PaintCorrectionMaskFlow (1) | 0.392000 |
PaintCorrectionMaskFlow (10) | 0.689000 |
PaintCorrectionMaskFlow (28) | 1.000000 |
PaintCorrectionMaskFlow (8) | 0.911000 |
PaintCorrectionMaskFlow | 0.734000 |
PaintCorrectionMaskRadius (1) | 0.109191 |
PaintCorrectionMaskRadius (10) | 0.051734 |
PaintCorrectionMaskRadius (15) | 0.061398 |
PaintCorrectionMaskRadius (16) | 0.041055 |
PaintCorrectionMaskRadius (19) | 0.024757 |
PaintCorrectionMaskRadius (24) | 0.036143 |
PaintCorrectionMaskRadius (3) | 0.062603 |
PaintCorrectionMaskRadius (30) | 0.061762 |
PaintCorrectionMaskRadius (32) | 0.031361 |
PaintCorrectionMaskRadius (35) | 0.012649 |
PaintCorrectionMaskRadius (37) | 0.043967 |
PaintCorrectionMaskRadius (43) | 0.065498 |
PaintCorrectionMaskRadius (5) | 0.136742 |
PaintCorrectionMaskRadius (7) | 0.047460 |
PaintCorrectionMaskRadius (9) | 0.012270 |
PaintCorrectionMaskRadius | 0.043945 |
PaintCorrectionMaskValue | 0.480000 |
PaintCorrectionMaskWhat | Mask/Paint |
PaintCorrectionMoire | 0.000000 |
PaintCorrectionSaturation (3) | 0.022620 |
PaintCorrectionSaturation (9) | -0.493210 |
PaintCorrectionSaturation | 0.000000 |
PaintCorrectionShadows2012 (1) | -0.266970 |
PaintCorrectionShadows2012 | 0.000000 |
PaintCorrectionSharpness (1) | 1.000000 |
PaintCorrectionSharpness | 0.022620 |
PaintCorrectionTemperature (4) | -0.800900 |
PaintCorrectionTemperature (5) | -0.728510 |
PaintCorrectionTemperature | 0.000000 |
PaintCorrectionTint (5) | -0.004520 |
PaintCorrectionTint | 0.000000 |
PaintCorrectionWhat | Correction |
ParametricDarks | 0 |
ParametricHighlights | 0 |
ParametricHighlightSplit | 75 |
ParametricLights | 0 |
ParametricMidtoneSplit | 50 |
ParametricShadows | 0 |
ParametricShadowSplit | 25 |
PerspectiveHorizontal | 0 |
PerspectiveRotate | 0.0 |
PerspectiveScale | 100 |
PerspectiveVertical | 0 |
PhotometricInterpretation | RGB |
PostCropVignetteAmount | 0 |
ProcessVersion | 6.7 |
ProfileDescription | sRGB IEC61966-2.1 |
RedHue | 0 |
RedSaturation | 0 |
SamplesPerPixel | 3 |
Saturation (1) | 0 |
Saturation | Normal |
SaturationAdjustmentAqua | 0 |
SaturationAdjustmentBlue | 0 |
SaturationAdjustmentGreen | +51 |
SaturationAdjustmentMagenta | 0 |
SaturationAdjustmentOrange | 0 |
SaturationAdjustmentPurple | 0 |
SaturationAdjustmentRed | 0 |
SaturationAdjustmentYellow | -3 |
ScaleFactor35efl | 1.0 |
SceneCaptureType | Portrait |
SceneType | Directly photographed |
SensingMethod | One-chip color area |
SensitivityType | Recommended Exposure Index |
SerialNumber | 6111556 |
Shadows2012 | +25 |
ShadowTint | 0 |
SharpenDetail | 25 |
SharpenEdgeMasking | 2 |
SharpenRadius | +1.0 |
Sharpness (1) | 46 |
Sharpness | Normal |
ShutterSpeed | 1/200 |
ShutterSpeedValue | 1/200 |
Software | Adobe Photoshop CS6 (Windows) |
SplitToningBalance | 0 |
SplitToningHighlightHue | 0 |
SplitToningHighlightSaturation | 0 |
SplitToningShadowHue | 0 |
SplitToningShadowSaturation | 0 |
SubjectDistanceRange | Unknown |
Tint | +17 |
ToneCurveName2012 | Custom |
ToneCurvePV2012 | 0, 0, 62, 64, 190, 199, 255, 255 |
ToneCurvePV2012Blue | 0, 0, 255, 255 |
ToneCurvePV2012Green | 0, 0, 255, 255 |
ToneCurvePV2012Red | 0, 0, 255, 255 |
URL_List | |
Version | 7.3 |
Vibrance | +22 |
VignetteAmount | 0 |
WhiteBalance (1) | Custom |
WhiteBalance | Manual |
Whites2012 | +37 |