Felt | Verdi |
AlreadyApplied | True |
AutoLateralCA | 1 |
AutoWhiteVersion | 134348800 |
BitsPerSample (1) | 8 8 8 |
BitsPerSample | 8 |
Blacks2012 | +81 |
BlueHue | 0 |
BlueSaturation | 0 |
BrightnessValue | 2.66953125 |
CameraProfile | Adobe Standard |
CircleOfConfusion | 0.003 mm |
Clarity2012 | +19 |
ColorComponents | 3 |
ColorMode | RGB |
ColorNoiseReduction | 45 |
ColorNoiseReductionDetail | 50 |
ColorNoiseReductionSmoothness | 50 |
ColorSpace | sRGB |
ColorTemperature | 4600 |
ColorTransform | YCbCr |
Contrast | Normal |
Contrast2012 | +33 |
ConvertToGrayscale | False |
CreateDate (1) | 2014:06:25 11:37:18+02:00 |
CreateDate | 2014:06:25 11:37:18 |
CreatorTool | Adobe Photoshop Elements 12.0 Windows |
CropAngle | 0 |
CropBottom | 1 |
CropConstrainToWarp | 0 |
CropLeft | 0 |
CropRight | 0.803191 |
CropTop | 0 |
CustomRendered | Normal |
DateCreated (1) | 2014:06:25 |
DateCreated | 2014:06:25 11:37:18 |
DateTimeOriginal | 2014:06:25 11:37:18 |
DefringeGreenAmount | 0 |
DefringeGreenHueHi | 60 |
DefringeGreenHueLo | 40 |
DefringePurpleAmount | 0 |
DefringePurpleHueHi | 70 |
DefringePurpleHueLo | 30 |
ExifImageHeight | 800 |
ExifImageWidth | 964 |
Exposure2012 | +0.12 |
ExposureCompensation | -0.3 |
ExposureMode | Auto |
ExposureProgram | Aperture-priority AE |
ExposureTime | 1/200 |
Flash | Off, Did not fire |
Format | image/jpeg |
GPSAltitude (1) | 10.609 m |
GPSAltitude | 10.6 m Below Sea Level |
GPSAltitudeRef | Below Sea Level |
GPSDateStamp | 2014:06:25 |
GPSDateTime | 2014:06:25 09:37:19Z |
GPSDifferential | No Correction |
GPSDOP | 1.099 |
GPSLatitude (1) | 57 deg 8' 25.14" |
GPSLatitude | 57 deg 8' 25.14" N |
GPSLatitudeRef | North |
GPSLongitude (1) | 9 deg 7' 37.41" |
GPSLongitude | 9 deg 7' 37.41" E |
GPSLongitudeRef | East |
GPSMapDatum | WGS-84 |
GPSMeasureMode | 3-Dimensional Measurement |
GPSPosition | 57 deg 8' 25.14" N, 9 deg 7' 37.41" E |
GPSSpeed | 0.379 |
GPSSpeedRef | km/h |
GPSStatus | Measurement Active |
GPSTimeStamp | 09:37:19 |
GPSTrack | 108.56 |
GPSTrackRef | True North |
GPSVersionID | 2.3.0.0 |
GradientBasedCorrActive | true |
GradientBasedCorrAmount | 1.000000 |
GradientBasedCorrBrightness | 0.000000 |
GradientBasedCorrClarity2012 | 0.166670 |
GradientBasedCorrContrast2012 | 0.142860 |
GradientBasedCorrDefringe | 0.000000 |
GradientBasedCorrExposure2012 | -0.214250 |
GradientBasedCorrHighlights2012 | -0.214290 |
GradientBasedCorrHue | 0.000000 |
GradientBasedCorrLuminanceNoise | 0.595240 |
GradientBasedCorrMaskFullX | 0.015957 |
GradientBasedCorrMaskFullY | 0.986702 |
GradientBasedCorrMaskValue | 1.000000 |
GradientBasedCorrMaskWhat | Mask/Gradient |
GradientBasedCorrMaskZeroX | 0.052305 |
GradientBasedCorrMaskZeroY | 0.631649 |
GradientBasedCorrMoire | 0.166670 |
GradientBasedCorrSaturation | 0.000000 |
GradientBasedCorrShadows2012 | -0.428570 |
GradientBasedCorrSharpness | 0.119050 |
GradientBasedCorrTemperature | 0.000000 |
GradientBasedCorrTint | 0.000000 |
GradientBasedCorrWhat | Correction |
GrainAmount | 0 |
GreenHue | 0 |
GreenSaturation | 0 |
HasCrop | True |
HasSettings | True |
Highlights2012 | -43 |
HueAdjustmentAqua | 0 |
HueAdjustmentBlue | 0 |
HueAdjustmentGreen | 0 |
HueAdjustmentMagenta | 0 |
HueAdjustmentOrange | 0 |
HueAdjustmentPurple | 0 |
HueAdjustmentRed | 0 |
HueAdjustmentYellow | 0 |
ICCProfileName | sRGB IEC61966-2.1 |
ImageHeight (1) | 4000 |
ImageHeight | 800 |
ImageSize | 964x800 |
ImageWidth (1) | 4819 |
ImageWidth | 964 |
ISO | 100 |
Lens | ---- |
LensManualDistortionAmount | 0 |
LensModel | ---- |
LensProfileEnable | 1 |
LensProfileSetup | LensDefaults |
LightSource | Unknown |
LuminanceAdjustmentAqua | 0 |
LuminanceAdjustmentBlue | 0 |
LuminanceAdjustmentGreen | 0 |
LuminanceAdjustmentMagenta | 0 |
LuminanceAdjustmentOrange | 0 |
LuminanceAdjustmentPurple | 0 |
LuminanceAdjustmentRed | 0 |
LuminanceAdjustmentYellow | 0 |
LuminanceNoiseReductionContrast | 0 |
LuminanceNoiseReductionDetail | 63 |
LuminanceSmoothing | 51 |
Make | SONY |
MaxApertureValue | 1.0 |
Megapixels | 0.771 |
MeteringMode | Center-weighted average |
Model | SLT-A77V |
ModifyDate (1) | 2014:06:30 14:51:55+02:00 |
ModifyDate | 2014:06:30 14:51:55 |
Orientation | Horizontal (normal) |
PaintCorrectionActive | true |
PaintCorrectionAmount | 1.000000 |
PaintCorrectionBrightness | 0.000000 |
PaintCorrectionClarity2012 | 0.000000 |
PaintCorrectionContrast2012 | 0.000000 |
PaintCorrectionDefringe | 0.000000 |
PaintCorrectionExposure2012 | 0.000000 |
PaintCorrectionHighlights2012 | 0.000000 |
PaintCorrectionHue | 0.000000 |
PaintCorrectionLuminanceNoise | 0.595240 |
PaintCorrectionMaskCenterWeight | 0.317924 |
PaintCorrectionMaskFlow | 1.000000 |
PaintCorrectionMaskRadius | 0.040476 |
PaintCorrectionMaskValue | 0.779000 |
PaintCorrectionMaskWhat | Mask/Paint |
PaintCorrectionMoire | 0.166670 |
PaintCorrectionSaturation | 0.000000 |
PaintCorrectionShadows2012 | 0.000000 |
PaintCorrectionSharpness | 0.119050 |
PaintCorrectionTemperature | 0.000000 |
PaintCorrectionTint | 0.000000 |
PaintCorrectionWhat | Correction |
ParametricDarks | 0 |
ParametricHighlights | 0 |
ParametricHighlightSplit | 75 |
ParametricLights | 0 |
ParametricMidtoneSplit | 50 |
ParametricShadows | -26 |
ParametricShadowSplit | 25 |
PerspectiveAspect | 0 |
PerspectiveHorizontal | 0 |
PerspectiveRotate | 0.0 |
PerspectiveScale | 100 |
PerspectiveUpright | 1 |
PerspectiveVertical | 0 |
PhotometricInterpretation | RGB |
PostCropVignetteAmount | 0 |
ProcessVersion | 6.7 |
ProfileDescription | sRGB IEC61966-2.1 |
RecommendedExposureIndex | 100 |
RedHue | 0 |
RedSaturation | 0 |
SamplesPerPixel | 3 |
Saturation (1) | 0 |
Saturation | Normal |
SaturationAdjustmentAqua | 0 |
SaturationAdjustmentBlue | 0 |
SaturationAdjustmentGreen | 0 |
SaturationAdjustmentMagenta | 0 |
SaturationAdjustmentOrange | 0 |
SaturationAdjustmentPurple | 0 |
SaturationAdjustmentRed | 0 |
SaturationAdjustmentYellow | 0 |
ScaleFactor35efl | 8.8 |
SceneCaptureType | Standard |
SceneType | Directly photographed |
SensitivityType | Recommended Exposure Index |
Shadows2012 | +26 |
ShadowTint | 0 |
SharpenDetail | 39 |
SharpenEdgeMasking | 36 |
SharpenRadius | +1.3 |
Sharpness (1) | 62 |
Sharpness | Normal |
ShutterSpeed | 1/200 |
ShutterSpeedValue | 1/200 |
Software | Adobe Photoshop Elements 12.0 Windows |
SplitToningBalance | 0 |
SplitToningHighlightHue | 0 |
SplitToningHighlightSaturation | 0 |
SplitToningShadowHue | 0 |
SplitToningShadowSaturation | 0 |
Tint | -4 |
ToneCurve | 0, 0, 255, 255 |
ToneCurveBlue | 0, 0, 255, 255 |
ToneCurveGreen | 0, 0, 255, 255 |
ToneCurveName | Linear |
ToneCurveName2012 | Linear |
ToneCurvePV2012 | 0, 0, 255, 255 |
ToneCurvePV2012Blue | 0, 0, 255, 255 |
ToneCurvePV2012Green | 0, 0, 255, 255 |
ToneCurvePV2012Red | 0, 0, 255, 255 |
ToneCurveRed | 0, 0, 255, 255 |
URL_List | |
Version | 8.5 |
Vibrance | 0 |
VignetteAmount | 0 |
WhiteBalance (1) | As Shot |
WhiteBalance | Auto |
Whites2012 | -60 |